Workbook
Name DEX: [1]主要情况!$G$10
Name STR: [1]主要情况!$G$8
Name 阿兰寇拉: [2]数据表!#REF!
Name 阿兰寇拉: [2]数据表!#REF!
Name 阿兰寇拉: [3]数据表!#REF!
Name 阿兰寇拉: 数据表!#REF!
Name 阿斯莫: [2]数据表!#REF!
Name 阿斯莫: [2]数据表!#REF!
Name 阿斯莫: [3]数据表!#REF!
Name 阿斯莫: 数据表!#REF!
Name 矮人: [2]数据表!#REF!
Name 矮人: [2]数据表!#REF!
Name 矮人: [3]数据表!#REF!
Name 矮人: 数据表!#REF!
Name 斑猫人: [2]数据表!#REF!
Name 斑猫人: [2]数据表!#REF!
Name 斑猫人: [3]数据表!#REF!
Name 斑猫人: 数据表!#REF!
Name 半精灵: [2]数据表!#REF!
Name 半精灵: [2]数据表!#REF!
Name 半精灵: [3]数据表!#REF!
Name 半精灵: 数据表!#REF!
Name 半人马: [2]数据表!#REF!
Name 半人马: [2]数据表!#REF!
Name 半人马: [3]数据表!#REF!
Name 半人马: 数据表!#REF!
Name 半身人: [2]数据表!#REF!
Name 半身人: [2]数据表!#REF!
Name 半身人: [3]数据表!#REF!
Name 半身人: 数据表!#REF!
Name 半兽人: [2]数据表!#REF!
Name 半兽人: [2]数据表!#REF!
Name 半兽人: [3]数据表!#REF!
Name 半兽人: 数据表!#REF!
Name 匕首: 装备!$O$5
Name 匕首伤害: [2]装备!#REF!
Name 匕首伤害: [2]装备!#REF!
Name 匕首伤害: [3]装备!#REF!
Name 匕首伤害: 装备!#REF!
Name 鞭: 装备!$O$35
Name 鞭伤害: [2]装备!#REF!
Name 鞭伤害: [2]装备!#REF!
Name 鞭伤害: [3]装备!#REF!
Name 鞭伤害: 装备!#REF!
Name 标枪: 装备!$O$8
Name 标枪伤害: [2]装备!#REF!
Name 标枪伤害: [2]装备!#REF!
Name 标枪伤害: [3]装备!#REF!
Name 标枪伤害: 装备!#REF!
Name 捕网: 装备!$O$40
Name 捕网伤害: [2]装备!#REF!
Name 捕网伤害: [2]装备!#REF!
Name 捕网伤害: [3]装备!#REF!
Name 捕网伤害: 装备!#REF!
Name 吹箭筒: 装备!$O$36
Name 吹箭筒伤害: [2]装备!#REF!
Name 吹箭筒伤害: [2]装备!#REF!
Name 吹箭筒伤害: [3]装备!#REF!
Name 吹箭筒伤害: 装备!#REF!
Name 纯种蛇人: [2]数据表!#REF!

Sheet 背景
A1: 人物背景 Background
B3: 角色名 | O3: 背景获利 | AP3: 背景特性
B4: 玩家 | O4: 语言 | S4: =背景数据!Q2 | AP4: =背景数据!P2
B5: 故乡 | O5: 技能熟练 | S5: =背景数据!S2
B6: 背景 | O6: 工具熟练 | S6: =背景数据!T2
O7: 背景装备 | S7: =背景数据!U2
B8: 年龄 | H8: 身高
B9: 性别 | H9: 体重
B11: 人物形象 | O11: 个性 | AV11: 人物立绘
O13: 理念
O14: 羁绊
O15: 缺陷
O17: 背景故事
B23: 语言
B29: 熟练工具

Sheet 主要
A1: DND 5E 人物卡<悲灵ver.>（2014） | AV1: =".st"& " 力量"&IF($B$13="O","*","")&":"&$F$13& " 敏捷"&IF($B$14="O","*","")&":"&$F$14& " 体质"&IF($B$15="O","*","")&":"&$F$15& " 智力"&IF($B$16="O","*","")&":"&$F$16& " 感知"&IF($B$17="O","*","")&":"&$F$17& " 魅力"&IF($B$18="O","*","")&":"&$F$18& " hp"&":"&R22&" hpmax"&":"&V22& " 先攻"&":"&D22&" ac"&":"&D23&" dc"&":"&D24&" pp"&":"&$L$23&" 熟练"&":"&S3& " 运动"&IF($B$41="O","*",IF($B$41="🅞","*2",IF($H$39="O","*0.5","")))&":"&IF($F$41+$X$11="",0,$F$41+$X$11)& " 特技"&IF($B$43="O","*",IF($B$43="🅞","*2",IF($H$39="O","*0.5","")))&":"&IF($F$43+$X$11="",0,$F$43+$X$11)& " 巧手"&IF($B$44="O","*",IF($B$44="🅞","*2",IF($H$39="O","*0.5","")))&":"&IF($F$44+$X$11="",0,$F$44+$X$11)& " 隐匿"&IF($B$45="O","*",IF($B$45="🅞","*2",IF($H$39="O","*0.5","")))&":"&IF($F$45+$X$11="",0,$F$45+$X$11)& " 调查"&IF($B$47="O","*",IF($B$47="🅞","*2",IF($H$39="O","*0.5","")))&":"&IF($F$47+$X$11="",0,$F$47+$X$11)& " 奥秘"&IF($B$48="O","*",IF($B$48="🅞","*2",IF($H$39="O","*0.5","")))&":"&IF($F$48+$X$11="",0,$F$48+$X$11)& " 历史"&IF($B$49="O","*",IF($B$49="🅞","*2",IF($H$39="O","*0.5","")))&":"&IF($F$49+$X$11="",0,$F$49+$X$11)& " 自然"&IF($B$50="O","*",IF($B$50="🅞","*2",IF($H$39="O","*0.5","")))&":"&IF($F$50+$X$11="",0,$F$50+$X$11)& " 宗教"&IF($B$51="O","*",IF($B$51="🅞","*2",IF($H$39="O","*0.5","")))&":"&IF($F$51+$X$11="",0,$F$51+$X$11)& " 察觉"&IF($B$53="O","*",IF($B$53="🅞","*2",IF($H$39="O","*0.5","")))&":"&IF($F$53+$X$11="",0,$F$53+$X$11)& " 洞悉"&IF($B$54="O","*",IF($B$54="🅞","*2",IF($H$39="O","*0.5","")))&":"&IF($F$54+$X$11="",0,$F$54+$X$11)& " 驯兽"&IF($B$55="O","*",IF($B$55="🅞","*2",IF($H$39="O","*0.5","")))&":"&IF($F$55+$X$11="",0,$F$55+$X$11)& " 医疗"&IF($B$56="O","*",IF($B$56="🅞","*2",IF($H$39="O","*0.5","")))&":"&IF($F$56+$X$11="",0,$F$56+$X$11)& " 求生"&IF($B$57="O","*",IF($B$57="🅞","*2",IF($H$39="O","*0.5","")))&":"&IF($F$57+$X$11="",0,$F$57+$X$11)& " 游说"&IF($B$59="O","*",IF($B$59="🅞","*2",IF($H$39="O","*0.5","")))&":"&IF($F$59+$X$11="",0,$F$59+$X$11)& " 欺瞒"&IF($B$60="O","*",IF($B$60="🅞","*2",IF($H$39="O","*0.5","")))&":"&IF($F$60+$X$11="",0,$F$60+$X$11)& " 威吓"&IF($B$61="O","*",IF($B$61="🅞","*2",IF($H$39="O","*0.5","")))&":"&IF($F$61+$X$11="",0,$F$61+$X$11)& " 表演"&IF($B$62="O","*",IF($B$62="🅞","*2",IF($H$39="O","*0.5","")))&":"&IF($F$62+$X$11="",0,$F$62+$X$11) -> .st 力量:10 敏捷:10 体质:10 智力:10 感知:10 魅力:10 hp:0 hpmax:0 先攻:0 ac:10 dc:10 pp:10 熟练:2 运动:0 特技:0 巧手:0 隐匿:0 调查:0 奥秘:0 历史:0 自然:0 宗教:0 察觉:0 洞悉:0 驯兽:0 医疗:0 求生:0 游说:0 欺瞒:0 威吓:0 表演:0 | AW1: 生命值小工具 | BK1: 生命骰使用期望 | BQ1: 是 | BT1: 种族特性
AX2: 1级 | AZ2: 2级 | BB2: 3级 | BD2: 4级 | BF2: 5级 | BH2: 6级 | BJ2: 7级 | BL2: 8级 | BN2: 9级 | BP2: 10级 | BT2: 名称 | BZ2: 描述
B3: 角色名 | Q3: 熟练 | S3: =IFERROR(VLOOKUP(SUM(O6,O7,O8),数据表!CI47:CJ66,2,FALSE)+W4,"×") -> 2 | W3: 修正 | AW3: 生命值小工具
B4: 玩家 | E4: 悲灵 | V4: < | AX4: 11级 | AZ4: 12级 | BB4: 13级 | BD4: 14级 | BF4: 15级 | BH4: 16级 | BJ4: 17级 | BL4: 18级 | BN4: 19级 | BP4: 20级
E5: 主职 | I5: 子职 | O5: Lv
B6: 主职业 | O6: 1 | R6: 种族 | AX6: 额外调整值 | BB6: 修正 | BF6: 生命总值 | BI6: 仅需填入每级生命骰结果 自动结算等级与体质调整值
B7: 兼职1 | R7: 亚种 | BF7: =IF(BQ1="否",SUM(AX3:BQ3,AX5:BQ5,(R15+AX7)*(O6+O7+O8),BB7),SUM(O6*职业!AF2,O7*职业!AF3,O8*职业!AF4,职业!AF7,(R15+AX7)*(O6+O7+O8),BB7)) -> 0
B8: 兼职2 | R8: 阵营
B9: 经验值 | O9: =IF(E9="","","Lv "&VLOOKUP(E9,数据表!CF20:CG39,2,TRUE)) | R9: 信仰 | BJ9: 职业能力
AW10: Lv | AX10: 名称 | BC10: 描述
B11: 属性 | R11: 全局检定修正
B12: 熟练 | F12: 总值 | I12: 初始值 | K12: 种族 | M12: 成长 | O12: 修正 | R12: 调整值 | T12: 豁免 | W12: 修正
B13: X | C13: 力量 | F13: =I13+K13+M13+O13 -> 10 | H13: < | I13: 10 | Q13: > | R13: =INT(F13/2-5) -> 0 | T13: =INT(F13/2-5)+IF(B13="O",$S$3,0)+W13 -> 0 | V13: <
B14: X | C14: 敏捷 | F14: =I14+K14+M14+O14 -> 10 | H14: < | I14: 10 | Q14: > | R14: =INT(F14/2-5) -> 0 | T14: =INT(F14/2-5)+IF(B14="O",$S$3,0)+W14 -> 0 | V14: <
B15: X | C15: 体质 | F15: =I15+K15+M15+O15 -> 10 | H15: < | I15: 10 | Q15: > | R15: =INT(F15/2-5) -> 0 | T15: =INT(F15/2-5)+IF(B15="O",$S$3,0)+W15 -> 0 | V15: <
B16: X | C16: 智力 | F16: =I16+K16+M16+O16 -> 10 | H16: < | I16: 10 | Q16: > | R16: =INT(F16/2-5) -> 0 | T16: =INT(F16/2-5)+IF(B16="O",$S$3,0)+W16 -> 0 | V16: <
B17: X | C17: 感知 | F17: =I17+K17+M17+O17 -> 10 | H17: < | I17: 10 | Q17: > | R17: =INT(F17/2-5) -> 0 | T17: =INT(F17/2-5)+IF(B17="O",$S$3,0)+W17 -> 0 | V17: < | BT17: 专长
B18: X | C18: 魅力 | F18: =I18+K18+M18+O18 -> 10 | H18: < | I18: 10 | Q18: > | R18: =INT(F18/2-5) -> 0 | T18: =INT(F18/2-5)+IF(B18="O",$S$3,0)+W18 -> 0 | V18: < | BT18: Lv | BU18: 名称 | BZ18: 描述
BT19: 4
B20: 战斗 | R20: 持有英雄激励 | X20: 否 | BT20: 8
G21: 修正 | S21: Now | V21: Max | AA21: 画像 | BT21: 12
B22: 先攻 | D22: =SUM(R14+G22) -> 0 | F22: < | P22: HP | R22: =V22 -> 0 | U22: / | V22: =BF7 -> 0 | AA22: 抗性 | AO22: 黑视 | BT22: 16
B23: AC | D23: =SUM(AF40,AI40,G23,+IF(AS40="是",AQ40,0)) -> 10 | F23: < | J23: 被察 | L23: =SUM(10+I53) -> 10 | P23: HD | R23: =U23 -> 1 | T23: / | U23: =O6+O7+O8 -> 1 | W23: =IF(E7="",IF(E8="",IFERROR(VLOOKUP(E6,职业!AC2:AD14,2,0),""),""),"") | AA23: 免疫 | AO23: 体型 | AR23: 中型 | BT23: 19
B24: DC | D24: =SUM(8+S3+G24+IF(L24="力量",R13,IF(L24="敏捷",R14,IF(L24="体质",R15,IF(L24="智力",R16,IF(L24="感知",R17,IF(L24="魅力",R18,0))))))) -> 10 | F24: < | I24: < | J24: 属性 | L24: 魅力 | P24: 临时生命 | AA24: 优势 | AO24: 速度 | AR24: 30 | BT24: 6
B25: 名称 | F25: 描述 | J25: Now | M25: Max | O25: 回复 | Q25: 名称 | U25: 描述 | Y25: Now | AB25: Max | AD25: 回复 | AF25: 名称 | AJ25: 描述 | AN25: Now | AQ25: Max | AS25: 回复 | BT25: 10
B26: 特殊能力 | L26: / | Q26: 特殊能力 | AA26: / | AF26: 特殊能力 | AP26: /
B27: 特殊能力 | L27: / | Q27: 特殊能力 | AA27: / | AF27: 特殊能力 | AP27: /
B28: 特殊能力 | L28: / | Q28: 特殊能力 | AA28: / | AF28: 特殊能力 | AP28: /
B30: 武器 | U30: 攻击属性 | AA30: 默认 | AE30: 弹药 | AK30: 箭矢 | AP30: 数量 | AS30: 0
B31: 武器 | F31: 同调 | H31: 武器名称 | L31: 加值 | N31: 特性 | W31: 熟练 | X31: 攻击骰 | AB31: 伤害骰 | AF31: 类型 | AH31: 额外伤害 | AL31: 类型 | AN31: 额外伤害 | AS31: 类型 | BT31: 特殊能力
G32: > | V32: > | W32: O | X32: D20 | Z32: =装备!Y2 | AB32: =装备!W2 | AD32: =IF(装备!AA2="","",IF(装备!AA2>=0,CONCATENATE("+",装备!AA2),装备!AA2)) | AF32: =装备!X2 | BT32: 名称 | BZ32: 描述
G33: > | V33: > | W33: O | X33: D20 | Z33: =装备!Y3 | AB33: =装备!W3 | AD33: =IF(装备!AA3="","",IF(装备!AA3>=0,CONCATENATE("+",装备!AA3),装备!AA3)) | AF33: =装备!X3
G34: > | V34: > | W34: O | X34: D20 | Z34: =装备!Y4 | AB34: =装备!W4 | AD34: =IF(装备!AA4="","",IF(装备!AA4>=0,CONCATENATE("+",装备!AA4),装备!AA4)) | AF34: =装备!X4
G35: > | V35: > | W35: O | X35: D20 | Z35: =装备!Y5 | AB35: =装备!W5 | AD35: =IF(装备!AA5="","",IF(装备!AA5>=0,CONCATENATE("+",装备!AA5),装备!AA5)) | AF35: =装备!X5
G36: > | V36: > | W36: O | X36: D20 | Z36: =装备!Y6 | AB36: =装备!W6 | AD36: =IF(装备!AA6="","",IF(装备!AA6>=0,CONCATENATE("+",装备!AA6),装备!AA6)) | AF36: =装备!X6
B38: 技能 | L38: 装备 | AM38: 已同调的装备 | AS38: =SUM(数据表!CI23:CI39) -> 0
B39: 万事通 | H39: X | L39: 护甲 | P39: 同调 | R39: 名称 | U39: 加值 | V39: 特性 | AF39: AC | AH39: 敏捷加值 | AL39: 盾牌 | AP39: 同调 | AQ39: AC | AS39: 着装 | BT39: 寻获魔宠速查
B40: 熟练 | D40: 力量 | F40: 修正 | I40: 总值 | AE40: > | AF40: =装备!Z21+U40 -> 10 | AH40: + | AI40: =装备!AA21 -> 0 | AQ40: 2 | AS40: 否 | BT40: 名字 | BX40: 魔宠类型 | CD40: AC | CF40: HP | CK40: HD | CN40: 先攻
B41: X | C41: 运动 | H41: > | I41: =R13+F41+IF(B41="O",$S$3,(IF(B41="🅞",$S$3*2,IF($H$39="是",INT($S$3/2),0))))+X11 -> 0 | L41: 奇物 | P41: 同调 | R41: 稀有度 | U41: 部位 | W41: 特性 | CC41: > | CD41: =IFERROR(VLOOKUP($BX$41,魔宠!$A$3:$AD$21,5,FALSE),"") | CH41: / | CI41: =IFERROR(VLOOKUP($BX$41,魔宠!$A$3:$AD$21,6,FALSE),"") | CK41: =IFERROR(VLOOKUP($BX$41,魔宠!$A$3:$AD$21,7,FALSE),"") | CM41: > | CN41: =IFERROR(VLOOKUP($BX$41,魔宠!$A$3:$AD$21,8,FALSE),"")
B42: 敏捷 | Q42: > | BT42: 体型 | BW42: 种类 | BZ42: 阵营 | CD42: 速度
...

Sheet 数据表
B1: 法术书 | C1: 专注 | D1: 仪式 | E1: 准备栏 | I1: 仪 | J1: 专 | K1: {=IFERROR(INDEX($H$1:$H$59,SMALL(IF($H$2:$H$59<>"",ROW($H$2:$H$59),4^8),ROW(1:1)))&"","")} | N1: 1 | O1: 2 | P1: 3 | Q1: 4 | R1: 5 | S1: 6 | T1: 7 | U1: 8 | V1: 9 | W1: 10 | X1: 11 | Y1: 12 | Z1: 13 | AA1: 14 | AB1: 15 | AC1: 16 | AD1: 17 | AE1: 18 | AF1: 19 | AG1: 20 | AH1: 等级 | CH1: 戏法 | CI1: 0 | CL1: 物品效果 | CM1: 物品名称 | CN1: 算盘 | CO1: - | CP1: 2gp | CQ1: 2 | CR1: 物品重量 | CT1: 语言
A2: 1 | B2: =IF(法术书!X3="","",法术书!X3) | C2: =IFERROR(VLOOKUP(B2,法术大全!$A:$W,5,FALSE),"") | D2: =IFERROR(VLOOKUP(B2,法术大全!$A:$W,4,FALSE),"") | E2: 1 | F2: =B2 | H2: =IF(主要!Q66<>"",主要!Q66,"") | I2: =IF(VLOOKUP(H2,法术大全!$A$3:$E$574,4,0)="√",1,0) -> 0 | J2: =IF(VLOOKUP(H2,法术大全!$A$3:$E$574,5,0)="√",1,0) -> 0 | K2: {=IFERROR(INDEX($H$1:$H$59,SMALL(IF($H$2:$H$59<>"",ROW($H$2:$H$59),4^8),ROW(2:2)))&"","")} | M2: 吟游诗人 | N2: 4 | O2: 5 | P2: 6 | Q2: 7 | R2: 8 | S2: 9 | T2: 10 | U2: 11 | V2: 12 | W2: 14 | X2: 15 | Y2: 15 | Z2: 16 | AA2: 18 | AB2: 19 | AC2: 19 | AD2: 20 | AE2: 22 | AF2: 22 | AG2: 22 | AH2: =职业!AI3 -> 0 | AJ2: 笔记 | BN2: 笔记 | CH2: 1环 | CI2: 1 | CL2: =IF(ISBLANK(背包!B5),,INDEX(CO1:CQ149,MATCH(背包!B5&"*",CN1:CN149,0),1)) -> 0 | CM2: =IF(ISBLANK(背包!B5),,INDEX(CN1:CQ149,MATCH(背包!B5&"*",CN1:CN149,0),1)) -> 0 | CN2: 强酸_小瓶 | CO2: 你可以用一个动作将这小瓶液体泼溅到你身边 5尺内的一个生物身上，或是将小瓶投到至多 20 尺远的地方，并利用冲击打破它。两种情况都可以视为对一个生物或物件发动一次远程攻击，并将强酸视为一件临时武器。命中时，目标受到 2d6点强酸伤害。 | CP2: 25gp | CQ2: 1 | CR2: =VLOOKUP(CM2,CN1:CQ147,4,0) -> 0 | CT2: —标准语言—
A3: 2 | B3: =IF(法术书!X4="","",法术书!X4) | C3: =IFERROR(VLOOKUP(B3,法术大全!$A:$W,5,FALSE),"") | D3: =IFERROR(VLOOKUP(B3,法术大全!$A:$W,4,FALSE),"") | E3: 2 | F3: =B3 | H3: =IF(主要!Q67<>"",主要!Q67,"") | I3: =IF(VLOOKUP(H3,法术大全!$A$3:$E$574,4,0)="√",1,0) -> 0 | J3: =IF(VLOOKUP(H3,法术大全!$A$3:$E$574,5,0)="√",1,0) -> 0 | K3: {=IFERROR(INDEX($H$1:$H$59,SMALL(IF($H$2:$H$59<>"",ROW($H$2:$H$59),4^8),ROW(3:3)))&"","")} | M3: 牧师 | N3: =职业!$AI$4+主要!$R$17 -> 0 | O3: =职业!$AI$4+主要!$R$17 -> 0 | P3: =职业!$AI$4+主要!$R$17 -> 0 | Q3: =职业!$AI$4+主要!$R$17 -> 0 | R3: =职业!$AI$4+主要!$R$17 -> 0 | S3: =职业!$AI$4+主要!$R$17 -> 0 | T3: =职业!$AI$4+主要!$R$17 -> 0 | U3: =职业!$AI$4+主要!$R$17 -> 0 | ... AG3: =职业!$AI$4+主要!$R$17 -> 0 | AH3: =职业!AI4 -> 0 | CH3: 2环 | CI3: 2 | CL3: =IF(ISBLANK(背包!B6),,INDEX(CO1:CQ149,MATCH(背包!B6&"*",CN1:CN149,0),1)) -> 0 | CM3: =IF(ISBLANK(背包!B6),,INDEX(CN1:CQ149,MATCH(背包!B6&"*",CN1:CN149,0),1)) -> 0 | CN3: 炽火胶_扁瓶 | CO3: 一种粘稠的流体，其一旦接触空气就会引起自燃。你可以用一个动作将这小瓶液体投到至多20尺远的地方，并利用冲击打破它。这个动作视为对一个生物或物件发动一次远程攻击，并将炽火胶视为一件临时武器。命中时，目标在它每回合开始时受到1d4点火焰伤害。被命中生物可以使用动作进行一次DC10的敏捷检定，以扑灭火焰来结束该伤害效应。 | CP3: 50gp | CQ3: 1 | CR3: =VLOOKUP(CM3,CN1:CQ147,4,0) -> 0 | CT3: 通用语
A4: 3 | B4: =IF(法术书!X5="","",法术书!X5) | C4: =IFERROR(VLOOKUP(B4,法术大全!$A:$W,5,FALSE),"") | D4: =IFERROR(VLOOKUP(B4,法术大全!$A:$W,4,FALSE),"") | E4: 3 | F4: =B4 | H4: =IF(主要!Q68<>"",主要!Q68,"") | I4: =IF(VLOOKUP(H4,法术大全!$A$3:$E$574,4,0)="√",1,0) -> 0 | J4: =IF(VLOOKUP(H4,法术大全!$A$3:$E$574,5,0)="√",1,0) -> 0 | K4: {=IFERROR(INDEX($H$1:$H$59,SMALL(IF($H$2:$H$59<>"",ROW($H$2:$H$59),4^8),ROW(4:4)))&"","")} | M4: 德鲁伊 | N4: =职业!$AI$5+主要!$R$17 -> 0 | O4: =职业!$AI$5+主要!$R$17 -> 0 | P4: =职业!$AI$5+主要!$R$17 -> 0 | Q4: =职业!$AI$5+主要!$R$17 -> 0 | R4: =职业!$AI$5+主要!$R$17 -> 0 | S4: =职业!$AI$5+主要!$R$17 -> 0 | T4: =职业!$AI$5+主要!$R$17 -> 0 | U4: =职业!$AI$5+主要!$R$17 -> 0 | ... AG4: =职业!$AI$5+主要!$R$17 -> 0 | AH4: =职业!AI5 -> 0 | CH4: 3环 | CI4: 3 | CL4: =IF(ISBLANK(背包!B7),,INDEX(CO1:CQ149,MATCH(背包!B7&"*",CN1:CN149,0),1)) -> 0 | CM4: =IF(ISBLANK(背包!B7),,INDEX(CN1:CQ149,MATCH(背包!B7&"*",CN1:CN149,0),1)) -> 0 | CN4: 箭 | CO4: - | CP4: 1gp | CQ4: 0.05 | CR4: =VLOOKUP(CM4,CN1:CQ147,4,0) -> 0 | CT4: 通用手语
A5: 4 | B5: =IF(法术书!X6="","",法术书!X6) | C5: =IFERROR(VLOOKUP(B5,法术大全!$A:$W,5,FALSE),"") | D5: =IFERROR(VLOOKUP(B5,法术大全!$A:$W,4,FALSE),"") | E5: 4 | F5: =B5 | H5: =IF(主要!Q69<>"",主要!Q69,"") | I5: =IF(VLOOKUP(H5,法术大全!$A$3:$E$574,4,0)="√",1,0) -> 0 | J5: =IF(VLOOKUP(H5,法术大全!$A$3:$E$574,5,0)="√",1,0) -> 0 | K5: {=IFERROR(INDEX($H$1:$H$59,SMALL(IF($H$2:$H$59<>"",ROW($H$2:$H$59),4^8),ROW(5:5)))&"","")} | M5: 圣武士 | N5: =ROUNDDOWN(职业!$AI$8/2,0)+主要!$R$18 -> 0 | O5: =ROUNDDOWN(职业!$AI$8/2,0)+主要!$R$18 -> 0 | P5: =ROUNDDOWN(职业!$AI$8/2,0)+主要!$R$18 -> 0 | Q5: =ROUNDDOWN(职业!$AI$8/2,0)+主要!$R$18 -> 0 | R5: =ROUNDDOWN(职业!$AI$8/2,0)+主要!$R$18 -> 0 | S5: =ROUNDDOWN(职业!$AI$8/2,0)+主要!$R$18 -> 0 | T5: =ROUNDDOWN(职业!$AI$8/2,0)+主要!$R$18 -> 0 | U5: =ROUNDDOWN(职业!$AI$8/2,0)+主要!$R$18 -> 0 | ... AG5: =ROUNDDOWN(职业!$AI$8/2,0)+主要!$R$18 -> 0 | AH5: =职业!AI8 -> 0 | CF5: V 言语 | CH5: 4环 | CI5: 4 | CL5: =IF(ISBLANK(背包!B8),,INDEX(CO1:CQ149,MATCH(背包!B8&"*",CN1:CN149,0),1)) -> 0 | CM5: =IF(ISBLANK(背包!B8),,INDEX(CN1:CQ149,MATCH(背包!B8&"*",CN1:CN149,0),1)) -> 0 | CN5: 吹矢 | CO5: - | CP5: 1gp | CQ5: 0.02 | CR5: =VLOOKUP(CM5,CN1:CQ147,4,0) -> 0 | CT5: 龙语
A6: 5 | B6: =IF(法术书!X7="","",法术书!X7) | C6: =IFERROR(VLOOKUP(B6,法术大全!$A:$W,5,FALSE),"") | D6: =IFERROR(VLOOKUP(B6,法术大全!$A:$W,4,FALSE),"") | E6: 5 | F6: =B6 | H6: =IF(主要!Q70<>"",主要!Q70,"") | I6: =IF(VLOOKUP(H6,法术大全!$A$3:$E$574,4,0)="√",1,0) -> 0 | J6: =IF(VLOOKUP(H6,法术大全!$A$3:$E$574,5,0)="√",1,0) -> 0 | K6: {=IFERROR(INDEX($H$1:$H$59,SMALL(IF($H$2:$H$59<>"",ROW($H$2:$H$59),4^8),ROW(6:6)))&"","")} | M6: 游侠 | N6: 0 | O6: 2 | P6: 3 | Q6: 3 | R6: 4 | S6: 4 | T6: 5 | U6: 5 | V6: 6 | W6: 6 | X6: 7 | Y6: 7 | Z6: 8 | AA6: 8 | AB6: 9 | AC6: 9 | AD6: 10 | AE6: 10 | AF6: 11 | AG6: 11 | AH6: =职业!AI9 -> 0 | CF6: S 姿势 | CH6: 5环 | CI6: 5 | CL6: =IF(ISBLANK(背包!B9),,INDEX(CO1:CQ149,MATCH(背包!B9&"*",CN1:CN149,0),1)) -> 0 | CM6: =IF(ISBLANK(背包!B9),,INDEX(CN1:CQ149,MATCH(背包!B9&"*",CN1:CN149,0),1)) -> 0 | CN6: 弩矢 | CO6: - | CP6: 1gp | CQ6: 0.075 | CR6: =VLOOKUP(CM6,CN1:CQ147,4,0) -> 0 | CT6: 矮人语
A7: 6 | B7: =IF(法术书!X8="","",法术书!X8) | C7: =IFERROR(VLOOKUP(B7,法术大全!$A:$W,5,FALSE),"") | D7: =IFERROR(VLOOKUP(B7,法术大全!$A:$W,4,FALSE),"") | E7: 6 | F7: =B7 | H7: =IF(主要!Q71<>"",主要!Q71,"") | I7: =IF(VLOOKUP(H7,法术大全!$A$3:$E$574,4,0)="√",1,0) -> 0 | J7: =IF(VLOOKUP(H7,法术大全!$A$3:$E$574,5,0)="√",1,0) -> 0 | K7: {=IFERROR(INDEX($H$1:$H$59,SMALL(IF($H$2:$H$59<>"",ROW($H$2:$H$59),4^8),ROW(7:7)))&"","")} | M7: 术士 | N7: 2 | O7: 3 | P7: 4 | Q7: 5 | R7: 6 | S7: 7 | T7: 8 | U7: 9 | V7: 10 | W7: 11 | X7: 12 | Y7: 12 | Z7: 13 | AA7: 13 | AB7: 14 | AC7: 14 | AD7: 15 | AE7: 15 | AF7: 15 | AG7: 15 | AH7: =职业!AI11 -> 0 | CF7: M 材料 | CH7: 6环 | CI7: 6 | CL7: =IF(ISBLANK(背包!B10),,INDEX(CO1:CQ149,MATCH(背包!B10&"*",CN1:CN149,0),1)) -> 0 | CM7: =IF(ISBLANK(背包!B10),,INDEX(CN1:CQ149,MATCH(背包!B10&"*",CN1:CN149,0),1)) -> 0 | CN7: 投石索弹丸 | CO7: - | CP7: 0.04gp | CQ7: 0.075 | CR7: =VLOOKUP(CM7,CN1:CQ147,4,0) -> 0 | CT7: 精灵语
A8: 7 | B8: =IF(法术书!X9="","",法术书!X9) | C8: =IFERROR(VLOOKUP(B8,法术大全!$A:$W,5,FALSE),"") | D8: =IFERROR(VLOOKUP(B8,法术大全!$A:$W,4,FALSE),"") | E8: 7 | F8: =B8 | H8: =IF(主要!Q72<>"",主要!Q72,"") | I8: =IF(VLOOKUP(H8,法术大全!$A$3:$E$574,4,0)="√",1,0) -> 0 | J8: =IF(VLOOKUP(H8,法术大全!$A$3:$E$574,5,0)="√",1,0) -> 0 | K8: {=IFERROR(INDEX($H$1:$H$59,SMALL(IF($H$2:$H$59<>"",ROW($H$2:$H$59),4^8),ROW(8:8)))&"","")} | M8: 邪术师 | N8: 2 | O8: 3 | P8: 4 | Q8: 5 | R8: 6 | S8: 7 | T8: 8 | U8: 9 | V8: 10 | W8: 10 | X8: 11 | Y8: 11 | Z8: 12 | AA8: 12 | AB8: 13 | AC8: 13 | AD8: 14 | AE8: 14 | AF8: 15 | AG8: 15 | AH8: =职业!AI12 -> 0 | CH8: 7环 | CI8: 7 | CL8: =IF(ISBLANK(背包!B11),,INDEX(CO1:CQ149,MATCH(背包!B11&"*",CN1:CN149,0),1)) -> 0 | CM8: =IF(ISBLANK(背包!B11),,INDEX(CN1:CQ149,MATCH(背包!B11&"*",CN1:CN149,0),1)) -> 0 | CN8: 子弹 | CO8: 采用复兴时期物品数据，如需使用现代弹药请自行填写。 | CP8: 3gp | CQ8: 0.2 | CR8: =VLOOKUP(CM8,CN1:CQ147,4,0) -> 0 | CT8: 巨人语
A9: 8 | B9: =IF(法术书!X10="","",法术书!X10) | C9: =IFERROR(VLOOKUP(B9,法术大全!$A:$W,5,FALSE),"") | D9: =IFERROR(VLOOKUP(B9,法术大全!$A:$W,4,FALSE),"") | E9: 8 | F9: =B9 | H9: =IF(主要!Q77<>"",主要!Q77,"") | I9: =IF(VLOOKUP(H9,法术大全!$A$3:$E$574,4,0)="√",1,0) -> 0 | J9: =IF(VLOOKUP(H9,法术大全!$A$3:$E$574,5,0)="√",1,0) -> 0 | K9: {=IFERROR(INDEX($H$1:$H$59,SMALL(IF($H$2:$H$59<>"",ROW($H$2:$H$59),4^8),ROW(9:9)))&"","")} | M9: 法师 | N9: =职业!$AI$13+主要!$R$16 -> 0 | O9: =职业!$AI$13+主要!$R$16 -> 0 | P9: =职业!$AI$13+主要!$R$16 -> 0 | Q9: =职业!$AI$13+主要!$R$16 -> 0 | R9: =职业!$AI$13+主要!$R$16 -> 0 | S9: =职业!$AI$13+主要!$R$16 -> 0 | T9: =职业!$AI$13+主要!$R$16 -> 0 | U9: =职业!$AI$13+主要!$R$16 -> 0 | ... AG9: =职业!$AI$13+主要!$R$16 -> 0 | AH9: =职业!AI13 -> 0 | CE9: 主职业 | CF9: 牧师 | CG9: =主要!R17+IF(主要!B70="主职业",主要!O6,IF(主要!B70="兼职1",主要!O7,IF(主要!B70="兼职2",主要!O8,))) -> 0 | CH9: 8环 | CI9: 8 | CL9: =IF(ISBLANK(背包!B12),,INDEX(CO1:CQ149,MATCH(背包!B12&"*",CN1:CN149,0),1)) -> 0 | CM9: =IF(ISBLANK(背包!B12),,INDEX(CN1:CQ149,MATCH(背包!B12&"*",CN1:CN149,0),1)) -> 0 | CN9: 抗毒剂_小瓶 | CO9: 喝下瓶内液体的生物在1小时内进行对抗对毒素的豁免检定时具有优势。它无法为不死生物或构装生物提供任何增益。 | CP9: 50gp | CQ9: 0 | CR9: =VLOOKUP(CM9,CN1:CQ147,4,0) -> 0 | CT9: 侏儒语
A10: 9 | B10: =IF(法术书!X11="","",法术书!X11) | C10: =IFERROR(VLOOKUP(B10,法术大全!$A:$W,5,FALSE),"") | D10: =IFERROR(VLOOKUP(B10,法术大全!$A:$W,4,FALSE),"") | E10: 9 | F10: =B10 | H10: =IF(主要!Q78<>"",主要!Q78,"") | I10: =IF(VLOOKUP(H10,法术大全!$A$3:$E$574,4,0)="√",1,0) -> 0 | J10: =IF(VLOOKUP(H10,法术大全!$A$3:$E$574,5,0)="√",1,0) -> 0 | K10: {=IFERROR(INDEX($H$1:$H$59,SMALL(IF($H$2:$H$59<>"",ROW($H$2:$H$59),4^8),ROW(10:10)))&"","")} | M10: 奇械师 | N10: =ROUNDDOWN(职业!$AI$14/2,0)+主要!$R$16 -> 0 | O10: =ROUNDDOWN(职业!$AI$14/2,0)+主要!$R$16 -> 0 | P10: =ROUNDDOWN(职业!$AI$14/2,0)+主要!$R$16 -> 0 | Q10: =ROUNDDOWN(职业!$AI$14/2,0)+主要!$R$16 -> 0 | R10: =ROUNDDOWN(职业!$AI$14/2,0)+主要!$R$16 -> 0 | S10: =ROUNDDOWN(职业!$AI$14/2,0)+主要!$R$16 -> 0 | T10: =ROUNDDOWN(职业!$AI$14/2,0)+主要!$R$16 -> 0 | U10: =ROUNDDOWN(职业!$AI$14/2,0)+主要!$R$16 -> 0 | ... AG10: =ROUNDDOWN(职业!$AI$14/2,0)+主要!$R$16 -> 0 | AH10: =职业!AI14 -> 0 | CE10: 兼职1 | CF10: 圣武士 | CG10: =主要!R18+IF(主要!B70="主职业",INT(主要!O6/2),IF(主要!B70="兼职1",INT(主要!O7/2),IF(主要!B70="兼职2",INT(主要!O8/2),))) -> 0 | CH10: 9环 | CI10: 9 | CL10: =IF(ISBLANK(背包!B13),,INDEX(CO1:CQ149,MATCH(背包!B13&"*",CN1:CN149,0),1)) -> 0 | CM10: =IF(ISBLANK(背包!B13),,INDEX(CN1:CQ149,MATCH(背包!B13&"*",CN1:CN149,0),1)) -> 0 | CN10: 水晶 | CO10: 奥术法器是一件用来引导奥术法术的特殊物品，它可以是一枚法球、一块水晶、一只权杖、一根特制法杖、一根魔杖般的长木条或是其它类似的物品。术士、邪术师或法师能将这样的物品用作施法法器。 | CP10: 10gp | CQ10: 1 | CR10: =VLOOKUP(CM10,CN1:CQ147,4,0) -> 0 | CT10: 地精语
A11: 10 | B11: =IF(法术书!X12="","",法术书!X12) | C11: =IFERROR(VLOOKUP(B11,法术大全!$A:$W,5,FALSE),"") | D11: =IFERROR(VLOOKUP(B11,法术大全!$A:$W,4,FALSE),"") | E11: 10 | F11: =B11 | H11: =IF(主要!Q79<>"",主要!Q79,"") | I11: =IF(VLOOKUP(H11,法术大全!$A$3:$E$574,4,0)="√",1,0) -> 0 | J11: =IF(VLOOKUP(H11,法术大全!$A$3:$E$574,5,0)="√",1,0) -> 0 | K11: {=IFERROR(INDEX($H$1:$H$59,SMALL(IF($H$2:$H$59<>"",ROW($H$2:$H$59),4^8),ROW(11:11)))&"","")} | M11: 奥法骑士 | N11: 0 | O11: 0 | P11: 3 | Q11: 4 | R11: 4 | S11: 4 | T11: 5 | U11: 6 | V11: 6 | W11: 7 | X11: 8 | Y11: 8 | Z11: 9 | AA11: 10 | AB11: 10 | AC11: 11 | AD11: 11 | AE11: 11 | AF11: 12 | AG11: 13 | AH11: =职业!AL6 -> 0 | CE11: 兼职2 | CF11: 德鲁伊 | CG11: =主要!R17+IF(主要!B70="主职业",主要!O6,IF(主要!B70="兼职1",主要!O7,IF(主要!B70="兼职2",主要!O8,))) -> 0 | CL11: =IF(ISBLANK(背包!B14),,INDEX(CO1:CQ149,MATCH(背包!B14&"*",CN1:CN149,0),1)) -> 0 | CM11: =IF(ISBLANK(背包!B14),,INDEX(CN1:CQ149,MATCH(背包!B14&"*",CN1:CN149,0),1)) -> 0 | CN11: 法球 | CO11: 奥术法器是一件用来引导奥术法术的特殊物品，它可以是一枚法球、一块水晶、一只权杖、一根特制法杖、一根魔杖般的长木条或是其它类似的物品。术士、邪术师或法师能将这样的物品用作施法法器。 | CP11: 20gp | CQ11: 3 | CR11: =VLOOKUP(CM11,CN1:CQ147,4,0) -> 0 | CT11: 半身人语
A12: 11 | B12: =IF(法术书!X13="","",法术书!X13) | C12: =IFERROR(VLOOKUP(B12,法术大全!$A:$W,5,FALSE),"") | D12: =IFERROR(VLOOKUP(B12,法术大全!$A:$W,4,FALSE),"") | E12: 11 | F12: =B12 | H12: =IF(主要!Q80<>"",主要!Q80,"") | I12: =IF(VLOOKUP(H12,法术大全!$A$3:$E$574,4,0)="√",1,0) -> 0 | J12: =IF(VLOOKUP(H12,法术大全!$A$3:$E$574,5,0)="√",1,0) -> 0 | K12: {=IFERROR(INDEX($H$1:$H$59,SMALL(IF($H$2:$H$59<>"",ROW($H$2:$H$59),4^8),ROW(12:12)))&"","")} | M12: 诡术师 | N12: 0 | O12: 0 | P12: 3 | Q12: 4 | R12: 4 | S12: 4 | T12: 5 | U12: 6 | V12: 6 | W12: 7 | X12: 8 | Y12: 8 | Z12: 9 | AA12: 10 | AB12: 10 | AC12: 11 | AD12: 11 | AE12: 11 | AF12: 12 | AG12: 13 | AH12: =职业!AL7 -> 0 | CF12: 法师 | CG12: =主要!R16+IF(主要!B70="主职业",主要!O6,IF(主要!B70="兼职1",主要!O7,IF(主要!B70="兼职2",主要!O8,))) -> 0 | CN12: 权杖 | CO12: 奥术法器是一件用来引导奥术法术的特殊物品，它可以是一枚法球、一块水晶、一只权杖、一根特制法杖、一根魔杖般的长木条或是其它类似的物品。术士、邪术师或法师能将这样的物品用作施法法器。 | CP12: 10gp | CQ12: 2 | CT12: 兽人语
A13: 12 | B13: =IF(法术书!X14="","",法术书!X14) | C13: =IFERROR(VLOOKUP(B13,法术大全!$A:$W,5,FALSE),"") | D13: =IFERROR(VLOOKUP(B13,法术大全!$A:$W,4,FALSE),"") | E13: 12 | F13: =B13 | H13: =IF(主要!Y77<>"",主要!Y77,"") | I13: =IF(VLOOKUP(H13,法术大全!$A$3:$E$574,4,0)="√",1,0) -> 0 | J13: =IF(VLOOKUP(H13,法术大全!$A$3:$E$574,5,0)="√",1,0) -> 0 | K13: {=IFERROR(INDEX($H$1:$H$59,SMALL(IF($H$2:$H$59<>"",ROW($H$2:$H$59),4^8),ROW(13:13)))&"","")} | CF13: 奇械师 | CG13: =主要!R16+IF(主要!B70="主职业",INT(主要!O6/2),IF(主要!B70="兼职1",INT(主要!O7/2),IF(主要!B70="兼职2",INT(主要!O8/2),))) -> 0 | CL13: =IF(ISBLANK(背包!B16),,INDEX(CO1:CQ149,MATCH(背包!B16&"*",CN1:CN149,0),1)) -> 0 | CM13: =IF(ISBLANK(背包!B16),,INDEX(CN1:CQ149,MATCH(背包!B16&"*",CN1:CN149,0),1)) -> 0 | CN13: 法杖 | CO13: 奥术法器是一件用来引导奥术法术的特殊物品，它可以是一枚法球、一块水晶、一只权杖、一根特制法杖、一根魔杖般的长木条或是其它类似的物品。术士、邪术师或法师能将这样的物品用作施法法器。 | CP13: 5gp | CQ13: 4 | CR13: =VLOOKUP(CM13,CN1:CQ147,4,0) -> 0 | CT13: —稀有语言—
A14: 13 | B14: =IF(法术书!X15="","",法术书!X15) | C14: =IFERROR(VLOOKUP(B14,法术大全!$A:$W,5,FALSE),"") | D14: =IFERROR(VLOOKUP(B14,法术大全!$A:$W,4,FALSE),"") | E14: 13 | F14: =B14 | H14: =IF(主要!Y78<>"",主要!Y78,"") | I14: =IF(VLOOKUP(H14,法术大全!$A$3:$E$574,4,0)="√",1,0) -> 0 | J14: =IF(VLOOKUP(H14,法术大全!$A$3:$E$574,5,0)="√",1,0) -> 0 | K14: {=IFERROR(INDEX($H$1:$H$59,SMALL(IF($H$2:$H$59<>"",ROW($H$2:$H$59),4^8),ROW(14:14)))&"","")} | M14: 主职业 | N14: =IF(主要!E6="","",主要!E6) | O14: 准备法术 | P14: =IFERROR(VLOOKUP(主要!B70,$M$2:$AG$12, IF(VLOOKUP(主要!$B$70,$M$2:$AH$12,22,FALSE)=0,"",VLOOKUP(主要!$B$70,$M$2:$AH$12,22,FALSE)+1), FALSE),"") | CI14: 体型 | CL14: =IF(ISBLANK(背包!B17),,INDEX(CO1:CQ149,MATCH(背包!B17&"*",CN1:CN149,0),1)) -> 0 | CM14: =IF(ISBLANK(背包!B17),,INDEX(CN1:CQ149,MATCH(背包!B17&"*",CN1:CN149,0),1)) -> 0 | CN14: 魔杖 | CO14: 奥术法器是一件用来引导奥术法术的特殊物品，它可以是一枚法球、一块水晶、一只权杖、一根特制法杖、一根魔杖般的长木条或是其它类似的物品。术士、邪术师或法师能将这样的物品用作施法法器。 | CP14: 10gp | CQ14: 1 | CR14: =VLOOKUP(CM14,CN1:CQ147,4,0) -> 0 | CT14: 深渊语
A15: 14 | B15: =IF(法术书!X16="","",法术书!X16) | C15: =IFERROR(VLOOKUP(B15,法术大全!$A:$W,5,FALSE),"") | D15: =IFERROR(VLOOKUP(B15,法术大全!$A:$W,4,FALSE),"") | E15: 14 | F15: =B15 | H15: =IF(主要!Y79<>"",主要!Y79,"") | I15: =IF(VLOOKUP(H15,法术大全!$A$3:$E$574,4,0)="√",1,0) -> 0 | J15: =IF(VLOOKUP(H15,法术大全!$A$3:$E$574,5,0)="√",1,0) -> 0 | K15: {=IFERROR(INDEX($H$1:$H$59,SMALL(IF($H$2:$H$59<>"",ROW($H$2:$H$59),4^8),ROW(15:15)))&"","")} | M15: 兼职1 | N15: =IF(主要!E7="","",主要!E7) | CI15: 微型 | CL15: =IF(ISBLANK(背包!B18),,INDEX(CO1:CQ149,MATCH(背包!B18&"*",CN1:CN149,0),1)) -> 0 | CM15: =IF(ISBLANK(背包!B18),,INDEX(CN1:CQ149,MATCH(背包!B18&"*",CN1:CN149,0),1)) -> 0 | CN15: 背包 | CO15: 一个背包可以容纳1立方尺或30磅重的装备，你还可以将物品系在背包外面，例如一卷铺盖或是一捆绳索。 | CP15: 2gp | CQ15: 5 | CR15: =VLOOKUP(CM15,CN1:CQ147,4,0) -> 0 | CT15: 天界语
A16: 15 | B16: =IF(法术书!X17="","",法术书!X17) | C16: =IFERROR(VLOOKUP(B16,法术大全!$A:$W,5,FALSE),"") | D16: =IFERROR(VLOOKUP(B16,法术大全!$A:$W,4,FALSE),"") | E16: 15 | F16: =B16 | H16: =IF(主要!Y80<>"",主要!Y80,"") | I16: =IF(VLOOKUP(H16,法术大全!$A$3:$E$574,4,0)="√",1,0) -> 0 | J16: =IF(VLOOKUP(H16,法术大全!$A$3:$E$574,5,0)="√",1,0) -> 0 | K16: {=IFERROR(INDEX($H$1:$H$59,SMALL(IF($H$2:$H$59<>"",ROW($H$2:$H$59),4^8),ROW(16:16)))&"","")} | M16: 兼职2 | N16: =IF(主要!E8="","",主要!E8) | CI16: 小型 | CL16: =IF(ISBLANK(背包!B19),,INDEX(CO1:CQ149,MATCH(背包!B19&"*",CN1:CN149,0),1)) -> 0 | CM16: =IF(ISBLANK(背包!B19),,INDEX(CN1:CQ149,MATCH(背包!B19&"*",CN1:CN149,0),1)) -> 0 | CN16: 滚珠_一包1000粒 | CO16: 你可以用一个动作将这些小金属珠从袋子中洒出，并覆盖一片边长10尺的方形区域。穿过这片区域的生物必须进行一次DC10的敏捷豁免，豁免失败则摔至倒地。以半速穿过该区域的生物不需要进行该豁免。 | CP16: 1gp | CQ16: 2 | CR16: =VLOOKUP(CM16,CN1:CQ147,4,0) -> 0 | CT16: 深潜语
A17: 16 | B17: =IF(法术书!X18="","",法术书!X18) | C17: =IFERROR(VLOOKUP(B17,法术大全!$A:$W,5,FALSE),"") | D17: =IFERROR(VLOOKUP(B17,法术大全!$A:$W,4,FALSE),"") | E17: 16 | F17: =B17 | H17: =IF(主要!Q81<>"",主要!Q81,"") | I17: =IF(VLOOKUP(H17,法术大全!$A$3:$E$574,4,0)="√",1,0) -> 0 | J17: =IF(VLOOKUP(H17,法术大全!$A$3:$E$574,5,0)="√",1,0) -> 0 | K17: {=IFERROR(INDEX($H$1:$H$59,SMALL(IF($H$2:$H$59<>"",ROW($H$2:$H$59),4^8),ROW(17:17)))&"","")} | M17: =IFERROR(IF(主要!B70="主职业",VLOOKUP(N14,M1:AG9,主要!O6+1,IF(主要!B70="兼职1",VLOOKUP(N15,M1:AG9,主要!O7+1,IF(主要!B70="兼职2",VLOOKUP(N16,M1:AG9,主要!O8+1,0)))))),"") -> FALSE | CI17: 中型 | CL17: =IF(ISBLANK(背包!B20),,INDEX(CO1:CQ149,MATCH(背包!B20&"*",CN1:CN149,0),1)) -> 0 | CM17: =IF(ISBLANK(背包!B20),,INDEX(CN1:CQ149,MATCH(背包!B20&"*",CN1:CN149,0),1)) -> 0 | CN17: 粗腰桶 | CO17: 一个粗腰桶可以容纳40加仑的液体或4立方尺的固体。 | CP17: 2gp | CQ17: 70 | CR17: =VLOOKUP(CM17,CN1:CQ147,4,0) -> 0 | CT17: 德鲁伊语
A18: 17 | B18: =IF(法术书!X19="","",法术书!X19) | C18: =IFERROR(VLOOKUP(B18,法术大全!$A:$W,5,FALSE),"") | D18: =IFERROR(VLOOKUP(B18,法术大全!$A:$W,4,FALSE),"") | E18: 17 | F18: =B18 | H18: =IF(主要!Y81<>"",主要!Y81,"") | I18: =IF(VLOOKUP(H18,法术大全!$A$3:$E$574,4,0)="√",1,0) -> 0 | J18: =IF(VLOOKUP(H18,法术大全!$A$3:$E$574,5,0)="√",1,0) -> 0 | K18: {=IFERROR(INDEX($H$1:$H$59,SMALL(IF($H$2:$H$59<>"",ROW($H$2:$H$59),4^8),ROW(18:18)))&"","")} | AJ18: 背包 | CF18: 经验值 | CI18: 大型 | CL18: =IF(ISBLANK(背包!B21),,INDEX(CO1:CQ149,MATCH(背包!B21&"*",CN1:CN149,0),1)) -> 0 | CM18: =IF(ISBLANK(背包!B21),,INDEX(CN1:CQ149,MATCH(背包!B21&"*",CN1:CN149,0),1)) -> 0 | CN18: 篮子 | CO18: 篮子可以容纳2立方尺或40磅重的物品。 | CP18: 0.4gp | CQ18: 2 | CR18: =VLOOKUP(CM18,CN1:CQ147,4,0) -> 0 | CT18: 炼狱语
A19: 18 | B19: =IF(法术书!X20="","",法术书!X20) | C19: =IFERROR(VLOOKUP(B19,法术大全!$A:$W,5,FALSE),"") | D19: =IFERROR(VLOOKUP(B19,法术大全!$A:$W,4,FALSE),"") | E19: 18 | F19: =B19 | H19: =IF(主要!AG81<>"",主要!AG81,"") | I19: =IF(VLOOKUP(H19,法术大全!$A$3:$E$574,4,0)="√",1,0) -> 0 | J19: =IF(VLOOKUP(H19,法术大全!$A$3:$E$574,5,0)="√",1,0) -> 0 | K19: {=IFERROR(INDEX($H$1:$H$59,SMALL(IF($H$2:$H$59<>"",ROW($H$2:$H$59),4^8),ROW(19:19)))&"","")} | AJ19: 装备 | AP19: 稀有度 | AS19: 部位 | AU19: 描述 | BL19: 重量 | BP19: 重量 | BT19: 重量 | BY19: 重量 | CF19: Exp | CG19: Lv | CI19: 巨型 | CL19: =IF(ISBLANK(背包!B22),,INDEX(CO1:CQ149,MATCH(背包!B22&"*",CN1:CN149,0),1)) -> 0 | CM19: =IF(ISBLANK(背包!B22),,INDEX(CN1:CQ149,MATCH(背包!B22&"*",CN1:CN149,0),1)) -> 0 | CN19: 铺盖 | CO19: - | CP19: 1gp | CQ19: 7 | CR19: =VLOOKUP(CM19,CN1:CQ147,4,0) -> 0 | CT19: 原初语
A20: 19 | B20: =IF(法术书!X21="","",法术书!X21) | C20: =IFERROR(VLOOKUP(B20,法术大全!$A:$W,5,FALSE),"") | D20: =IFERROR(VLOOKUP(B20,法术大全!$A:$W,4,FALSE),"") | E20: 19 | F20: =B20 | H20: =IF(主要!AO81<>"",主要!AO81,"") | I20: =IF(VLOOKUP(H20,法术大全!$A$3:$E$574,4,0)="√",1,0) -> 0 | J20: =IF(VLOOKUP(H20,法术大全!$A$3:$E$574,5,0)="√",1,0) -> 0 | K20: {=IFERROR(INDEX($H$1:$H$59,SMALL(IF($H$2:$H$59<>"",ROW($H$2:$H$59),4^8),ROW(20:20)))&"","")} | AO20: > | BP20: =IF(主要!AS40="否","",6) | CF20: 0 | CG20: 1 | CI20: 超巨型 | CL20: =IF(ISBLANK(背包!B23),,INDEX(CO1:CQ149,MATCH(背包!B23&"*",CN1:CN149,0),1)) -> 0 | CM20: =IF(ISBLANK(背包!B23),,INDEX(CN1:CQ149,MATCH(背包!B23&"*",CN1:CN149,0),1)) -> 0 | CN20: 铃铛 | CO20: - | CP20: 1gp | CQ20: 0 | CR20: =VLOOKUP(CM20,CN1:CQ147,4,0) -> 0 | CT20: 木族语
A21: 20 | B21: =IF(法术书!X22="","",法术书!X22) | C21: =IFERROR(VLOOKUP(B21,法术大全!$A:$W,5,FALSE),"") | D21: =IFERROR(VLOOKUP(B21,法术大全!$A:$W,4,FALSE),"") | E21: 20 | F21: =B21 | H21: =IF(主要!Q73<>"",主要!Q73,"") | I21: =IF(VLOOKUP(H21,法术大全!$A$3:$E$574,4,0)="√",1,0) -> 0 | J21: =IF(VLOOKUP(H21,法术大全!$A$3:$E$574,5,0)="√",1,0) -> 0 | K21: {=IFERROR(INDEX($H$1:$H$59,SMALL(IF($H$2:$H$59<>"",ROW($H$2:$H$59),4^8),ROW(21:21)))&"","")} | N21: 戏法 | O21: 变化 | P21: 动作 | Q21: 触及 | R21: 立即 | W21: 背包1 | X21: 背包2 | Y21: 次元袋1 | Z21: 次元袋2 | AO21: > | CF21: 300 | CG21: 2 | CL21: =IF(ISBLANK(背包!B24),,INDEX(CO1:CQ149,MATCH(背包!B24&"*",CN1:CN149,0),1)) -> 0 | CM21: =IF(ISBLANK(背包!B24),,INDEX(CN1:CQ149,MATCH(背包!B24&"*",CN1:CN149,0),1)) -> 0 | CN21: 毯子 | CO21: - | CP21: 0.5gp | CQ21: 3 | CR21: =VLOOKUP(CM21,CN1:CQ147,4,0) -> 0 | CT21: 盗贼黑话
A22: 21 | B22: =IF(法术书!X23="","",法术书!X23) | C22: =IFERROR(VLOOKUP(B22,法术大全!$A:$W,5,FALSE),"") | D22: =IFERROR(VLOOKUP(B22,法术大全!$A:$W,4,FALSE),"") | E22: 21 | F22: =B22 | H22: =IF(主要!Y66<>"",主要!Y66,"") | I22: =IF(VLOOKUP(H22,法术大全!$A$3:$E$574,4,0)="√",1,0) -> 0 | J22: =IF(VLOOKUP(H22,法术大全!$A$3:$E$574,5,0)="√",1,0) -> 0 | K22: {=IFERROR(INDEX($H$1:$H$59,SMALL(IF($H$2:$H$59<>"",ROW($H$2:$H$59),4^8),ROW(22:22)))&"","")} | N22: 1 | O22: 塑能 | P22: 附赠动作 | Q22: 自身 | R22: 1轮 | W22: =SUM(背包!S5*背包!V5) -> 0 | X22: =SUM(背包!AP5*背包!AS5) -> 0 | Y22: =SUM(背包!S29*背包!V29) -> 0 | Z22: =SUM(背包!AP29*背包!AS29) -> 0 | AO22: > | CF22: 900 | CG22: 3 | CI22: 装备同调数量 | CL22: =IF(ISBLANK(背包!B25),,INDEX(CO1:CQ149,MATCH(背包!B25&"*",CN1:CN149,0),1)) -> 0 | CM22: =IF(ISBLANK(背包!B25),,INDEX(CN1:CQ149,MATCH(背包!B25&"*",CN1:CN149,0),1)) -> 0 | CN22: 滑轮组 | CO22: 一组滑轮组，其中配有一根绳索绕过轮组中，其上还装着一个系物的钩子。滑轮组可以让你提起相当于你正常举重四倍重量的物件。 | CP22: 5gp | CQ22: 5 | CR22: =VLOOKUP(CM22,CN1:CQ147,4,0) -> 0 | CT22: 地底通用语
A23: 22 | B23: =IF(法术书!X24="","",法术书!X24) | C23: =IFERROR(VLOOKUP(B23,法术大全!$A:$W,5,FALSE),"") | D23: =IFERROR(VLOOKUP(B23,法术大全!$A:$W,4,FALSE),"") | E23: 22 | F23: =B23 | H23: =IF(主要!Y67<>"",主要!Y67,"") | I23: =IF(VLOOKUP(H23,法术大全!$A$3:$E$574,4,0)="√",1,0) -> 0 | J23: =IF(VLOOKUP(H23,法术大全!$A$3:$E$574,5,0)="√",1,0) -> 0 | K23: {=IFERROR(INDEX($H$1:$H$59,SMALL(IF($H$2:$H$59<>"",ROW($H$2:$H$59),4^8),ROW(23:23)))&"","")} | N23: 2 | O23: 防护 | P23: 1分钟 | Q23: 15尺 | R23: 1分钟 | W23: =SUM(背包!S6*背包!V6) -> 0 | X23: =SUM(背包!AP6*背包!AS6) -> 0 | Y23: =SUM(背包!S30*背包!V30) -> 0 | Z23: =SUM(背包!AP30*背包!AS30) -> 0 | AO23: > | CF23: =CF22*CG22 -> 2700 | CG23: 4 | CI23: =IF(主要!P40="O",1,0) -> 0 | CN23: 书 | CO23: 一本书可能写着诗歌、故事或是其他的内容。里面可能有关于某个特定地区的学识信息，也可能有侏儒语记载的机械图和笔记，或者任何其它能够用文字或图形表达的内容。一本载有法术的书则是一本法术书（见后文详述）。 | CP23: 28gp | CQ23: 5
A24: 23 | B24: =IF(法术书!X25="","",法术书!X25) | C24: =IFERROR(VLOOKUP(B24,法术大全!$A:$W,5,FALSE),"") | D24: =IFERROR(VLOOKUP(B24,法术大全!$A:$W,4,FALSE),"") | E24: 23 | F24: =B24 | H24: =IF(主要!Y68<>"",主要!Y68,"") | I24: =IF(VLOOKUP(H24,法术大全!$A$3:$E$574,4,0)="√",1,0) -> 0 | J24: =IF(VLOOKUP(H24,法术大全!$A$3:$E$574,5,0)="√",1,0) -> 0 | K24: {=IFERROR(INDEX($H$1:$H$59,SMALL(IF($H$2:$H$59<>"",ROW($H$2:$H$59),4^8),ROW(24:24)))&"","")} | N24: 3 | O24: 死灵 | P24: 动作或仪式 | Q24: 30尺 | R24: 10分钟 | W24: =SUM(背包!S7*背包!V7) -> 0 | X24: =SUM(背包!AP7*背包!AS7) -> 0 | Y24: =SUM(背包!S31*背包!V31) -> 0 | Z24: =SUM(背包!AP31*背包!AS31) -> 0 | AO24: > | CF24: 6500 | CG24: 5 | CI24: =IF(主要!F32="O",1,0) -> 0 | CN24: 玻璃瓶 | CO24: - | CP24: 2gp | CQ24: 2
A25: 24 | B25: =IF(法术书!X26="","",法术书!X26) | C25: =IFERROR(VLOOKUP(B25,法术大全!$A:$W,5,FALSE),"") | D25: =IFERROR(VLOOKUP(B25,法术大全!$A:$W,4,FALSE),"") | E25: 24 | F25: =B25 | H25: =IF(主要!Y69<>"",主要!Y69,"") | I25: =IF(VLOOKUP(H25,法术大全!$A$3:$E$574,4,0)="√",1,0) -> 0 | J25: =IF(VLOOKUP(H25,法术大全!$A$3:$E$574,5,0)="√",1,0) -> 0 | K25: {=IFERROR(INDEX($H$1:$H$59,SMALL(IF($H$2:$H$59<>"",ROW($H$2:$H$59),4^8),ROW(25:25)))&"","")} | N25: 4 | O25: 预言 | P25: 1分钟或仪式 | Q25: 60尺 | R25: 1小时 | W25: =SUM(背包!S8*背包!V8) -> 0 | X25: =SUM(背包!AP8*背包!AS8) -> 0 | Y25: =SUM(背包!S32*背包!V32) -> 0 | Z25: =SUM(背包!AP32*背包!AS32) -> 0 | AJ25: 消耗品 | AP25: 描述 | BA25: 数量 | CF25: 14000 | CG25: 6 | CI25: =IF(主要!F33="O",1,0) -> 0 | CN25: 水桶 | CO25: 水桶可以容纳3加仑的液体或½立方尺的固体。 | CP25: 0.05gp | CQ25: 2
A26: 25 | B26: =IF(法术书!X27="","",法术书!X27) | C26: =IFERROR(VLOOKUP(B26,法术大全!$A:$W,5,FALSE),"") | D26: =IFERROR(VLOOKUP(B26,法术大全!$A:$W,4,FALSE),"") | E26: 25 | F26: =B26 | H26: =IF(主要!Y70<>"",主要!Y70,"") | I26: =IF(VLOOKUP(H26,法术大全!$A$3:$E$574,4,0)="√",1,0) -> 0 | J26: =IF(VLOOKUP(H26,法术大全!$A$3:$E$574,5,0)="√",1,0) -> 0 | K26: {=IFERROR(INDEX($H$1:$H$59,SMALL(IF($H$2:$H$59<>"",ROW($H$2:$H$59),4^8),ROW(26:26)))&"","")} | N26: 5 | O26: 咒法 | P26: 10分钟 | Q26: 90尺 | R26: 8小时 | W26: =SUM(背包!S9*背包!V9) -> 0 | X26: =SUM(背包!AP9*背包!AS9) -> 0 | Y26: =SUM(背包!S33*背包!V33) -> 0 | Z26: =SUM(背包!AP33*背包!AS33) -> 0 | AO26: > | BC26: / | CF26: 23000 | CG26: 7 | CI26: =IF(主要!F34="O",1,0) -> 0 | CN26: 铁蒺藜_一包20枚 | CO26: 你可以用一个动作将一包铁蒺藜撒出，并覆盖一块边长5尺的方形区域。任何进入该区域的生物必须进行一次DC15的敏捷豁免，豁免失败则该生物停止移动，并受到1点穿刺伤害。在该生物恢复至少1点生命值前，其步行速度将减少10尺。以半速穿过该区域的生物不需要进行该豁免。 | CP26: 1gp | CQ26: 2
A27: 26 | B27: =IF(法术书!X28="","",法术书!X28) | C27: =IFERROR(VLOOKUP(B27,法术大全!$A:$W,5,FALSE),"") | D27: =IFERROR(VLOOKUP(B27,法术大全!$A:$W,4,FALSE),"") | E27: 26 | F27: =B27 | H27: =IF(主要!Y71<>"",主要!Y71,"") | I27: =IF(VLOOKUP(H27,法术大全!$A$3:$E$574,4,0)="√",1,0) -> 0 | J27: =IF(VLOOKUP(H27,法术大全!$A$3:$E$574,5,0)="√",1,0) -> 0 | K27: {=IFERROR(INDEX($H$1:$H$59,SMALL(IF($H$2:$H$59<>"",ROW($H$2:$H$59),4^8),ROW(27:27)))&"","")} | N27: 6 | O27: 附魔 | P27: 1小时 | Q27: 120尺 | R27: 24小时 | W27: =SUM(背包!S10*背包!V10) -> 0 | X27: =SUM(背包!AP10*背包!AS10) -> 0 | Y27: =SUM(背包!S34*背包!V34) -> 0 | Z27: =SUM(背包!AP34*背包!AS34) -> 0 | AO27: > | BC27: / | CF27: 34000 | CG27: 8 | CI27: =IF(主要!F35="O",1,0) -> 0 | CN27: 蜡烛 | CO27: 一只蜡烛可以为其身边5尺半径范围提供明亮光照，以及该范围外5尺的微光光照。蜡烛的照明效果可以持续1小时。 | CP27: 0.01gp | CQ27: 0
A28: 27 | B28: =IF(法术书!X29="","",法术书!X29) | C28: =IFERROR(VLOOKUP(B28,法术大全!$A:$W,5,FALSE),"") | D28: =IFERROR(VLOOKUP(B28,法术大全!$A:$W,4,FALSE),"") | E28: 27 | F28: =B28 | H28: =IF(主要!Y72<>"",主要!Y72,"") | I28: =IF(VLOOKUP(H28,法术大全!$A$3:$E$574,4,0)="√",1,0) -> 0 | J28: =IF(VLOOKUP(H28,法术大全!$A$3:$E$574,5,0)="√",1,0) -> 0 | K28: {=IFERROR(INDEX($H$1:$H$59,SMALL(IF($H$2:$H$59<>"",ROW($H$2:$H$59),4^8),ROW(28:28)))&"","")} | N28: 7 | O28: 幻术 | P28: 8小时 | Q28: 150尺 | R28: 专注，至多1轮 | W28: =SUM(背包!S11*背包!V11) -> 0 | X28: =SUM(背包!AP11*背包!AS11) -> 0 | Y28: =SUM(背包!S35*背包!V35) -> 0 | Z28: =SUM(背包!AP35*背包!AS35) -> 0 | AO28: > | BC28: / | CF28: 48000 | CG28: 9 | CI28: =IF(主要!F36="O",1,0) -> 0 | CN28: 弩矢匣 | CO28: 一只木匣能装二十支弩矢。 | CP28: 1gp | CQ28: 1
A29: 28 | B29: =IF(法术书!X30="","",法术书!X30) | C29: =IFERROR(VLOOKUP(B29,法术大全!$A:$W,5,FALSE),"") | D29: =IFERROR(VLOOKUP(B29,法术大全!$A:$W,4,FALSE),"") | E29: 28 | F29: =B29 | H29: =IF(主要!Y73<>"",主要!Y73,"") | I29: =IF(VLOOKUP(H29,法术大全!$A$3:$E$574,4,0)="√",1,0) -> 0 | J29: =IF(VLOOKUP(H29,法术大全!$A$3:$E$574,5,0)="√",1,0) -> 0 | K29: {=IFERROR(INDEX($H$1:$H$59,SMALL(IF($H$2:$H$59<>"",ROW($H$2:$H$59),4^8),ROW(29:29)))&"","")} | N29: 8 | Q29: 300尺 | R29: 专注，至多1分钟 | W29: =SUM(背包!S12*背包!V12) -> 0 | X29: =SUM(背包!AP12*背包!AS12) -> 0 | Y29: =SUM(背包!S36*背包!V36) -> 0 | Z29: =SUM(背包!AP36*背包!AS36) -> 0 | AO29: > | BC29: / | CF29: 64000 | CG29: 10 | CI29: =IF(主要!P42="O",1,0) -> 0 | CN29: 地图或卷轴匣 | CO29: 一个圆柱形皮匣能够装上十张卷起的纸或是五张卷起的羊皮纸。 | CP29: 1gp | CQ29: 1
A30: 29 | B30: =IF(法术书!X31="","",法术书!X31) | C30: =IFERROR(VLOOKUP(B30,法术大全!$A:$W,5,FALSE),"") | D30: =IFERROR(VLOOKUP(B30,法术大全!$A:$W,4,FALSE),"") | E30: 29 | F30: =B30 | H30: =IF(主要!AG66<>"",主要!AG66,"") | I30: =IF(VLOOKUP(H30,法术大全!$A$3:$E$574,4,0)="√",1,0) -> 0 | J30: =IF(VLOOKUP(H30,法术大全!$A$3:$E$574,5,0)="√",1,0) -> 0 | K30: {=IFERROR(INDEX($H$1:$H$59,SMALL(IF($H$2:$H$59<>"",ROW($H$2:$H$59),4^8),ROW(30:30)))&"","")} | N30: 9 | Q30: 自身(5尺半径) | R30: 专注，至多10分钟 | W30: =SUM(背包!S13*背包!V13) -> 0 | X30: =SUM(背包!AP13*背包!AS13) -> 0 | Y30: =SUM(背包!S37*背包!V37) -> 0 | Z30: =SUM(背包!AP37*背包!AS37) -> 0 | AO30: > | BC30: / | CF30: 85000 | CG30: 11 | CI30: =IF(主要!P43="O",1,0) -> 0 | CN30: 链条_10尺 | CO30: 一根链条有10点生命值。它可以被一次成功的DC20力量检定挣断。 | CP30: 5gp | CQ30: 10
A31: 30 | B31: =IF(法术书!X32="","",法术书!X32) | C31: =IFERROR(VLOOKUP(B31,法术大全!$A:$W,5,FALSE),"") | D31: =IFERROR(VLOOKUP(B31,法术大全!$A:$W,4,FALSE),"") | E31: 30 | F31: =B31 | H31: =IF(主要!AG67<>"",主要!AG67,"") | I31: =IF(VLOOKUP(H31,法术大全!$A$3:$E$574,4,0)="√",1,0) -> 0 | J31: =IF(VLOOKUP(H31,法术大全!$A$3:$E$574,5,0)="√",1,0) -> 0 | K31: {=IFERROR(INDEX($H$1:$H$59,SMALL(IF($H$2:$H$59<>"",ROW($H$2:$H$59),4^8),ROW(31:31)))&"","")} | Q31: 自身(30尺半径) | R31: 专注，至多1小时 | W31: =SUM(背包!S14*背包!V14) -> 0 | X31: =SUM(背包!AP14*背包!AS14) -> 0 | Y31: =SUM(背包!S38*背包!V38) -> 0 | Z31: =SUM(背包!AP38*背包!AS38) -> 0 | AJ31: 消耗品 | AP31: 稀有度 | AS31: 描述 | BD31: 数量 | CF31: 100000 | CG31: 12 | CI31: =IF(主要!P44="O",1,0) -> 0 | CN31: 粉笔_1块 | CO31: - | CP31: 0.01gp | CQ31: 0
A32: 31 | B32: =IF(法术书!X33="","",法术书!X33) | C32: =IFERROR(VLOOKUP(B32,法术大全!$A:$W,5,FALSE),"") | D32: =IFERROR(VLOOKUP(B32,法术大全!$A:$W,4,FALSE),"") | E32: 31 | F32: =B32 | H32: =IF(主要!AG68<>"",主要!AG68,"") | I32: =IF(VLOOKUP(H32,法术大全!$A$3:$E$574,4,0)="√",1,0) -> 0 | J32: =IF(VLOOKUP(H32,法术大全!$A$3:$E$574,5,0)="√",1,0) -> 0 | K32: {=IFERROR(INDEX($H$1:$H$59,SMALL(IF($H$2:$H$59<>"",ROW($H$2:$H$59),4^8),ROW(32:32)))&"","")} | Q32: 自身(15尺立方) | R32: 10日 | AO32: > | BF32: / | CF32: 120000 | CG32: 13 | CI32: =IF(主要!P45="O",1,0) -> 0 | CN32: 箱子 | CO32: 一个箱子可以容纳12立方尺或300磅重的物品。 | CP32: 5gp | CQ32: 25
A33: 32 | B33: =IF(法术书!X34="","",法术书!X34) | C33: =IFERROR(VLOOKUP(B33,法术大全!$A:$W,5,FALSE),"") | D33: =IFERROR(VLOOKUP(B33,法术大全!$A:$W,4,FALSE),"") | E33: 32 | F33: =B33 | H33: =IF(主要!AG69<>"",主要!AG69,"") | I33: =IF(VLOOKUP(H33,法术大全!$A$3:$E$574,4,0)="√",1,0) -> 0 | J33: =IF(VLOOKUP(H33,法术大全!$A$3:$E$574,5,0)="√",1,0) -> 0 | K33: {=IFERROR(INDEX($H$1:$H$59,SMALL(IF($H$2:$H$59<>"",ROW($H$2:$H$59),4^8),ROW(33:33)))&"","")} | Q33: 自身(30尺锥状) | R33: 7日 | W33: =SUM(背包!S16*背包!V16) -> 0 | X33: =SUM(背包!AP16*背包!AS16) -> 0 | Y33: =SUM(背包!S40*背包!V40) -> 0 | Z33: =SUM(背包!AP40*背包!AS40) -> 0 | AO33: > | BF33: / | CF33: 140000 | CG33: 14 | CI33: =IF(主要!P46="O",1,0) -> 0 | CN33: 攀爬工具 | CO33: 一套攀爬工具包括特制的岩钉，靴子包头，手套和系带。你可以用一个动作来运用攀爬工具锚定自己；此时你不会从锚定处摔落超过25尺，且在解除锚定前无法从锚定处向外攀爬超过25尺。 | CP33: 25gp | CQ33: 12
A34: 33 | B34: =IF(法术书!X35="","",法术书!X35) | C34: =IFERROR(VLOOKUP(B34,法术大全!$A:$W,5,FALSE),"") | D34: =IFERROR(VLOOKUP(B34,法术大全!$A:$W,4,FALSE),"") | E34: 33 | F34: =B34 | H34: =IF(主要!AG70<>"",主要!AG70,"") | I34: =IF(VLOOKUP(H34,法术大全!$A$3:$E$574,4,0)="√",1,0) -> 0 | J34: =IF(VLOOKUP(H34,法术大全!$A$3:$E$574,5,0)="√",1,0) -> 0 | K34: {=IFERROR(INDEX($H$1:$H$59,SMALL(IF($H$2:$H$59<>"",ROW($H$2:$H$59),4^8),ROW(34:34)))&"","")} | Q34: 自身(30尺线状) | R34: 30日 | W34: =SUM(背包!S17*背包!V17) -> 0 | X34: =SUM(背包!AP17*背包!AS17) -> 0 | Y34: =SUM(背包!S41*背包!V41) -> 0 | Z34: =SUM(背包!AP41*背包!AS41) -> 0 | AO34: > | BF34: / | CF34: 165000 | CG34: 15 | CI34: =IF(主要!P47="O",1,0) -> 0 | CN34: 普通服装 | CO34: - | CP34: 0.5gp | CQ34: 3
A35: 34 | B35: =IF(法术书!X36="","",法术书!X36) | C35: =IFERROR(VLOOKUP(B35,法术大全!$A:$W,5,FALSE),"") | D35: =IFERROR(VLOOKUP(B35,法术大全!$A:$W,4,FALSE),"") | E35: 34 | F35: =B35 | H35: =IF(主要!AG71<>"",主要!AG71,"") | I35: =IF(VLOOKUP(H35,法术大全!$A$3:$E$574,4,0)="√",1,0) -> 0 | J35: =IF(VLOOKUP(H35,法术大全!$A$3:$E$574,5,0)="√",1,0) -> 0 | K35: {=IFERROR(INDEX($H$1:$H$59,SMALL(IF($H$2:$H$59<>"",ROW($H$2:$H$59),4^8),ROW(35:35)))&"","")} | Q35: 1里 | R35: 特殊 | W35: =SUM(背包!S18*背包!V18) -> 0 | X35: =SUM(背包!AP18*背包!AS18) -> 0 | Y35: =SUM(背包!S42*背包!V42) -> 0 | Z35: =SUM(背包!AP42*背包!AS42) -> 0 | AO35: > | BF35: / | CF35: 195000 | CG35: 16 | CI35: =IF(主要!P48="O",1,0) -> 0 | CN35: 表演服装 | CO35: - | CP35: 5gp | CQ35: 4
A36: 35 | B36: =IF(法术书!X37="","",法术书!X37) | C36: =IFERROR(VLOOKUP(B36,法术大全!$A:$W,5,FALSE),"") | D36: =IFERROR(VLOOKUP(B36,法术大全!$A:$W,4,FALSE),"") | E36: 35 | F36: =B36 | H36: =IF(主要!AG72<>"",主要!AG72,"") | I36: =IF(VLOOKUP(H36,法术大全!$A$3:$E$574,4,0)="√",1,0) -> 0 | J36: =IF(VLOOKUP(H36,法术大全!$A$3:$E$574,5,0)="√",1,0) -> 0 | K36: {=IFERROR(INDEX($H$1:$H$59,SMALL(IF($H$2:$H$59<>"",ROW($H$2:$H$59),4^8),ROW(36:36)))&"","")} | Q36: 视野内 | R36: 直到被解除 | W36: =SUM(背包!S19*背包!V19) -> 0 | X36: =SUM(背包!AP19*背包!AS19) -> 0 | Y36: =SUM(背包!S43*背包!V43) -> 0 | Z36: =SUM(背包!AP43*背包!AS43) -> 0 | CF36: 225000 | CG36: 17 | CI36: =IF(主要!P49="O",1,0) -> 0 | CN36: 高档服装 | CO36: - | CP36: 15gp | CQ36: 6
A37: 36 | B37: =IF(法术书!X38="","",法术书!X38) | C37: =IFERROR(VLOOKUP(B37,法术大全!$A:$W,5,FALSE),"") | D37: =IFERROR(VLOOKUP(B37,法术大全!$A:$W,4,FALSE),"") | E37: 36 | F37: =B37 | H37: =IF(主要!AG73<>"",主要!AG73,"") | I37: =IF(VLOOKUP(H37,法术大全!$A$3:$E$574,4,0)="√",1,0) -> 0 | J37: =IF(VLOOKUP(H37,法术大全!$A$3:$E$574,5,0)="√",1,0) -> 0 | K37: {=IFERROR(INDEX($H$1:$H$59,SMALL(IF($H$2:$H$59<>"",ROW($H$2:$H$59),4^8),ROW(37:37)))&"","")} | Q37: 特殊 | R37: 直至被解除或被触发 | W37: =SUM(背包!S20*背包!V20) -> 0 | X37: =SUM(背包!AP20*背包!AS20) -> 0 | Y37: =SUM(背包!S44*背包!V44) -> 0 | Z37: =SUM(背包!AP44*背包!AS44) -> 0 | AJ37: ———随身钱币——— | CF37: 265000 | CG37: 18 | CI37: =IF(主要!P50="O",1,0) -> 0 | CN37: 旅行者服装 | CO37: - | CP37: 2gp | CQ37: 4
A38: 37 | B38: =IF(法术书!X39="","",法术书!X39) | C38: =IFERROR(VLOOKUP(B38,法术大全!$A:$W,5,FALSE),"") | D38: =IFERROR(VLOOKUP(B38,法术大全!$A:$W,4,FALSE),"") | E38: 37 | F38: =B38 | H38: =IF(主要!AG74<>"",主要!AG74,"") | I38: =IF(VLOOKUP(H38,法术大全!$A$3:$E$574,4,0)="√",1,0) -> 0 | J38: =IF(VLOOKUP(H38,法术大全!$A$3:$E$574,5,0)="√",1,0) -> 0 | K38: {=IFERROR(INDEX($H$1:$H$59,SMALL(IF($H$2:$H$59<>"",ROW($H$2:$H$59),4^8),ROW(38:38)))&"","")} | R38: 直至被驱散 | W38: =SUM(背包!S21*背包!V21) -> 0 | X38: =SUM(背包!AP21*背包!AS21) -> 0 | Y38: =SUM(背包!S45*背包!V45) -> 0 | Z38: =SUM(背包!AP45*背包!AS45) -> 0 | AJ38: CP | AQ38: SP | AX38: EP | BE38: GP | BL38: PP | BS38: 总计 | BV38: =CONCATENATE(SUM(BN38*10+AZ38/2+BG38+AS38/10+AL38/100),"GP") -> 0GP | CF38: 305000 | CG38: 19 | CI38: =IF(主要!P51="O",1,0) -> 0 | CN38: 材料包 | CO38: 材料包是一个防水的皮质小小包，其内有间格用以放置各种材料成分以及其它你需要用以施展法术的特殊物品。某些有着特定价格的材料不包含在材料包中（详见相关法术的描述内容）。 | CP38: 25gp | CQ38: 2
A39: 38 | B39: =IF(法术书!X40="","",法术书!X40) | C39: =IFERROR(VLOOKUP(B39,法术大全!$A:$W,5,FALSE),"") | D39: =IFERROR(VLOOKUP(B39,法术大全!$A:$W,4,FALSE),"") | E39: 38 | F39: =B39 | H39: =IF(主要!AG75<>"",主要!AG75,"") | I39: =IF(VLOOKUP(H39,法术大全!$A$3:$E$574,4,0)="√",1,0) -> 0 | J39: =IF(VLOOKUP(H39,法术大全!$A$3:$E$574,5,0)="√",1,0) -> 0 | K39: {=IFERROR(INDEX($H$1:$H$59,SMALL(IF($H$2:$H$59<>"",ROW($H$2:$H$59),4^8),ROW(39:39)))&"","")} | W39: =SUM(背包!S22*背包!V22) -> 0 | X39: =SUM(背包!AP22*背包!AS22) -> 0 | Y39: =SUM(背包!S46*背包!V46) -> 0 | Z39: =SUM(背包!AP46*背包!AS46) -> 0 | CF39: 355000 | CG39: 20 | CI39: =IF(主要!AP40="O",1,0) -> 0 | CN39: 撬棍 | CO39: 在适当的地方使用撬棍时，可以让相应的力量检定具有优势。 | CP39: 2gp | CQ39: 5
A40: 39 | B40: =IF(法术书!X41="","",法术书!X41) | C40: =IFERROR(VLOOKUP(B40,法术大全!$A:$W,5,FALSE),"") | D40: =IFERROR(VLOOKUP(B40,法术大全!$A:$W,4,FALSE),"") | E40: 39 | F40: =B40 | H40: =IF(主要!AG76<>"",主要!AG76,"") | I40: =IF(VLOOKUP(H40,法术大全!$A$3:$E$574,4,0)="√",1,0) -> 0 | J40: =IF(VLOOKUP(H40,法术大全!$A$3:$E$574,5,0)="√",1,0) -> 0 | K40: {=IFERROR(INDEX($H$1:$H$59,SMALL(IF($H$2:$H$59<>"",ROW($H$2:$H$59),4^8),ROW(40:40)))&"","")} | W40: =SUM(背包!S23*背包!V23) -> 0 | X40: =SUM(背包!AP23*背包!AS23) -> 0 | Y40: =SUM(背包!S47*背包!V47) -> 0 | Z40: =SUM(背包!AP47*背包!AS47) -> 0 | CN40: 槲寄生枝条 | CO40: 德鲁伊法器是一件用来引导德鲁伊法术的特殊物品。它可以是一枝槲寄生或冬青，一根用紫衫木或其它特殊木材制作的魔杖或节杖，一根从活树上折下的法杖或是一个包含神圣动物身上的羽毛、毛皮、骨头和牙齿组合成的图腾。德鲁伊能将这样的物品用作其施法的法器。 | CP40: 1gp | CQ40: 0
...

Sheet 职业
B1: PHB | C1: XGE | D1: SCAG | E1: TCE | F1: EGtW | G1: BGG | H1: VGR | I1: FTD | T1: 主职业 | U1: 范型 | V1: 兼职1 | W1: 范型 | X1: 兼职2 | Y1: 范型 | Z1: 职业特性 | AA1: 范型 | AC1: 生命值成长 | AE1: 生命骰 | AF1: 期望值 | AH1: 职业 | AI1: 等级 | AJ1: 本职 | AK1: 子职 | AL1: 等级 | AN1: 等级 | AO1: 1环 | AP1: 2环 | AQ1: 3环 | AR1: 4环 | AS1: 5环 | AT1: 6环 | AU1: 7环 | AV1: 8环 | AW1: 9环 | AX1: 法术值 | AY1: 邪术师等级 | AZ1: 1环 | BA1: 2环 | BB1: 3环 | BC1: 4环 | BD1: 5环 | BN1: 列1 | BO1: 列2 | BP1: 最小数据行 | BQ1: 最大数据行 | BS1: 待选特性 | BU1: 特性名 | BV1: 特性描述
B2: 0 | C2: 1 | D2: 2 | E2: 3 | F2: 4 | G2: 5 | H2: 6 | I2: 7 | J2: 8 | K2: 9 | L2: 10 | M2: 11 | N2: 12 | O2: 13 | P2: 14 | Q2: 15 | R2: 16 | T2: =主要!E6 -> 0 | U2: =IFERROR(IF(VLOOKUP(T2,B3:R22,2,FALSE)=0,"",VLOOKUP(T2,B3:R22,2,FALSE)),"") | V2: =主要!E7 -> 0 | W2: =IFERROR(IF(VLOOKUP(V2,B3:R22,2,FALSE)=0,"",VLOOKUP(V2,B3:R22,2,FALSE)),"") | X2: =主要!E8 -> 0 | Y2: =IFERROR(IF(VLOOKUP(X2,B3:R22,2,FALSE)=0,"",VLOOKUP(X2,B3:R22,2,FALSE)),"") | Z2: =主要!AW9 -> 0 | AA2: =IFERROR(IF(VLOOKUP(Z2,B3:R22,2,FALSE)=0,"",VLOOKUP(Z2,B3:R22,2,FALSE)),"") | AC2: 法师 | AD2: D6 | AE2: =IFERROR(VLOOKUP(主要!E6,AC2:AD14,2,FALSE),"") | AF2: =IFERROR(VLOOKUP(AE2,AC16:AD19,2,FALSE),0) -> 0 | AH2: 野蛮人 | AI2: =IFERROR(VLOOKUP(AH2,$AJ$2:$AL$4,3,0),0) -> 0 | AJ2: =IF(主要!E6="",0,主要!E6) -> 0 | AK2: =IF(主要!I6="",0,主要!I6) -> 0 | AL2: =IF(主要!O6="",0,主要!O6) -> 1 | AN2: 0 | AY2: 0 | BH2: 名称列 | BI2: 描述列 | BJ2: 最小数据行 | BK2: 最大数据行 | BM2: =IF(主要!AW9<>"",主要!AW9,"") | BN2: =IFERROR(VLOOKUP(BM2,BG3:BK131,2,FALSE),"") | BO2: =IFERROR(VLOOKUP(BM2,BG3:BK131,3,FALSE),"") | BP2: =IFERROR(VLOOKUP(BM2,BG3:BK131,4,FALSE),"") | BQ2: =IFERROR(VLOOKUP(BM2,BG3:BK131,5,FALSE),"") | BS2: =IFERROR(IF(OR(BN6="",COUNTIF($BU$2:$BU$68,BN6)),"",BN6),"") | BT2: {=INDEX(BS:BS,SMALL(IF($BS$2:$BS$101<>"",ROW($BS$2:$BS$101),142),ROW(BS1)))&""} | BU2: =IF(主要!AX11="","",主要!AX11) | BV2: =IFERROR(VLOOKUP(BU2,$BN$6:$BO$105,2,FALSE),"")
A3: 1 | B3: 野蛮人 | C3: 狂战士 | D3: 图腾武者 | E3: 狂热者 | F3: 先祖守卫 | G3: 风暴先驱 | H3: 战狂 | I3: 狂野魔法道途 | J3: 野兽道途 | K3: 巨人道途 | U3: =IFERROR(IF(VLOOKUP(T2,B3:R22,3,FALSE)=0,"",VLOOKUP(T2,B3:R22,3,FALSE)),"") | W3: =IFERROR(IF(VLOOKUP(V2,B3:R22,3,FALSE)=0,"",VLOOKUP(V2,B3:R22,3,FALSE)),"") | Y3: =IFERROR(IF(VLOOKUP(X2,B3:R22,3,FALSE)=0,"",VLOOKUP(X2,B3:R22,3,FALSE)),"") | AA3: =IFERROR(IF(VLOOKUP(Z2,B3:R22,3,FALSE)=0,"",VLOOKUP(Z2,B3:R22,3,FALSE)),"") | AC3: 术士 | AD3: D6 | AE3: =IFERROR(VLOOKUP(主要!E7,AC2:AD14,2,FALSE),"") | AF3: =IFERROR(VLOOKUP(AE3,AC16:AD19,2,FALSE),0) -> 0 | AH3: 吟游诗人 | AI3: =IFERROR(VLOOKUP(AH3,$AJ$2:$AL$4,3,0),0) -> 0 | AJ3: =IF(主要!E7="",0,主要!E7) -> 0 | AK3: =IF(主要!I7="",0,主要!I7) -> 0 | AL3: =IF(主要!O7="",0,主要!O7) -> 0 | AN3: 1 | AO3: 2 | AX3: 4 | AY3: 1 | AZ3: 1 | BG3: 野蛮人 | BH3: 1 | BI3: 2 | BJ3: 1 | BK3: {=_xlfn.IFS($AI$2>=20,19,$AI$2>=18,18,$AI$2>=15,17,$AI$2>=11,16,$AI$2>=9,15,$AI$2>=7,14,$AI$2>=5,12,$AI$2>=4,10,$AI$2>=3,9,$AI$2>=2,7,$AI$2>=1,5,1,0)} -> 0 | BM3: =IF(主要!BD9<>"",主要!BD9,"") | BN3: 0v0? | BO3: 0v0? | BP3: =IFERROR(VLOOKUP(BM3,BG3:BK131,4,FALSE),"") | BQ3: =IFERROR(VLOOKUP(BM3,BG3:BK131,5,FALSE),"") | BS3: =IFERROR(IF(OR(BN7="",COUNTIF($BU$2:$BU$68,BN7)),"",BN7),"") | BT3: {=INDEX(BS:BS,SMALL(IF($BS$2:$BS$101<>"",ROW($BS$2:$BS$101),142),ROW(BS2)))&""} | BU3: =IF(主要!AX12="","",主要!AX12) | BV3: =IFERROR(VLOOKUP(BU3,$BN$6:$BO$105,2,FALSE),"")
A4: 2 | B4: 吟游诗人 | C4: 逸闻学院 | D4: 勇气学院 | E4: 迷惑学院 | F4: 剑舞学院 | G4: 低语学院 | H4: 创造学院 | I4: 雄辩学院 | J4: 精魂学院 | U4: =IFERROR(IF(VLOOKUP(T2,B3:R22,4,FALSE)=0,"",VLOOKUP(T2,B3:R22,4,FALSE)),"") | W4: =IFERROR(IF(VLOOKUP(V2,B3:R22,4,FALSE)=0,"",VLOOKUP(V2,B3:R22,4,FALSE)),"") | Y4: =IFERROR(IF(VLOOKUP(X2,B3:R22,4,FALSE)=0,"",VLOOKUP(X2,B3:R22,4,FALSE)),"") | AA4: =IFERROR(IF(VLOOKUP(Z2,B3:R22,4,FALSE)=0,"",VLOOKUP(Z2,B3:R22,4,FALSE)),"") | AC4: 吟游诗人 | AD4: D8 | AE4: =IFERROR(VLOOKUP(主要!E8,AC2:AD14,2,FALSE),"") | AF4: =IFERROR(VLOOKUP(AE4,AC16:AD19,2,FALSE),0) -> 0 | AH4: 牧师 | AI4: =IFERROR(VLOOKUP(AH4,$AJ$2:$AL$4,3,0),0) -> 0 | AJ4: =IF(主要!E8="",0,主要!E8) -> 0 | AK4: =IF(主要!I8="",0,主要!I8) -> 0 | AL4: =IF(主要!O8="",0,主要!O8) -> 0 | AN4: 2 | AO4: 3 | AX4: 6 | AY4: 2 | AZ4: 2 | BG4: 吟游诗人 | BH4: 3 | BI4: 4 | BJ4: 1 | BK4: {=_xlfn.IFS($AI$3>=20,22,$AI$3>=10,21,$AI$3>=6,20,$AI$3>=5,19,$AI$3>=4,18,$AI$3>=3,16,$AI$3>=2,13,$AI$3>=1,11,1,0)} -> 0 | BS4: =IFERROR(IF(OR(BN8="",COUNTIF($BU$2:$BU$68,BN8)),"",BN8),"") | BT4: {=INDEX(BS:BS,SMALL(IF($BS$2:$BS$101<>"",ROW($BS$2:$BS$101),142),ROW(BS3)))&""} | BU4: =IF(主要!AX13="","",主要!AX13) | BV4: =IFERROR(VLOOKUP(BU4,$BN$6:$BO$105,2,FALSE),"")
A5: 3 | B5: 牧师 | C5: 知识领域 | D5: 生命领域 | E5: 光明领域 | F5: 自然领域 | G5: 风暴领域 | H5: 诡术领域 | I5: 战争领域 | J5: 锻造领域 | K5: 坟墓领域 | L5: 奥秘领域 | M5: 秩序领域 | N5: 和平领域 | O5: 暮光领域 | U5: =IFERROR(IF(VLOOKUP(T2,B3:R22,5,FALSE)=0,"",VLOOKUP(T2,B3:R22,5,FALSE)),"") | W5: =IFERROR(IF(VLOOKUP(V2,B3:R22,5,FALSE)=0,"",VLOOKUP(V2,B3:R22,5,FALSE)),"") | Y5: =IFERROR(IF(VLOOKUP(X2,B3:R22,5,FALSE)=0,"",VLOOKUP(X2,B3:R22,5,FALSE)),"") | AA5: =IFERROR(IF(VLOOKUP(Z2,B3:R22,5,FALSE)=0,"",VLOOKUP(Z2,B3:R22,5,FALSE)),"") | AC5: 牧师 | AD5: D8 | AH5: 德鲁伊 | AI5: =IFERROR(VLOOKUP(AH5,$AJ$2:$AL$4,3,0),0) -> 0 | AN5: 3 | AO5: 4 | AP5: 2 | AX5: 14 | AY5: 3 | BA5: 2 | BG5: 牧师 | BH5: 5 | BI5: 6 | BJ5: 1 | BK5: {=_xlfn.IFS($AI$4>=10,19,$AI$4>=8,18,$AI$4>=5,17,$AI$4>=4,16,$AI$4>=2,14,$AI$4>=1,11,1,0)} -> 0 | BM5: 0 | BN5: 名称 | BO5: 描述 | BP5: 增值 | BS5: =IFERROR(IF(OR(BN9="",COUNTIF($BU$2:$BU$68,BN9)),"",BN9),"") | BT5: {=INDEX(BS:BS,SMALL(IF($BS$2:$BS$101<>"",ROW($BS$2:$BS$101),142),ROW(BS4)))&""} | BU5: =IF(主要!AX14="","",主要!AX14) | BV5: =IFERROR(VLOOKUP(BU5,$BN$6:$BO$105,2,FALSE),"")
A6: 4 | B6: 德鲁伊 | C6: 大地结社 | D6: 月亮结社 | E6: 梦境结社 | F6: 牧人结社 | G6: 孢子结社 | H6: 星辰结社 | I6: 野火结社 | U6: =IFERROR(IF(VLOOKUP(T2,B3:R22,6,FALSE)=0,"",VLOOKUP(T2,B3:R22,6,FALSE)),"") | W6: =IFERROR(IF(VLOOKUP(V2,B3:R22,6,FALSE)=0,"",VLOOKUP(V2,B3:R22,6,FALSE)),"") | Y6: =IFERROR(IF(VLOOKUP(X2,B3:R22,6,FALSE)=0,"",VLOOKUP(X2,B3:R22,6,FALSE)),"") | AA6: =IFERROR(IF(VLOOKUP(Z2,B3:R22,6,FALSE)=0,"",VLOOKUP(Z2,B3:R22,6,FALSE)),"") | AC6: 德鲁伊 | AD6: D8 | AE6: 总等级 | AF6: =主要!O6+主要!O7+主要!O8 -> 1 | AH6: 战士 | AI6: =IFERROR(VLOOKUP(AH6,$AJ$2:$AL$4,3,0),0) -> 0 | AK6: 奥法骑士 | AL6: =IF(AK2="奥法骑士",AL2,IF(AK3="奥法骑士",AL3,IF(AK4="奥法骑士",AL4,0))) -> 0 | AN6: 4 | AO6: 4 | AP6: 3 | AX6: 17 | AY6: 4 | BA6: 2 | BG6: 德鲁伊 | BH6: 7 | BI6: 8 | BJ6: 1 | BK6: {=_xlfn.IFS($AI$5>=20,19,$AI$5>=18,18,$AI$5>=4,16,$AI$5>=2,14,$AI$5>=1,11,1,0)} -> 0 | BM6: =IFERROR(IF(BM5+1>BQ2,IF(BM5+1>BQ2,IF(BP3+BP5>BQ3,"",BP3+BP5)),BM5+1),"") -> 1 | BN6: =IFERROR(INDEX(B30:AO180,BM6,BN2),"") | BO6: =IFERROR(INDEX(B30:AO180,BM6,BO2),"") | BP6: =IFERROR(IF(BM5+1>BQ2,BP5+1,0),"") -> 0 | BS6: =IFERROR(IF(OR(BN10="",COUNTIF($BU$2:$BU$68,BN10)),"",BN10),"") | BT6: {=INDEX(BS:BS,SMALL(IF($BS$2:$BS$101<>"",ROW($BS$2:$BS$101),142),ROW(BS5)))&""} | BU6: =IF(主要!AX15="","",主要!AX15) | BV6: =IFERROR(VLOOKUP(BU6,$BN$6:$BO$105,2,FALSE),"")
A7: 5 | B7: 战士 | C7: 勇士 | D7: 战斗大师 | E7: 奥法骑士 | F7: 魔射手 | G7: 骑兵 | H7: 武士 | I7: 紫龙骑士 | J7: 回音骑士 | K7: 符文骑士 | L7: 灵能武士 | U7: =IFERROR(IF(VLOOKUP(T2,B3:R22,7,FALSE)=0,"",VLOOKUP(T2,B3:R22,7,FALSE)),"") | W7: =IFERROR(IF(VLOOKUP(V2,B3:R22,7,FALSE)=0,"",VLOOKUP(V2,B3:R22,7,FALSE)),"") | Y7: =IFERROR(IF(VLOOKUP(X2,B3:R22,7,FALSE)=0,"",VLOOKUP(X2,B3:R22,7,FALSE)),"") | AA7: =IFERROR(IF(VLOOKUP(Z2,B3:R22,7,FALSE)=0,"",VLOOKUP(Z2,B3:R22,7,FALSE)),"") | AC7: 武僧 | AD7: D8 | AE7: 首级 | AF7: =IFERROR(VLOOKUP(AE2,AC21:AD24,2,FALSE),0) -> 0 | AH7: 武僧 | AI7: =IFERROR(VLOOKUP(AH7,$AJ$2:$AL$4,3,0),0) -> 0 | AK7: 诡术师 | AL7: =IF(AK2="诡术师",AL2,IF(AK3="诡术师",AL3,IF(AK4="诡术师",AL4,0))) -> 0 | AN7: 5 | AO7: 4 | AP7: 3 | AQ7: 2 | AX7: 27 | AY7: 5 | BB7: 2 | BG7: 战士 | BH7: 9 | BI7: 10 | BJ7: 1 | BK7: {=_xlfn.IFS($AI$6>=9,12,$AI$6>=5,11,$AI$6>=4,10,$AI$6>=3,8,$AI$6>=2,7,$AI$6>=1,6,1,0)} -> 0 | BM7: =IFERROR(IF(BM6+1>BQ2,IF(BM6+1>BQ2,IF(BP3+BP6>BQ3,"",BP3+BP6)),BM6+1),"") -> 2 | BN7: =IFERROR(INDEX(B30:AO180,BM7,BN2),"") | BO7: =IFERROR(INDEX(B30:AO180,BM7,BO2),"") | BP7: =IFERROR(IF(BM6+1>BQ2,BP6+1,0),"") -> 0 | BS7: =IFERROR(IF(OR(BN11="",COUNTIF($BU$2:$BU$68,BN11)),"",BN11),"") | BT7: {=INDEX(BS:BS,SMALL(IF($BS$2:$BS$101<>"",ROW($BS$2:$BS$101),142),ROW(BS6)))&""} | BU7: =IF(主要!AX16="","",主要!AX16) | BV7: =IFERROR(VLOOKUP(BU7,$BN$6:$BO$105,2,FALSE),"")
A8: 6 | B8: 武僧 | C8: 散打宗 | D8: 暗影宗 | E8: 四象宗 | F8: 醉拳宗 | G8: 剑圣宗 | H8: 日魂宗 | I8: 永亡宗 | J8: 命流宗 | K8: 星我宗 | L8: 神龙宗 | U8: =IFERROR(IF(VLOOKUP(T2,B3:R22,8,FALSE)=0,"",VLOOKUP(T2,B3:R22,8,FALSE)),"") | W8: =IFERROR(IF(VLOOKUP(V2,B3:R22,8,FALSE)=0,"",VLOOKUP(V2,B3:R22,8,FALSE)),"") | Y8: =IFERROR(IF(VLOOKUP(X2,B3:R22,8,FALSE)=0,"",VLOOKUP(X2,B3:R22,8,FALSE)),"") | AA8: =IFERROR(IF(VLOOKUP(Z2,B3:R22,8,FALSE)=0,"",VLOOKUP(Z2,B3:R22,8,FALSE)),"") | AC8: 游荡者 | AD8: D8 | AH8: 圣武士 | AI8: =IFERROR(VLOOKUP(AH8,$AJ$2:$AL$4,3,0),0) -> 0 | AN8: 6 | AO8: 4 | AP8: 3 | AQ8: 3 | AX8: 32 | AY8: 6 | BB8: 2 | BG8: 武僧 | BH8: 11 | BI8: 12 | BJ8: 1 | BK8: {=_xlfn.IFS($AI$7>=20,29,$AI$7>=18,28,$AI$7>=15,28,$AI$7>=14,26,$AI$7>=13,25,$AI$7>=10,24,$AI$7>=7,23,$AI$7>=6,21,$AI$7>=5,20,$AI$7>=4,17,$AI$7>=3,14,$AI$7>=2,11,$AI$7>=1,5,1,0)} -> 0 | BM8: =IFERROR(IF(BM7+1>BQ2,IF(BM7+1>BQ2,IF(BP3+BP7>BQ3,"",BP3+BP7)),BM7+1),"") -> 3 | BN8: =IFERROR(INDEX(B30:AO180,BM8,BN2),"") | BO8: =IFERROR(INDEX(B30:AO180,BM8,BO2),"") | BP8: =IFERROR(IF(BM7+1>BQ2,BP7+1,0),"") -> 0 | BS8: =IFERROR(IF(OR(BN12="",COUNTIF($BU$2:$BU$68,BN12)),"",BN12),"") | BT8: {=INDEX(BS:BS,SMALL(IF($BS$2:$BS$101<>"",ROW($BS$2:$BS$101),142),ROW(BS7)))&""} | BU8: =IF(主要!AX17="","",主要!AX17) | BV8: =IFERROR(VLOOKUP(BU8,$BN$6:$BO$105,2,FALSE),"")
A9: 7 | B9: 圣武士 | C9: 奉献之誓 | D9: 古贤之誓 | E9: 复仇之誓 | F9: 征服之誓 | G9: 救赎之誓 | H9: 王冠之誓 | I9: 荣耀之誓 | J9: 守望之誓 | U9: =IFERROR(IF(VLOOKUP(T2,B3:R22,9,FALSE)=0,"",VLOOKUP(T2,B3:R22,9,FALSE)),"") | W9: =IFERROR(IF(VLOOKUP(V2,B3:R22,9,FALSE)=0,"",VLOOKUP(V2,B3:R22,9,FALSE)),"") | Y9: =IFERROR(IF(VLOOKUP(X2,B3:R22,9,FALSE)=0,"",VLOOKUP(X2,B3:R22,9,FALSE)),"") | AA9: =IFERROR(IF(VLOOKUP(Z2,B3:R22,9,FALSE)=0,"",VLOOKUP(Z2,B3:R22,9,FALSE)),"") | AC9: 邪术师 | AD9: D8 | AE9: 全施法者 | AF9: =$AI$3+$AI$4+$AI$5+$AI$11+$AI$13 -> 0 | AH9: 游侠 | AI9: =IFERROR(VLOOKUP(AH9,$AJ$2:$AL$4,3,0),0) -> 0 | AN9: 7 | AO9: 4 | AP9: 3 | AQ9: 3 | AR9: 1 | AX9: 38 | AY9: 7 | BC9: 2 | BG9: 圣武士 | BH9: 13 | BI9: 14 | BJ9: 1 | BK9: {=_xlfn.IFS($AI$8>=14,24,$AI$8>=11,23,$AI$8>=10,22,$AI$8>=6,21,$AI$8>=5,20,$AI$8>=4,19,$AI$8>=3,17,$AI$8>=2,12,$AI$8>=1,5,1,0)} -> 0 | BM9: =IFERROR(IF(BM8+1>BQ2,IF(BM8+1>BQ2,IF(BP3+BP8>BQ3,"",BP3+BP8)),BM8+1),"") -> 4 | BN9: =IFERROR(INDEX(B30:AO180,BM9,BN2),"") | BO9: =IFERROR(INDEX(B30:AO180,BM9,BO2),"") | BP9: =IFERROR(IF(BM8+1>BQ2,BP8+1,0),"") -> 0 | BS9: =IFERROR(IF(OR(BN13="",COUNTIF($BU$2:$BU$68,BN13)),"",BN13),"") | BT9: {=INDEX(BS:BS,SMALL(IF($BS$2:$BS$101<>"",ROW($BS$2:$BS$101),142),ROW(BS8)))&""} | BU9: =IF(主要!AX18="","",主要!AX18) | BV9: =IFERROR(VLOOKUP(BU9,$BN$6:$BO$105,2,FALSE),"")
A10: 8 | B10: 游侠 | C10: 猎人 | D10: 驯兽师 | E10: 幽域追踪者 | F10: 边界行者 | G10: 怪物杀手 | H10: 集群牧者 | I10: 妖精漫游者 | J10: 龙兽守卫 | U10: =IFERROR(IF(VLOOKUP(T2,B3:R22,10,FALSE)=0,"",VLOOKUP(T2,B3:R22,10,FALSE)),"") | W10: =IFERROR(IF(VLOOKUP(V2,B3:R22,10,FALSE)=0,"",VLOOKUP(V2,B3:R22,10,FALSE)),"") | Y10: =IFERROR(IF(VLOOKUP(X2,B3:R22,10,FALSE)=0,"",VLOOKUP(X2,B3:R22,10,FALSE)),"") | AA10: =IFERROR(IF(VLOOKUP(Z2,B3:R22,10,FALSE)=0,"",VLOOKUP(Z2,B3:R22,10,FALSE)),"") | AC10: 奇械师 | AD10: D8 | AE10: 半施法者 | AF10: =IF(AF9=0,ROUNDUP(($AI$8+$AI$9+$AI$14)/2,0),ROUNDDOWN(($AI$8+$AI$9+$AI$14)/2,0)) -> 0 | AH10: 游荡者 | AI10: =IFERROR(VLOOKUP(AH10,$AJ$2:$AL$4,3,0),0) -> 0 | AN10: 8 | AO10: 4 | AP10: 3 | AQ10: 3 | AR10: 2 | AX10: 44 | AY10: 8 | BC10: 2 | BG10: 游侠 | BH10: 15 | BI10: 16 | BJ10: 1 | BK10: {=_xlfn.IFS($AI$9>=20,25,$AI$9>=18,24,$AI$9>=14,23,$AI$9>=10,22,$AI$9>=8,20,$AI$9>=5,19,$AI$9>=4,18,$AI$9>=3,16,$AI$9>=2,13,$AI$9>=1,7,1,0)} -> 0 | BM10: =IFERROR(IF(BM9+1>BQ2,IF(BM9+1>BQ2,IF(BP3+BP9>BQ3,"",BP3+BP9)),BM9+1),"") -> 5 | BN10: =IFERROR(INDEX(B30:AO180,BM10,BN2),"") | BO10: =IFERROR(INDEX(B30:AO180,BM10,BO2),"") | BP10: =IFERROR(IF(BM9+1>BQ2,BP9+1,0),"") -> 0 | BS10: =IFERROR(IF(OR(BN14="",COUNTIF($BU$2:$BU$68,BN14)),"",BN14),"") | BT10: {=INDEX(BS:BS,SMALL(IF($BS$2:$BS$101<>"",ROW($BS$2:$BS$101),142),ROW(BS9)))&""} | BU10: =IF(主要!AX19="","",主要!AX19) | BV10: =IFERROR(VLOOKUP(BU10,$BN$6:$BO$105,2,FALSE),"")
A11: 9 | B11: 游荡者 | C11: 盗贼 | D11: 刺客 | E11: 诡术师 | F11: 调查员 | G11: 策士 | H11: 斥候 | I11: 游荡剑客 | J11: 鬼魅 | K11: 魂刃 | U11: =IFERROR(IF(VLOOKUP(T2,B3:R22,11,FALSE)=0,"",VLOOKUP(T2,B3:R22,11,FALSE)),"") | W11: =IFERROR(IF(VLOOKUP(V2,B3:R22,11,FALSE)=0,"",VLOOKUP(V2,B3:R22,11,FALSE)),"") | Y11: =IFERROR(IF(VLOOKUP(X2,B3:R22,11,FALSE)=0,"",VLOOKUP(X2,B3:R22,11,FALSE)),"") | AA11: =IFERROR(IF(VLOOKUP(Z2,B3:R22,11,FALSE)=0,"",VLOOKUP(Z2,B3:R22,11,FALSE)),"") | AC11: 战士 | AD11: D10 | AE11: 诡奥 | AF11: =IF(AF9=0,ROUNDUP((AL6+AL7)/3,0),ROUNDDOWN((AL6+AL7)/3,0)) -> 0 | AH11: 术士 | AI11: =IFERROR(VLOOKUP(AH11,$AJ$2:$AL$4,3,0),0) -> 0 | AN11: 9 | AO11: 4 | AP11: 3 | AQ11: 3 | AR11: 3 | AS11: 1 | AX11: 57 | AY11: 9 | BD11: 3 | BG11: 游荡者 | BH11: 17 | BI11: 18 | BJ11: 1 | BK11: {=_xlfn.IFS($AI$10>=20,17,$AI$10>=18,16,$AI$10>=15,14,$AI$10>=14,14,$AI$10>=11,13,$AI$10>=7,12,$AI$10>=5,11,$AI$10>=4,10,$AI$10>=3,9,$AI$10>=2,7,$AI$10>=1,6,1,0)} -> 0 | BM11: =IFERROR(IF(BM10+1>BQ2,IF(BM10+1>BQ2,IF(BP3+BP10>BQ3,"",BP3+BP10)),BM10+1),"") -> 6 | BN11: =IFERROR(INDEX(B30:AO180,BM11,BN2),"") | BO11: =IFERROR(INDEX(B30:AO180,BM11,BO2),"") | BP11: =IFERROR(IF(BM10+1>BQ2,BP10+1,0),"") -> 0 | BS11: =IFERROR(IF(OR(BN15="",COUNTIF($BU$2:$BU$68,BN15)),"",BN15),"") | BT11: {=INDEX(BS:BS,SMALL(IF($BS$2:$BS$101<>"",ROW($BS$2:$BS$101),142),ROW(BS10)))&""} | BU11: =IF(主要!AX20="","",主要!AX20) | BV11: =IFERROR(VLOOKUP(BU11,$BN$6:$BO$105,2,FALSE),"")
A12: 10 | B12: 术士 | C12: 龙族血脉 | D12: 狂野魔法 | E12: 神圣之魂 | F12: 幽影魔法 | G12: 风暴术法 | H12: 畸变心智 | I12: 时械之魂 | J12: 月之术法 | U12: =IFERROR(IF(VLOOKUP(T2,B3:R22,12,FALSE)=0,"",VLOOKUP(T2,B3:R22,12,FALSE)),"") | W12: =IFERROR(IF(VLOOKUP(V2,B3:R22,12,FALSE)=0,"",VLOOKUP(V2,B3:R22,12,FALSE)),"") | Y12: =IFERROR(IF(VLOOKUP(X2,B3:R22,12,FALSE)=0,"",VLOOKUP(X2,B3:R22,12,FALSE)),"") | AA12: =IFERROR(IF(VLOOKUP(Z2,B3:R22,12,FALSE)=0,"",VLOOKUP(Z2,B3:R22,12,FALSE)),"") | AC12: 圣武士 | AD12: D10 | AH12: 邪术师 | AI12: =IFERROR(VLOOKUP(AH12,$AJ$2:$AL$4,3,0),0) -> 0 | AN12: 10 | AO12: 4 | AP12: 3 | AQ12: 3 | AR12: 3 | AS12: 2 | AX12: 64 | AY12: 10 | BD12: 3 | BG12: 术士 | BH12: 19 | BI12: 20 | BJ12: 1 | BK12: {=_xlfn.IFS($AI$11>=20,30,$AI$11>=5,29,$AI$11>=4,28,$AI$11>=3,26,$AI$11>=2,15,$AI$11>=1,10,1,0)} -> 0 | BM12: =IFERROR(IF(BM11+1>BQ2,IF(BM11+1>BQ2,IF(BP3+BP11>BQ3,"",BP3+BP11)),BM11+1),"") -> 7 | BN12: =IFERROR(INDEX(B30:AO180,BM12,BN2),"") | BO12: =IFERROR(INDEX(B30:AO180,BM12,BO2),"") | BP12: =IFERROR(IF(BM11+1>BQ2,BP11+1,0),"") -> 0 | BS12: =IFERROR(IF(OR(BN16="",COUNTIF($BU$2:$BU$68,BN16)),"",BN16),"") | BT12: {=INDEX(BS:BS,SMALL(IF($BS$2:$BS$101<>"",ROW($BS$2:$BS$101),142),ROW(BS11)))&""} | BU12: =IF(主要!AX21="","",主要!AX21) | BV12: =IFERROR(VLOOKUP(BU12,$BN$6:$BO$105,2,FALSE),"")
A13: 11 | B13: 邪术师 | C13: 至高妖精 | D13: 邪魔宗主 | E13: 旧日支配者 | F13: 天界宗主 | G13: 咒剑士 | H13: 不朽者 | I13: 巨灵宗主 | J13: 深海意志 | K13: 死灵宗主 | U13: =IFERROR(IF(VLOOKUP(T2,B3:R22,13,FALSE)=0,"",VLOOKUP(T2,B3:R22,13,FALSE)),"") | W13: =IFERROR(IF(VLOOKUP(V2,B3:R22,13,FALSE)=0,"",VLOOKUP(V2,B3:R22,13,FALSE)),"") | Y13: =IFERROR(IF(VLOOKUP(X2,B3:R22,13,FALSE)=0,"",VLOOKUP(X2,B3:R22,13,FALSE)),"") | AA13: =IFERROR(IF(VLOOKUP(Z2,B3:R22,13,FALSE)=0,"",VLOOKUP(Z2,B3:R22,13,FALSE)),"") | AC13: 游侠 | AD13: D10 | AH13: 法师 | AI13: =IFERROR(VLOOKUP(AH13,$AJ$2:$AL$4,3,0),0) -> 0 | AN13: 11 | AO13: 4 | AP13: 3 | AQ13: 3 | AR13: 3 | AS13: 2 | AT13: 1 | AX13: 73 | AY13: 11 | BD13: 3 | BG13: 邪术师 | BH13: 21 | BI13: 22 | BJ13: 1 | BK13: {=_xlfn.IFS($AI$12>=20,73,$AI$12>=15,72,$AI$12>=12,67,$AI$12>=11,65,$AI$12>=9,64,$AI$12>=7,59,$AI$12>=5,52,$AI$12>=4,41,$AI$12>=3,39,$AI$12>=2,27,$AI$12>=1,9,1,0)} -> 0 | BM13: =IFERROR(IF(BM12+1>BQ2,IF(BM12+1>BQ2,IF(BP3+BP12>BQ3,"",BP3+BP12)),BM12+1),"") -> 8 | BN13: =IFERROR(INDEX(B30:AO180,BM13,BN2),"") | BO13: =IFERROR(INDEX(B30:AO180,BM13,BO2),"") | BP13: =IFERROR(IF(BM12+1>BQ2,BP12+1,0),"") -> 0 | BS13: =IFERROR(IF(OR(BN17="",COUNTIF($BU$2:$BU$68,BN17)),"",BN17),"") | BT13: {=INDEX(BS:BS,SMALL(IF($BS$2:$BS$101<>"",ROW($BS$2:$BS$101),142),ROW(BS12)))&""} | BU13: =IF(主要!AX22="","",主要!AX22) | BV13: =IFERROR(VLOOKUP(BU13,$BN$6:$BO$105,2,FALSE),"")
