Workbook

Sheet 训练家
B2: 基础信息 | E2: 姓名： | H2: 基础能力 | L2: 特殊系统道具 | O2: 资金 | R2: 旅行纪念
B3: 立绘 | H3: 总和： | I3: =SUM(I4:I17) -> 70 | J3: 调整 | L3: 钥石 | M3: ☐ | O3: 旅行点TP | P3: 10
E4: 年龄： | H4: 力气 | I4: 10 | J4: =INT(I4/2-5) -> 0
L5: Z手环 | M5: ☐ | O5: 宝可元： | P5: 1000
E6: 性别： | H6: 体魄 | I6: 10 | J6: =INT(I6/2-5) -> 0
L7: 极巨腕带 | M7: ☐ | O7: 物资点IP | P7: 10
E8: 身高： | H8: 智识 | I8: 10 | J8: =INT(I8/2-5) -> 0
L9: 太晶珠 | M9: ☐ | P9: ="物资点上限："&10+COUNTA(R3:S38) -> 物资点上限：10
E10: 体重： | H10: 意念 | I10: 10 | J10: =INT(I10/2-5) -> 0
O11: 背包
E12: 风格： | H12: 机敏 | I12: 10 | J12: =INT(I12/2-5) -> 0
L13: 体力
E14: 方向： | H14: 魅力 | I14: 10 | J14: =INT(I14/2-5) -> 0 | L14: HP： | M14: =INT(I6*1.5+I4/2)+1 -> 21
E16: 玩家： | H16: 幸运 | I16: 10 | J16: =INT(I16/2-5) -> 0 | L16: 当前HP：
J18: ="剩余基础成长值："&85+INT(COUNTA(R3:S38)/8)-IF(I4>15,(I4-15)*2+15,I4)-IF(I6>15,(I6-15)*2+15,I6)-IF(I8>15,(I8-15)*2+15,I8)-IF(I10>15,(I10-15)*2+15,I10)-IF(I12>15,(I12-15)*2+15,I12)-IF(I14>15,(I14-15)*2+15,I14)-IF(I16>15,(I16-15)*2+15,I16) -> 剩余基础成长值：15
B20: 背景信息（请至少写关键词） | L20: 携带队伍
B21: 形象描述 | L21: 名称：
L22: 种族：
B23: 梦想/信念 | L23: 状态： | M23: 正常
L24: 名称：
B25: 性格/特质 | L25: 种族：
L26: 状态： | M26: 正常
B27: 背景/经历 | L27: 名称：
L28: 种族：
L29: 状态： | M29: 正常
L30: 名称：
L31: 种族：
L32: 状态： | M32: 正常
L33: 名称：
L34: 种族：
L35: 状态： | M35: 正常
L36: 名称：
L37: 种族：
L38: 状态： | M38: 正常
B41: 技能列表 | R41: 备注栏
B42: 技能名 | C42: 基础 | D42: 成长 | E42: 额外 | F42: 能力值 | G42: 调整 | H42: 技能名 | I42: 基础 | J42: 成长 | K42: 额外 | L42: 能力值 | M42: 调整 | R42: 如选开规则相关
B44: 探查 | C44: =5+J12 -> 5 | F44: =SUM(C44:E45) -> 5 | G44: =INT((F44/2-5)) -> -3 | H44: 烹调 | I44: =5+J14 -> 5 | L44: =SUM(I44:K45) -> 5 | M44: =INT((L44/2-5)) -> -3
B46: 采集 | C46: =5+J6 -> 5 | F46: =SUM(C46:E47) -> 5 | G46: =INT((F46/2-5)) -> -3 | H46: 运动 | I46: =5+J6 -> 5 | L46: =SUM(I46:K47) -> 5 | M46: =INT((L46/2-5)) -> -3
B48: 博物 | C48: =5+J8 -> 5 | F48: =SUM(C48:E49) -> 5 | G48: =INT((F48/2-5)) -> -3 | H48: 指挥 | I48: =5+J10 -> 5 | L48: =SUM(I48:K49) -> 5 | M48: =INT((L48/2-5)) -> -3
B49: 分支① | H49: 分支①
...

Sheet 宝可梦 (1)
B2: 基本信息 | J2: 宝可梦基础能力值 | P2: 成长值 | R2: 种族值
E3: 名称： | G3: 性别： | J3: 能力 | K3: 基础 | L3: 变化 | M3: 合计 | N3: 调整 | P3: 体力 | Q3: C | R3: 体力 | S3: =VLOOKUP(F5,编号表!$A:$R,10,FALSE) -> 45
J4: 体力 | K4: =IF(B20="神奇守护",1,INT((((S3/(1+0.01*(MAX(0,S3-120)+0.1)^0.8))*(1+VLOOKUP(Q3,其它!$G$21:$H$28,2,FALSE)/12))/6+2.2+$F$13)*2)) -> 21 | M4: =K4+L4 -> 21 | N4: =INT(M4/3-6) -> 1
E5: 编号： | F5: =INDEX(编号表!$A:$B,MATCH(H5,编号表!$B:$B,0),MATCH("编号",编号表!$A:$A,0)) -> 1 | G5: 种族： | H5: 妙蛙种子 | P5: 攻击 | Q5: C | R5: 攻击 | S5: =VLOOKUP(F5,编号表!$A:$R,11,FALSE) -> 49
B6: 立绘 | J6: 攻击 | K6: =INT(((S5/(1+0.01*(MAX(0,S5-120)+0.1)^0.8))*(1+VLOOKUP(Q5,其它!$G$21:$H$28,2,FALSE)/12))/6+2.2+$F$13) -> 11 | M6: =K6+L6 -> 11 | N6: =INT(M6/2-5) -> 0
E7: 属性： | F7: =VLOOKUP(F5,编号表!$A:$R,3,FALSE) -> 草 | G7: 特性： | H7: 第一特性 | P7: 防御 | Q7: C | R7: 防御 | S7: =VLOOKUP(F5,编号表!$A:$R,12,FALSE) -> 49
F8: =VLOOKUP(F5,编号表!$A:$R,4,FALSE) -> 毒 | H8: =VLOOKUP(F5,编号表!$A:$R,IF(H7="第一特性",5,IF(H7="第二特性",6,7)),FALSE) -> 茂盛 | J8: 防御 | K8: =INT(((S7/(1+0.01*(MAX(0,S7-120)+0.1)^0.8))*(1+VLOOKUP(Q7,其它!$G$21:$H$28,2,FALSE)/12))/6+2.2+$F$13) -> 11 | M8: =K8+L8 -> 11 | N8: =INT(M8/2-5) -> 0
E9: 身高： | F9: =IF(H9="极巨化","？？？",VLOOKUP(F5,编号表!$A:$R,17,FALSE)*VLOOKUP(H9,其它!C22:E30,2,FALSE)) -> 0.7 | G9: 体型差异 | H9: 普通 | P9: 特攻 | Q9: C | R9: 特攻 | S9: =VLOOKUP(F5,编号表!$A:$R,13,FALSE) -> 65
E10: 体重： | F10: =IF(H9="极巨化","？？？",VLOOKUP(F5,编号表!$A:$R,18,FALSE)*VLOOKUP(H9,其它!C22:E30,3,FALSE)) -> 6.9 | G10: 体型等级 | H10: =IF(H9="极巨化","？？？",LOOKUP(((F10+1)*(F9+1)),{0,10,50,450,700,1000},{1,2,3,4,5,6})) -> 2 | J10: 特攻 | K10: =INT(((S9/(1+0.01*(MAX(0,S9-120)+0.1)^0.8))*(1+VLOOKUP(Q9,其它!$G$21:$H$28,2,FALSE)/12))/6+2.2+$F$13) -> 14 | M10: =K10+L10 -> 14 | N10: =INT(M10/2-5) -> 2
E11: 当前HP | G11: 当前EP | H11: 100 | P11: 特防 | Q11: C | R11: 特防 | S11: =VLOOKUP(F5,编号表!$A:$R,14,FALSE) -> 65
F12: =F11/M4 -> 0 | H12: =H11/100 -> 1 | J12: 特防 | K12: =INT(((S11/(1+0.01*(MAX(0,S11-120)+0.1)^0.8))*(1+VLOOKUP(Q11,其它!$G$21:$H$28,2,FALSE)/12))/6+2.2+$F$13) -> 14 | M12: =K12+L12 -> 14 | N12: =INT(M12/2-5) -> 2
E13: 牵绊等级 | F13: 1 | G13: 指挥度 | H13: =LOOKUP(F13,{0,1,2,3,4,5,6,7,8,9,10},{5,5,6,6,7,7,8,9,10,10,10}) -> 5 | P13: 速度 | Q13: C | R13: 速度 | S13: =VLOOKUP(F5,编号表!$A:$R,15,FALSE) -> 45
J14: 速度 | K14: =INT(((S13/(1+0.01*(MAX(0,S13-120)+0.1)^0.8))*(1+VLOOKUP(Q13,其它!$G$21:$H$28,2,FALSE)/12))/6+2.2+$F$13) -> 10 | M14: =K14+L14 -> 10 | N14: =INT(M14/2-5) -> 0
E15: 极巨类型 | F15: 极巨化 | G15: 移动力 | H15: =INT(IF(N14<0,1,(IF(N14>4,N14/2+0.5,2)))) -> 2 | R15: 总和： | S15: =S3+S5+S7+S9+S11+S13 -> 318
E16: 太晶属性 | F16: 星晶
E17: 球种： | G17: 训练家： | P17: 宝可梦备注栏
J18: 闪避与命中能力值
B19: 特性效果 | C19: =VLOOKUP(B20,特性表!B:C,2,FALSE) -> HP低于1/3时，草属性招式的威力骰出目+3。 | J19: 属性 | K19: 基础 | L19: 变化 | M19: 速度加值 | N19: 最终值
B20: =H8 -> 茂盛 | J20: 闪避 | K20: 6 | M20: =INT(IF(M14>18,M14/3-6,0)) -> 0 | N20: =SUM(K20:L21,M20) -> 6
B22: 携带物： | C22: 物品 | D22: 效果 | J22: 命中 | K22: 0 | N22: =SUM(K22:L23,M20) -> 0
B26: 战斗招式
B27: 名称： | C27: 名称 | E27: 属性： | F27: =IF(C27="觉醒力量",VLOOKUP(FLOOR((MOD(VLOOKUP(Q3,其它!G21:H28,2,FALSE),2)+2*MOD(VLOOKUP(Q5,其它!G21:H28,2,FALSE),2)+4*MOD(VLOOKUP(Q7,其它!G21:H28,2,FALSE),2)+8*MOD(VLOOKUP(Q13,其它!G21:H28,2,FALSE),2)+16*MOD(VLOOKUP(Q9,其它!G21:H28,2,FALSE),2)+32*MOD(VLOOKUP(Q11,其它!G21:H28,2,FALSE),2))*15/63,1),其它!J22:K38,2,1),VLOOKUP(C27,招式表!$C:$O,2,FALSE)) -> 属性 | G27: 分类： | H27: =VLOOKUP(C27,招式表!$C:$O,3,FALSE) -> 分类 | I27: 作用距离： | J27: =VLOOKUP(C27,招式表!$C:$O,10,FALSE) -> 作用距离 | K27: 名称： | L27: 名称 | N27: 属性： | O27: =IF(L27="觉醒力量",VLOOKUP(FLOOR((MOD(VLOOKUP(Z3,其它!#REF!,2,FALSE),2)+2*MOD(VLOOKUP(Z5,其它!#REF!,2,FALSE),2)+4*MOD(VLOOKUP(Z7,其它!#REF!,2,FALSE),2)+8*MOD(VLOOKUP(Z13,其它!#REF!,2,FALSE),2)+16*MOD(VLOOKUP(Z9,其它!#REF!,2,FALSE),2)+32*MOD(VLOOKUP(Z11,其它!#REF!,2,FALSE),2))*15/63,1),其它!AC41:AD57,2,1),VLOOKUP(L27,招式表!$C:$O,2,FALSE)) -> 属性 | P27: 分类： | Q27: =VLOOKUP(L27,招式表!$C:$O,3,FALSE) -> 分类 | R27: 作用距离： | S27: =VLOOKUP(L27,招式表!$C:$O,10,FALSE) -> 作用距离
B28: 威力骰： | C28: =VLOOKUP(C27,招式表!$C:$O,5,FALSE) -> 威力骰 | E28: 命中骰： | F28: =VLOOKUP(C27,招式表!$C:$O,7,FALSE) -> 命中骰 | G28: EP消耗： | H28: =VLOOKUP(C27,招式表!$C:$O,9,FALSE) -> 消耗 | I28: 优先度： | J28: =VLOOKUP(C27,招式表!$C:$O,11,FALSE) -> 优先度 | K28: 威力骰： | L28: =VLOOKUP(L27,招式表!$C:$O,5,FALSE) -> 威力骰 | N28: 命中骰： | O28: =VLOOKUP(L27,招式表!$C:$O,7,FALSE) -> 命中骰 | P28: EP消耗： | Q28: =VLOOKUP(L27,招式表!$C:$O,9,FALSE) -> 消耗 | R28: 优先度： | S28: =VLOOKUP(L27,招式表!$C:$O,11,FALSE) -> 优先度
B29: 效果： | C29: =VLOOKUP(C27,招式表!$C:$O,12,FALSE) -> 说明 | J29: =VLOOKUP(C27,招式表!$C:$O,13,FALSE) -> 其他分类 | K29: 效果： | L29: =VLOOKUP(L27,招式表!$C:$O,12,FALSE) -> 说明 | S29: =VLOOKUP(L27,招式表!$C:$O,13,FALSE) -> 其他分类
B32: 其他分类： | K32: 其他分类：
B33: 名称： | C33: 名称 | E33: 属性： | F33: =IF(C33="觉醒力量",VLOOKUP(FLOOR((MOD(VLOOKUP(Q7,其它!#REF!,2,FALSE),2)+2*MOD(VLOOKUP(Q9,其它!#REF!,2,FALSE),2)+4*MOD(VLOOKUP(Q11,其它!#REF!,2,FALSE),2)+8*MOD(VLOOKUP(#REF!,其它!#REF!,2,FALSE),2)+16*MOD(VLOOKUP(Q13,其它!#REF!,2,FALSE),2)+32*MOD(VLOOKUP(#REF!,其它!#REF!,2,FALSE),2))*15/63,1),其它!T45:U61,2,1),VLOOKUP(C33,招式表!$C:$O,2,FALSE)) -> 属性 | G33: 分类： | H33: =VLOOKUP(C33,招式表!$C:$O,3,FALSE) -> 分类 | I33: 作用距离： | J33: =VLOOKUP(C33,招式表!$C:$O,10,FALSE) -> 作用距离 | K33: 名称： | L33: 名称 | N33: 属性： | O33: =IF(L33="觉醒力量",VLOOKUP(FLOOR((MOD(VLOOKUP(Z7,其它!#REF!,2,FALSE),2)+2*MOD(VLOOKUP(Z9,其它!#REF!,2,FALSE),2)+4*MOD(VLOOKUP(Z11,其它!#REF!,2,FALSE),2)+8*MOD(VLOOKUP(Z17,其它!#REF!,2,FALSE),2)+16*MOD(VLOOKUP(Z13,其它!#REF!,2,FALSE),2)+32*MOD(VLOOKUP(Z15,其它!#REF!,2,FALSE),2))*15/63,1),其它!AC45:AD61,2,1),VLOOKUP(L33,招式表!$C:$O,2,FALSE)) -> 属性 | P33: 分类： | Q33: =VLOOKUP(L33,招式表!$C:$O,3,FALSE) -> 分类 | R33: 作用距离： | S33: =VLOOKUP(L33,招式表!$C:$O,10,FALSE) -> 作用距离
B34: 威力骰： | C34: =VLOOKUP(C33,招式表!$C:$O,5,FALSE) -> 威力骰 | E34: 命中骰： | F34: =VLOOKUP(C33,招式表!$C:$O,7,FALSE) -> 命中骰 | G34: EP消耗： | H34: =VLOOKUP(C33,招式表!$C:$O,9,FALSE) -> 消耗 | I34: 优先度： | J34: =VLOOKUP(C33,招式表!$C:$O,11,FALSE) -> 优先度 | K34: 威力骰： | L34: =VLOOKUP(L33,招式表!$C:$O,5,FALSE) -> 威力骰 | N34: 命中骰： | O34: =VLOOKUP(L33,招式表!$C:$O,7,FALSE) -> 命中骰 | P34: EP消耗： | Q34: =VLOOKUP(L33,招式表!$C:$O,9,FALSE) -> 消耗 | R34: 优先度： | S34: =VLOOKUP(L33,招式表!$C:$O,11,FALSE) -> 优先度
B35: 效果： | C35: =VLOOKUP(C33,招式表!$C:$O,12,FALSE) -> 说明 | J35: =VLOOKUP(C33,招式表!$C:$O,13,FALSE) -> 其他分类 | K35: 效果： | L35: =VLOOKUP(L33,招式表!$C:$O,12,FALSE) -> 说明 | S35: =VLOOKUP(L33,招式表!$C:$O,13,FALSE) -> 其他分类
B39: 额外招式
B40: 名称： | C40: 名称 | E40: 属性： | F40: =IF(C40="觉醒力量",VLOOKUP(FLOOR((MOD(VLOOKUP(Q12,其它!#REF!,2,FALSE),2)+2*MOD(VLOOKUP(Q14,其它!#REF!,2,FALSE),2)+4*MOD(VLOOKUP(Q15,其它!#REF!,2,FALSE),2)+8*MOD(VLOOKUP(H14,其它!#REF!,2,FALSE),2)+16*MOD(VLOOKUP(Q17,其它!#REF!,2,FALSE),2)+32*MOD(VLOOKUP(H12,其它!#REF!,2,FALSE),2))*15/63,1),其它!T50:U66,2,1),VLOOKUP(C40,招式表!$C:$O,2,FALSE)) -> 属性 | G40: 分类： | H40: =VLOOKUP(C40,招式表!$C:$O,3,FALSE) -> 分类 | I40: 作用距离： | J40: =VLOOKUP(C40,招式表!$C:$O,10,FALSE) -> 作用距离 | K40: 名称： | L40: 名称 | N40: 属性： | O40: =IF(L40="觉醒力量",VLOOKUP(FLOOR((MOD(VLOOKUP(Z12,其它!#REF!,2,FALSE),2)+2*MOD(VLOOKUP(Z14,其它!#REF!,2,FALSE),2)+4*MOD(VLOOKUP(Z16,其它!#REF!,2,FALSE),2)+8*MOD(VLOOKUP(Z22,其它!#REF!,2,FALSE),2)+16*MOD(VLOOKUP(Z18,其它!#REF!,2,FALSE),2)+32*MOD(VLOOKUP(Z20,其它!#REF!,2,FALSE),2))*15/63,1),其它!AC50:AD66,2,1),VLOOKUP(L40,招式表!$C:$O,2,FALSE)) -> 属性 | P40: 分类： | Q40: =VLOOKUP(L40,招式表!$C:$O,3,FALSE) -> 分类 | R40: 作用距离： | S40: =VLOOKUP(L40,招式表!$C:$O,10,FALSE) -> 作用距离
B41: 威力骰： | C41: =VLOOKUP(C40,招式表!$C:$O,5,FALSE) -> 威力骰 | E41: 命中骰： | F41: =VLOOKUP(C40,招式表!$C:$O,7,FALSE) -> 命中骰 | G41: EP消耗： | H41: =VLOOKUP(C40,招式表!$C:$O,9,FALSE) -> 消耗 | I41: 优先度： | J41: =VLOOKUP(C40,招式表!$C:$O,11,FALSE) -> 优先度 | K41: 威力骰： | L41: =VLOOKUP(L40,招式表!$C:$O,5,FALSE) -> 威力骰 | N41: 命中骰： | O41: =VLOOKUP(L40,招式表!$C:$O,7,FALSE) -> 命中骰 | P41: EP消耗： | Q41: =VLOOKUP(L40,招式表!$C:$O,9,FALSE) -> 消耗 | R41: 优先度： | S41: =VLOOKUP(L40,招式表!$C:$O,11,FALSE) -> 优先度
B42: 效果： | C42: =VLOOKUP(C40,招式表!$C:$O,12,FALSE) -> 说明 | J42: =VLOOKUP(C40,招式表!$C:$O,13,FALSE) -> 其他分类 | K42: 效果： | L42: =VLOOKUP(L40,招式表!$C:$O,12,FALSE) -> 说明 | S42: =VLOOKUP(L40,招式表!$C:$O,13,FALSE) -> 其他分类
B48: 背景与经历 | L48: 已学习的招式 | P48: 特殊系统招式计算
B49: 形象描述 | P49: 原始招式： | Q49: 名称 | R49: 类别： | S49: =VLOOKUP(Q49,招式表!$C:$O,3,FALSE) -> 分类
P50: 特殊系统： | Q50: Z | R50: 属性： | S50: =VLOOKUP(R51,招式表!$C:$O,2,FALSE) -> 属性
P51: 特殊系统招式： | R51: 名称
B52: 思想/信念
P53: 威力骰： | Q53: =IF(Q50="Z",IFERROR(VLOOKUP(Q49,其它!G56:I127,2,FALSE),LOOKUP(VLOOKUP(Q49,招式表!$C:$O,4,FALSE),其它!G42:G52,其它!H42:H52)),IFERROR(VLOOKUP(Q49,其它!G65:I131,3,FALSE),LOOKUP(VLOOKUP(Q49,招式表!$C:$O,4,FALSE),其它!K42:K49,IF(OR(S50="格斗",S50="毒"),其它!M42:M49,其它!L42:L49)))) -> 4D8
B55: 性格/特质 | P55: 专属威力： | Q55: =IFERROR(VLOOKUP(R51,其它!C62:D79,2,FALSE),"")
P57: EP消耗： | Q57: 8 | R57: 优先度： | S57: 0
...

Sheet 宝可梦 (2)
B2: 基本信息 | J2: 宝可梦基础能力值 | P2: 成长值 | R2: 种族值
E3: 名称： | G3: 性别： | J3: 能力 | K3: 基础 | L3: 变化 | M3: 合计 | N3: 调整 | P3: 体力 | Q3: C | R3: 体力 | S3: =VLOOKUP(F5,编号表!$A:$R,10,FALSE) -> 45
J4: 体力 | K4: =IF(B20="神奇守护",1,INT((((S3/(1+0.01*(MAX(0,S3-120)+0.1)^0.8))*(1+VLOOKUP(Q3,其它!$G$21:$H$28,2,FALSE)/12))/6+2.2+$F$13)*2)) -> 21 | M4: =K4+L4 -> 21 | N4: =INT(M4/3-6) -> 1
E5: 编号： | F5: =INDEX(编号表!$A:$B,MATCH(H5,编号表!$B:$B,0),MATCH("编号",编号表!$A:$A,0)) -> 1 | G5: 种族： | H5: 妙蛙种子 | P5: 攻击 | Q5: C | R5: 攻击 | S5: =VLOOKUP(F5,编号表!$A:$R,11,FALSE) -> 49
B6: 立绘 | J6: 攻击 | K6: =INT(((S5/(1+0.01*(MAX(0,S5-120)+0.1)^0.8))*(1+VLOOKUP(Q5,其它!$G$21:$H$28,2,FALSE)/12))/6+2.2+$F$13) -> 11 | M6: =K6+L6 -> 11 | N6: =INT(M6/2-5) -> 0
E7: 属性： | F7: =VLOOKUP(F5,编号表!$A:$R,3,FALSE) -> 草 | G7: 特性： | H7: 第一特性 | P7: 防御 | Q7: C | R7: 防御 | S7: =VLOOKUP(F5,编号表!$A:$R,12,FALSE) -> 49
F8: =VLOOKUP(F5,编号表!$A:$R,4,FALSE) -> 毒 | H8: =VLOOKUP(F5,编号表!$A:$R,IF(H7="第一特性",5,IF(H7="第二特性",6,7)),FALSE) -> 茂盛 | J8: 防御 | K8: =INT(((S7/(1+0.01*(MAX(0,S7-120)+0.1)^0.8))*(1+VLOOKUP(Q7,其它!$G$21:$H$28,2,FALSE)/12))/6+2.2+$F$13) -> 11 | M8: =K8+L8 -> 11 | N8: =INT(M8/2-5) -> 0
E9: 身高： | F9: =IF(H9="极巨化","？？？",VLOOKUP(F5,编号表!$A:$R,17,FALSE)*VLOOKUP(H9,其它!C22:E30,2,FALSE)) -> 0.7 | G9: 体型差异 | H9: 普通 | P9: 特攻 | Q9: C | R9: 特攻 | S9: =VLOOKUP(F5,编号表!$A:$R,13,FALSE) -> 65
E10: 体重： | F10: =IF(H9="极巨化","？？？",VLOOKUP(F5,编号表!$A:$R,18,FALSE)*VLOOKUP(H9,其它!C22:E30,3,FALSE)) -> 6.9 | G10: 体型等级 | H10: =IF(H9="极巨化","？？？",LOOKUP(((F10+1)*(F9+1)),{0,10,50,450,700,1000},{1,2,3,4,5,6})) -> 2 | J10: 特攻 | K10: =INT(((S9/(1+0.01*(MAX(0,S9-120)+0.1)^0.8))*(1+VLOOKUP(Q9,其它!$G$21:$H$28,2,FALSE)/12))/6+2.2+$F$13) -> 14 | M10: =K10+L10 -> 14 | N10: =INT(M10/2-5) -> 2
E11: 当前HP | G11: 当前EP | H11: 100 | P11: 特防 | Q11: C | R11: 特防 | S11: =VLOOKUP(F5,编号表!$A:$R,14,FALSE) -> 65
F12: =F11/M4 -> 0 | H12: =H11/100 -> 1 | J12: 特防 | K12: =INT(((S11/(1+0.01*(MAX(0,S11-120)+0.1)^0.8))*(1+VLOOKUP(Q11,其它!$G$21:$H$28,2,FALSE)/12))/6+2.2+$F$13) -> 14 | M12: =K12+L12 -> 14 | N12: =INT(M12/2-5) -> 2
E13: 牵绊等级 | F13: 1 | G13: 指挥度 | H13: =LOOKUP(F13,{0,1,2,3,4,5,6,7,8,9,10},{5,5,6,6,7,7,8,9,10,10,10}) -> 5 | P13: 速度 | Q13: C | R13: 速度 | S13: =VLOOKUP(F5,编号表!$A:$R,15,FALSE) -> 45
J14: 速度 | K14: =INT(((S13/(1+0.01*(MAX(0,S13-120)+0.1)^0.8))*(1+VLOOKUP(Q13,其它!$G$21:$H$28,2,FALSE)/12))/6+2.2+$F$13) -> 10 | M14: =K14+L14 -> 10 | N14: =INT(M14/2-5) -> 0
E15: 极巨类型 | F15: 极巨化 | G15: 移动力 | H15: =INT(IF(N14<0,1,(IF(N14>4,N14/2+0.5,2)))) -> 2 | R15: 总和： | S15: =S3+S5+S7+S9+S11+S13 -> 318
E16: 太晶属性 | F16: 星晶
E17: 球种： | G17: 训练家： | P17: 宝可梦备注栏
J18: 闪避与命中能力值
B19: 特性效果 | C19: =VLOOKUP(B20,特性表!B:C,2,FALSE) -> HP低于1/3时，草属性招式的威力骰出目+3。 | J19: 属性 | K19: 基础 | L19: 变化 | M19: 速度加值 | N19: 最终值
B20: =H8 -> 茂盛 | J20: 闪避 | K20: 6 | M20: =INT(IF(M14>18,M14/3-6,0)) -> 0 | N20: =SUM(K20:L21,M20) -> 6
B22: 携带物： | C22: 物品 | D22: 效果 | J22: 命中 | K22: 0 | N22: =SUM(K22:L23,M20) -> 0
B26: 战斗招式
B27: 名称： | C27: 名称 | E27: 属性： | F27: =IF(C27="觉醒力量",VLOOKUP(FLOOR((MOD(VLOOKUP(Q3,其它!G21:H28,2,FALSE),2)+2*MOD(VLOOKUP(Q5,其它!G21:H28,2,FALSE),2)+4*MOD(VLOOKUP(Q7,其它!G21:H28,2,FALSE),2)+8*MOD(VLOOKUP(Q13,其它!G21:H28,2,FALSE),2)+16*MOD(VLOOKUP(Q9,其它!G21:H28,2,FALSE),2)+32*MOD(VLOOKUP(Q11,其它!G21:H28,2,FALSE),2))*15/63,1),其它!J22:K38,2,1),VLOOKUP(C27,招式表!$C:$O,2,FALSE)) -> 属性 | G27: 分类： | H27: =VLOOKUP(C27,招式表!$C:$O,3,FALSE) -> 分类 | I27: 作用距离： | J27: =VLOOKUP(C27,招式表!$C:$O,10,FALSE) -> 作用距离 | K27: 名称： | L27: 名称 | N27: 属性： | O27: =IF(L27="觉醒力量",VLOOKUP(FLOOR((MOD(VLOOKUP(Z3,其它!#REF!,2,FALSE),2)+2*MOD(VLOOKUP(Z5,其它!#REF!,2,FALSE),2)+4*MOD(VLOOKUP(Z7,其它!#REF!,2,FALSE),2)+8*MOD(VLOOKUP(Z13,其它!#REF!,2,FALSE),2)+16*MOD(VLOOKUP(Z9,其它!#REF!,2,FALSE),2)+32*MOD(VLOOKUP(Z11,其它!#REF!,2,FALSE),2))*15/63,1),其它!AC41:AD57,2,1),VLOOKUP(L27,招式表!$C:$O,2,FALSE)) -> 属性 | P27: 分类： | Q27: =VLOOKUP(L27,招式表!$C:$O,3,FALSE) -> 分类 | R27: 作用距离： | S27: =VLOOKUP(L27,招式表!$C:$O,10,FALSE) -> 作用距离
B28: 威力骰： | C28: =VLOOKUP(C27,招式表!$C:$O,5,FALSE) -> 威力骰 | E28: 命中骰： | F28: =VLOOKUP(C27,招式表!$C:$O,7,FALSE) -> 命中骰 | G28: EP消耗： | H28: =VLOOKUP(C27,招式表!$C:$O,9,FALSE) -> 消耗 | I28: 优先度： | J28: =VLOOKUP(C27,招式表!$C:$O,11,FALSE) -> 优先度 | K28: 威力骰： | L28: =VLOOKUP(L27,招式表!$C:$O,5,FALSE) -> 威力骰 | N28: 命中骰： | O28: =VLOOKUP(L27,招式表!$C:$O,7,FALSE) -> 命中骰 | P28: EP消耗： | Q28: =VLOOKUP(L27,招式表!$C:$O,9,FALSE) -> 消耗 | R28: 优先度： | S28: =VLOOKUP(L27,招式表!$C:$O,11,FALSE) -> 优先度
B29: 效果： | C29: =VLOOKUP(C27,招式表!$C:$O,12,FALSE) -> 说明 | J29: =VLOOKUP(C27,招式表!$C:$O,13,FALSE) -> 其他分类 | K29: 效果： | L29: =VLOOKUP(L27,招式表!$C:$O,12,FALSE) -> 说明 | S29: =VLOOKUP(L27,招式表!$C:$O,13,FALSE) -> 其他分类
B32: 其他分类： | K32: 其他分类：
B33: 名称： | C33: 名称 | E33: 属性： | F33: =IF(C33="觉醒力量",VLOOKUP(FLOOR((MOD(VLOOKUP(Q7,其它!#REF!,2,FALSE),2)+2*MOD(VLOOKUP(Q9,其它!#REF!,2,FALSE),2)+4*MOD(VLOOKUP(Q11,其它!#REF!,2,FALSE),2)+8*MOD(VLOOKUP(#REF!,其它!#REF!,2,FALSE),2)+16*MOD(VLOOKUP(Q13,其它!#REF!,2,FALSE),2)+32*MOD(VLOOKUP(#REF!,其它!#REF!,2,FALSE),2))*15/63,1),其它!T45:U61,2,1),VLOOKUP(C33,招式表!$C:$O,2,FALSE)) -> 属性 | G33: 分类： | H33: =VLOOKUP(C33,招式表!$C:$O,3,FALSE) -> 分类 | I33: 作用距离： | J33: =VLOOKUP(C33,招式表!$C:$O,10,FALSE) -> 作用距离 | K33: 名称： | L33: 名称 | N33: 属性： | O33: =IF(L33="觉醒力量",VLOOKUP(FLOOR((MOD(VLOOKUP(Z7,其它!#REF!,2,FALSE),2)+2*MOD(VLOOKUP(Z9,其它!#REF!,2,FALSE),2)+4*MOD(VLOOKUP(Z11,其它!#REF!,2,FALSE),2)+8*MOD(VLOOKUP(Z17,其它!#REF!,2,FALSE),2)+16*MOD(VLOOKUP(Z13,其它!#REF!,2,FALSE),2)+32*MOD(VLOOKUP(Z15,其它!#REF!,2,FALSE),2))*15/63,1),其它!AC45:AD61,2,1),VLOOKUP(L33,招式表!$C:$O,2,FALSE)) -> 属性 | P33: 分类： | Q33: =VLOOKUP(L33,招式表!$C:$O,3,FALSE) -> 分类 | R33: 作用距离： | S33: =VLOOKUP(L33,招式表!$C:$O,10,FALSE) -> 作用距离
B34: 威力骰： | C34: =VLOOKUP(C33,招式表!$C:$O,5,FALSE) -> 威力骰 | E34: 命中骰： | F34: =VLOOKUP(C33,招式表!$C:$O,7,FALSE) -> 命中骰 | G34: EP消耗： | H34: =VLOOKUP(C33,招式表!$C:$O,9,FALSE) -> 消耗 | I34: 优先度： | J34: =VLOOKUP(C33,招式表!$C:$O,11,FALSE) -> 优先度 | K34: 威力骰： | L34: =VLOOKUP(L33,招式表!$C:$O,5,FALSE) -> 威力骰 | N34: 命中骰： | O34: =VLOOKUP(L33,招式表!$C:$O,7,FALSE) -> 命中骰 | P34: EP消耗： | Q34: =VLOOKUP(L33,招式表!$C:$O,9,FALSE) -> 消耗 | R34: 优先度： | S34: =VLOOKUP(L33,招式表!$C:$O,11,FALSE) -> 优先度
B35: 效果： | C35: =VLOOKUP(C33,招式表!$C:$O,12,FALSE) -> 说明 | J35: =VLOOKUP(C33,招式表!$C:$O,13,FALSE) -> 其他分类 | K35: 效果： | L35: =VLOOKUP(L33,招式表!$C:$O,12,FALSE) -> 说明 | S35: =VLOOKUP(L33,招式表!$C:$O,13,FALSE) -> 其他分类
B39: 额外招式
B40: 名称： | C40: 名称 | E40: 属性： | F40: =IF(C40="觉醒力量",VLOOKUP(FLOOR((MOD(VLOOKUP(Q12,其它!#REF!,2,FALSE),2)+2*MOD(VLOOKUP(Q14,其它!#REF!,2,FALSE),2)+4*MOD(VLOOKUP(Q15,其它!#REF!,2,FALSE),2)+8*MOD(VLOOKUP(H14,其它!#REF!,2,FALSE),2)+16*MOD(VLOOKUP(Q17,其它!#REF!,2,FALSE),2)+32*MOD(VLOOKUP(H12,其它!#REF!,2,FALSE),2))*15/63,1),其它!T50:U66,2,1),VLOOKUP(C40,招式表!$C:$O,2,FALSE)) -> 属性 | G40: 分类： | H40: =VLOOKUP(C40,招式表!$C:$O,3,FALSE) -> 分类 | I40: 作用距离： | J40: =VLOOKUP(C40,招式表!$C:$O,10,FALSE) -> 作用距离 | K40: 名称： | L40: 名称 | N40: 属性： | O40: =IF(L40="觉醒力量",VLOOKUP(FLOOR((MOD(VLOOKUP(Z12,其它!#REF!,2,FALSE),2)+2*MOD(VLOOKUP(Z14,其它!#REF!,2,FALSE),2)+4*MOD(VLOOKUP(Z16,其它!#REF!,2,FALSE),2)+8*MOD(VLOOKUP(Z22,其它!#REF!,2,FALSE),2)+16*MOD(VLOOKUP(Z18,其它!#REF!,2,FALSE),2)+32*MOD(VLOOKUP(Z20,其它!#REF!,2,FALSE),2))*15/63,1),其它!AC50:AD66,2,1),VLOOKUP(L40,招式表!$C:$O,2,FALSE)) -> 属性 | P40: 分类： | Q40: =VLOOKUP(L40,招式表!$C:$O,3,FALSE) -> 分类 | R40: 作用距离： | S40: =VLOOKUP(L40,招式表!$C:$O,10,FALSE) -> 作用距离
B41: 威力骰： | C41: =VLOOKUP(C40,招式表!$C:$O,5,FALSE) -> 威力骰 | E41: 命中骰： | F41: =VLOOKUP(C40,招式表!$C:$O,7,FALSE) -> 命中骰 | G41: EP消耗： | H41: =VLOOKUP(C40,招式表!$C:$O,9,FALSE) -> 消耗 | I41: 优先度： | J41: =VLOOKUP(C40,招式表!$C:$O,11,FALSE) -> 优先度 | K41: 威力骰： | L41: =VLOOKUP(L40,招式表!$C:$O,5,FALSE) -> 威力骰 | N41: 命中骰： | O41: =VLOOKUP(L40,招式表!$C:$O,7,FALSE) -> 命中骰 | P41: EP消耗： | Q41: =VLOOKUP(L40,招式表!$C:$O,9,FALSE) -> 消耗 | R41: 优先度： | S41: =VLOOKUP(L40,招式表!$C:$O,11,FALSE) -> 优先度
B42: 效果： | C42: =VLOOKUP(C40,招式表!$C:$O,12,FALSE) -> 说明 | J42: =VLOOKUP(C40,招式表!$C:$O,13,FALSE) -> 其他分类 | K42: 效果： | L42: =VLOOKUP(L40,招式表!$C:$O,12,FALSE) -> 说明 | S42: =VLOOKUP(L40,招式表!$C:$O,13,FALSE) -> 其他分类
B48: 背景与经历 | L48: 已学习的招式 | P48: 特殊系统招式计算
B49: 形象描述 | P49: 原始招式： | Q49: 名称 | R49: 类别： | S49: =VLOOKUP(Q49,招式表!$C:$O,3,FALSE) -> 分类
P50: 特殊系统： | Q50: Z | R50: 属性： | S50: =VLOOKUP(R51,招式表!$C:$O,2,FALSE) -> 属性
P51: 特殊系统招式： | R51: 名称
B52: 思想/信念
P53: 威力骰： | Q53: =IF(Q50="Z",IFERROR(VLOOKUP(Q49,其它!G56:I127,2,FALSE),LOOKUP(VLOOKUP(Q49,招式表!$C:$O,4,FALSE),其它!G42:G52,其它!H42:H52)),IFERROR(VLOOKUP(Q49,其它!G65:I131,3,FALSE),LOOKUP(VLOOKUP(Q49,招式表!$C:$O,4,FALSE),其它!K42:K49,IF(OR(S50="格斗",S50="毒"),其它!M42:M49,其它!L42:L49)))) -> 4D8
B55: 性格/特质 | P55: 专属威力： | Q55: =IFERROR(VLOOKUP(R51,其它!C62:D79,2,FALSE),"")
P57: EP消耗： | Q57: 8 | R57: 优先度： | S57: 0
...

Sheet 宝可梦仓库与快捷卡
A1: 名称 | B1: 编号 | C1: 种族 | D1: 性别 | E1: 特性编号 | F1: 体型差异 | G1: 牵绊等级 | H1: 极巨类型 | I1: 太晶属性 | J1: 球种 | K1: 携带物 | L1: 体力成长 | M1: 攻击成长 | N1: 防御成长 | O1: 特攻成长 | P1: 特防成长 | Q1: 速度成长 | R1: 已学招式 | S1: 形象描述 | T1: 思想信念 | U1: 性格特质 | V1: 背景经历 | X1: 基本信息 | AE1: 能力 | AF1: 成长 | AG1: 基础 | AH1: 变化 | AI1: 合计 | AJ1: 调整 | AL1: 闪避与命中
X2: 名称： | Z2: 编号： | AA2: =VLOOKUP(Y2,A:V,2,FALSE) -> #N/A | AB2: 属性： | AC2: =VLOOKUP(AA2,编号表!$A:$R,3,FALSE) -> #N/A | AE2: 体力 | AF2: =VLOOKUP(Y2,A:V,12,FALSE) -> #N/A | AG2: =INT((((VLOOKUP(AA2,编号表!$A:$R,10,FALSE)/(1+0.01*(MAX(0,VLOOKUP(AA2,编号表!$A:$R,10,FALSE)-120)+0.1)^0.8))*(1+VLOOKUP(AF2,其它!$G$21:$H$28,2,FALSE)/12))/6+2.2+$Y$8)*2) -> #N/A | AI2: =AG2+AH2 -> #N/A | AJ2: =INT(AI2/3-6) -> #N/A | AL2: 属性 | AM2: 基础 | AN2: 变化 | AO2: 最终值
Z3: 种族： | AA3: =VLOOKUP(AA2,编号表!A:W,2,FALSE) -> #N/A | AC3: =VLOOKUP(AA2,编号表!$A:$R,4,FALSE) -> #N/A | AL3: 闪避 | AM3: =INT(IF(AI12>18,AI12/3,6)) -> #N/A | AO3: =SUM(AM3:AN4) -> #N/A
X4: 性别： | Y4: =VLOOKUP(Y2,A:V,4,FALSE) -> #N/A | Z4: 体型差异 | AA4: =VLOOKUP(Y2,A:V,6,FALSE) -> #N/A | AB4: 极巨类型 | AC4: =VLOOKUP(Y2,A:V,8,FALSE) -> #N/A | AE4: 攻击 | AF4: =VLOOKUP(Y2,A:V,13,FALSE) -> #N/A | AG4: =INT(((VLOOKUP(AA2,编号表!$A:$R,11,FALSE)/(1+0.01*(MAX(0,VLOOKUP(AA2,编号表!$A:$R,11,FALSE)-120)+0.1)^0.8))*(1+VLOOKUP(AF4,其它!$G$21:$H$28,2,FALSE)/12))/6+2.2+$Y$8) -> #N/A | AI4: =AG4+AH4 -> #N/A | AJ4: =INT(AI4/2-5) -> #N/A
Z5: 体型等级 | AA5: =IF(AA4="极巨化","？？？",LOOKUP(((VLOOKUP(AA2,编号表!$A:$R,18,FALSE)*VLOOKUP(AA4,其它!C22:E30,3,FALSE)+1)*(VLOOKUP(AA2,编号表!$A:$R,17,FALSE)*VLOOKUP(AA4,其它!C22:E30,2,FALSE)+1)),{0,10,50,450,700,1000},{1,2,3,4,5,6})) -> #N/A | AB5: 太晶属性 | AC5: =VLOOKUP(Y2,A:V,9,FALSE) -> #N/A | AL5: 命中 | AM5: =INT(IF(AI12>18,AI12/3-6,0)) -> #N/A | AO5: =SUM(AM5:AN6) -> #N/A
X6: 特性： | Y6: =VLOOKUP(AA2,编号表!$A:$R,IF(VLOOKUP(Y2,A:V,5,FALSE)=1,5,IF(VLOOKUP(Y2,A:V,5,FALSE)=2,6,7)),FALSE) -> #N/A | Z6: 当前HP | AB6: 当前EP | AE6: 防御 | AF6: =VLOOKUP(Y2,A:V,14,FALSE) -> #N/A | AG6: =INT(((VLOOKUP(AA2,编号表!$A:$R,12,FALSE)/(1+0.01*(MAX(0,VLOOKUP(AA2,编号表!$A:$R,12,FALSE)-120)+0.1)^0.8))*(1+VLOOKUP(AF6,其它!$G$21:$H$28,2,FALSE)/12))/6+2.2+$Y$8) -> #N/A | AI6: =AG6+AH6 -> #N/A | AJ6: =INT(AI6/2-5) -> #N/A
AA7: =AA6/AI2 -> #N/A
X8: 牵绊： | Y8: =VLOOKUP(Y2,A:V,7,FALSE) -> #N/A | Z8: 指挥度 | AA8: =LOOKUP(Y8,{0,1,2,3,4,5,6,7,8,9,10},{5,5,6,6,7,7,8,9,10,10,10}) -> #N/A | AB8: 移动力 | AC8: =INT(IF(AJ12<0,1,(IF(AJ12>4,AJ12/2+0.5,2)))) -> #N/A | AE8: 特攻 | AF8: =VLOOKUP(Y2,A:V,15,FALSE) -> #N/A | AG8: =INT(((VLOOKUP(AA2,编号表!$A:$R,13,FALSE)/(1+0.01*(MAX(0,VLOOKUP(AA2,编号表!$A:$R,13,FALSE)-120)+0.1)^0.8))*(1+VLOOKUP(AF8,其它!$G$21:$H$28,2,FALSE)/12))/6+2.2+$Y$8) -> #N/A | AI8: =AG8+AH8 -> #N/A | AJ8: =INT(AI8/2-5) -> #N/A | AL8: 其它
AL9: 道具 | AM9: =VLOOKUP(Y2,A:V,11,FALSE) -> #N/A
X10: 特性效果 | Y10: =VLOOKUP(Y6,特性表!B:C,2,FALSE) -> #N/A | AE10: 特防 | AF10: =VLOOKUP(Y2,A:V,16,FALSE) -> #N/A | AG10: =INT(((VLOOKUP(AA2,编号表!$A:$R,14,FALSE)/(1+0.01*(MAX(0,VLOOKUP(AA2,编号表!$A:$R,14,FALSE)-120)+0.1)^0.8))*(1+VLOOKUP(AF10,其它!$G$21:$H$28,2,FALSE)/12))/6+2.2+$Y$8) -> #N/A | AI10: =AG10+AH10 -> #N/A | AJ10: =INT(AI10/2-5) -> #N/A
AE12: 速度 | AF12: =VLOOKUP(Y2,A:V,16,FALSE) -> #N/A | AG12: =INT(((VLOOKUP(AA2,编号表!$A:$R,15,FALSE)/(1+0.01*(MAX(0,VLOOKUP(AA2,编号表!$A:$R,15,FALSE)-120)+0.1)^0.8))*(1+VLOOKUP(AF12,其它!$G$21:$H$28,2,FALSE)/12))/6+2.2+$Y$8) -> #N/A | AI12: =AG12+AH12 -> #N/A | AJ12: =INT(AI12/2-5) -> #N/A
X16: 战斗招式
X17: 名称： | Y17: 名称 | AA17: 属性： | AB17: =IF(Y17="觉醒力量",VLOOKUP(FLOOR((MOD(VLOOKUP(#REF!,其它!AC11:AD18,2,FALSE),2)+2*MOD(VLOOKUP(#REF!,其它!AC11:AD18,2,FALSE),2)+4*MOD(VLOOKUP(#REF!,其它!AC11:AD18,2,FALSE),2)+8*MOD(VLOOKUP(AM3,其它!AC11:AD18,2,FALSE),2)+16*MOD(VLOOKUP(#REF!,其它!AC11:AD18,2,FALSE),2)+32*MOD(VLOOKUP(AM1,其它!AC11:AD18,2,FALSE),2))*15/63,1),其它!AF12:AG28,2,1),VLOOKUP(Y17,招式表!$C:$O,2,FALSE)) -> 属性 | AC17: 分类： | AD17: =VLOOKUP(Y17,招式表!$C:$O,3,FALSE) -> 分类 | AE17: 作用距离： | AF17: =VLOOKUP(Y17,招式表!$C:$O,10,FALSE) -> 作用距离 | AG17: 名称： | AH17: 名称 | AJ17: 属性： | AK17: =IF(AH17="觉醒力量",VLOOKUP(FLOOR((MOD(VLOOKUP(#REF!,其它!#REF!,2,FALSE),2)+2*MOD(VLOOKUP(#REF!,其它!#REF!,2,FALSE),2)+4*MOD(VLOOKUP(#REF!,其它!#REF!,2,FALSE),2)+8*MOD(VLOOKUP(AV3,其它!#REF!,2,FALSE),2)+16*MOD(VLOOKUP(#REF!,其它!#REF!,2,FALSE),2)+32*MOD(VLOOKUP(AV1,其它!#REF!,2,FALSE),2))*15/63,1),其它!AY31:AZ47,2,1),VLOOKUP(AH17,招式表!$C:$O,2,FALSE)) -> 属性 | AL17: 分类： | AM17: =VLOOKUP(AH17,招式表!$C:$O,3,FALSE) -> 分类 | AN17: 作用距离： | AO17: =VLOOKUP(AH17,招式表!$C:$O,10,FALSE) -> 作用距离
X18: 威力骰： | Y18: =VLOOKUP(Y17,招式表!$C:$O,5,FALSE) -> 威力骰 | AA18: 命中骰： | AB18: =VLOOKUP(Y17,招式表!$C:$O,7,FALSE) -> 命中骰 | AC18: EP消耗： | AD18: =VLOOKUP(Y17,招式表!$C:$O,9,FALSE) -> 消耗 | AE18: 优先度： | AF18: =VLOOKUP(Y17,招式表!$C:$O,11,FALSE) -> 优先度 | AG18: 威力骰： | AH18: =VLOOKUP(AH17,招式表!$C:$O,5,FALSE) -> 威力骰 | AJ18: 命中骰： | AK18: =VLOOKUP(AH17,招式表!$C:$O,7,FALSE) -> 命中骰 | AL18: EP消耗： | AM18: =VLOOKUP(AH17,招式表!$C:$O,9,FALSE) -> 消耗 | AN18: 优先度： | AO18: =VLOOKUP(AH17,招式表!$C:$O,11,FALSE) -> 优先度
X19: 效果： | Y19: =VLOOKUP(Y17,招式表!$C:$O,12,FALSE) -> 说明 | AF19: =VLOOKUP(Y17,招式表!$C:$O,13,FALSE) -> 其他分类 | AG19: 效果： | AH19: =VLOOKUP(AH17,招式表!$C:$O,12,FALSE) -> 说明 | AO19: =VLOOKUP(AH17,招式表!$C:$O,13,FALSE) -> 其他分类
X22: 其他分类： | AG22: 其他分类：
X23: 名称： | Y23: 名称 | AA23: 属性： | AB23: =IF(Y23="觉醒力量",VLOOKUP(FLOOR((MOD(VLOOKUP(#REF!,其它!#REF!,2,FALSE),2)+2*MOD(VLOOKUP(#REF!,其它!#REF!,2,FALSE),2)+4*MOD(VLOOKUP(AM1,其它!#REF!,2,FALSE),2)+8*MOD(VLOOKUP(#REF!,其它!#REF!,2,FALSE),2)+16*MOD(VLOOKUP(AM3,其它!#REF!,2,FALSE),2)+32*MOD(VLOOKUP(#REF!,其它!#REF!,2,FALSE),2))*15/63,1),其它!AP35:AQ51,2,1),VLOOKUP(Y23,招式表!$C:$O,2,FALSE)) -> 属性 | AC23: 分类： | AD23: =VLOOKUP(Y23,招式表!$C:$O,3,FALSE) -> 分类 | AE23: 作用距离： | AF23: =VLOOKUP(Y23,招式表!$C:$O,10,FALSE) -> 作用距离 | AG23: 名称： | AH23: 名称 | AJ23: 属性： | AK23: =IF(AH23="觉醒力量",VLOOKUP(FLOOR((MOD(VLOOKUP(#REF!,其它!#REF!,2,FALSE),2)+2*MOD(VLOOKUP(#REF!,其它!#REF!,2,FALSE),2)+4*MOD(VLOOKUP(AV1,其它!#REF!,2,FALSE),2)+8*MOD(VLOOKUP(AV7,其它!#REF!,2,FALSE),2)+16*MOD(VLOOKUP(AV3,其它!#REF!,2,FALSE),2)+32*MOD(VLOOKUP(AV5,其它!#REF!,2,FALSE),2))*15/63,1),其它!AY35:AZ51,2,1),VLOOKUP(AH23,招式表!$C:$O,2,FALSE)) -> 属性 | AL23: 分类： | AM23: =VLOOKUP(AH23,招式表!$C:$O,3,FALSE) -> 分类 | AN23: 作用距离： | AO23: =VLOOKUP(AH23,招式表!$C:$O,10,FALSE) -> 作用距离
X24: 威力骰： | Y24: =VLOOKUP(Y23,招式表!$C:$O,5,FALSE) -> 威力骰 | AA24: 命中骰： | AB24: =VLOOKUP(Y23,招式表!$C:$O,7,FALSE) -> 命中骰 | AC24: EP消耗： | AD24: =VLOOKUP(Y23,招式表!$C:$O,9,FALSE) -> 消耗 | AE24: 优先度： | AF24: =VLOOKUP(Y23,招式表!$C:$O,11,FALSE) -> 优先度 | AG24: 威力骰： | AH24: =VLOOKUP(AH23,招式表!$C:$O,5,FALSE) -> 威力骰 | AJ24: 命中骰： | AK24: =VLOOKUP(AH23,招式表!$C:$O,7,FALSE) -> 命中骰 | AL24: EP消耗： | AM24: =VLOOKUP(AH23,招式表!$C:$O,9,FALSE) -> 消耗 | AN24: 优先度： | AO24: =VLOOKUP(AH23,招式表!$C:$O,11,FALSE) -> 优先度
X25: 效果： | Y25: =VLOOKUP(Y23,招式表!$C:$O,12,FALSE) -> 说明 | AF25: =VLOOKUP(Y23,招式表!$C:$O,13,FALSE) -> 其他分类 | AG25: 效果： | AH25: =VLOOKUP(AH23,招式表!$C:$O,12,FALSE) -> 说明 | AO25: =VLOOKUP(AH23,招式表!$C:$O,13,FALSE) -> 其他分类
X31: 背景与经历 | AH31: 已学习的招式 | AL31: 特殊系统招式计算
X32: 形象描述 | Y32: =VLOOKUP(Y2,A:V,19,FALSE) -> #N/A | AH32: =VLOOKUP(Y2,A:V,18,FALSE) -> #N/A | AL32: 原始招式： | AM32: 名称 | AN32: 类别： | AO32: =VLOOKUP(AM32,招式表!$C:$N,3,FALSE) -> 分类
AL33: 特殊系统： | AM33: Z | AN33: 属性： | AO33: =VLOOKUP(AN34,招式表!$C:$N,2,FALSE) -> 属性
AL34: 特殊系统招式： | AN34: 名称
X35: 思想/信念 | Y35: =VLOOKUP(Y2,A:V,20,FALSE) -> #N/A
AL36: 威力骰： | AM36: =IF(AM33="Z",IFERROR(VLOOKUP(AM32,其它!G56:I127,2,FALSE),LOOKUP(VLOOKUP(AM32,招式表!$C:$N,4,FALSE),其它!G42:G52,其它!H42:H52)),IFERROR(VLOOKUP(AM32,其它!G65:I131,3,FALSE),LOOKUP(VLOOKUP(AM32,招式表!$C:$N,4,FALSE),其它!K42:K49,IF(OR(AO33="格斗",AO33="毒"),其它!M42:M49,其它!L42:L49)))) -> 4D8
X38: 性格/特质 | Y38: =VLOOKUP(Y2,A:V,21,FALSE) -> #N/A | AL38: 专属威力： | AM38: =IFERROR(VLOOKUP(AN34,其它!C62:D79,2,FALSE),"")
AL40: 消耗： | AM40: 8 | AN40: 优先度： | AO40: 0
X41: 背景/经历 | Y41: =VLOOKUP(Y2,A:V,22,FALSE) -> #N/A | AL41: 命中骰： | AM41: 必中 | AN41: 作用距离： | AO41: 10
AL42: 效果： | AM42: =VLOOKUP(AN34,招式表!$C:$N,12,FALSE) -> 说明
X50: 快捷克制查询 | AH50: 首付概率计算器 | AM50: HP快捷计算
X51: 一般 | Y51: 格斗 | Z51: 飞行 | AA51: 毒 | AB51: 地面 | AC51: 岩石 | AD51: 虫 | AE51: 幽灵 | AF51: 钢 | AH51: 当前HP： | AI51: 球种修正 | AJ51: 精灵球 | AK51: =VLOOKUP(AJ51,其它!T3:U38,2,FALSE) -> 1 | AM51: 1/8HP | AN51: 1/6HP | AO51: 1/4HP
X52: =VLOOKUP($AC$2,其它!$AA$23:$AS$42,2,FALSE)*VLOOKUP($AC$3,其它!$AA$23:$AS$42,2,FALSE) -> #N/A | Y52: =VLOOKUP($AC$2,其它!$AA$23:$AS$42,3,FALSE)*VLOOKUP($AC$3,其它!$AA$23:$AS$42,3,FALSE) -> #N/A | Z52: =VLOOKUP($AC$2,其它!$AA$23:$AS$42,4,FALSE)*VLOOKUP($AC$3,其它!$AA$23:$AS$42,4,FALSE) -> #N/A | AA52: =VLOOKUP($AC$2,其它!$AA$23:$AS$42,5,FALSE)*VLOOKUP($AC$3,其它!$AA$23:$AS$42,5,FALSE) -> #N/A | AB52: =VLOOKUP($AC$2,其它!$AA$23:$AS$42,6,FALSE)*VLOOKUP($AC$3,其它!$AA$23:$AS$42,6,FALSE)*IF(OR(Y6="飘浮",Y6="食土"),0,1) -> #N/A | AC52: =VLOOKUP($AC$2,其它!$AA$23:$AS$42,7,FALSE)*VLOOKUP($AC$3,其它!$AA$23:$AS$42,7,FALSE) -> #N/A | AD52: =VLOOKUP($AC$2,其它!$AA$23:$AS$42,8,FALSE)*VLOOKUP($AC$3,其它!$AA$23:$AS$42,8,FALSE) -> #N/A | AE52: =VLOOKUP($AC$2,其它!$AA$23:$AS$42,9,FALSE)*VLOOKUP($AC$3,其它!$AA$23:$AS$42,9,FALSE)*IF(Y6="洁净之盐",0.5,1) -> #N/A | AF52: =VLOOKUP($AC$2,其它!$AA$23:$AS$42,10,FALSE)*VLOOKUP($AC$3,其它!$AA$23:$AS$42,10,FALSE) -> #N/A | AH52: =AA6 -> 0 | AI52: 状态修正 | AJ52: 正常 | AK52: =IF(AJ52="正常",1,IF(AJ52="冰冻",2,IF(AJ52="睡眠",2,IF(AJ52="中毒",1.5,IF(AJ52="麻痹",1.5,IF(AJ52="灼伤",1.5,0)))))) -> 1 | AM52: =INT(IF(AG2>8,(AG2/8),1)) -> #N/A | AN52: =INT(IF(AG2>6,(AG2/6),1)) -> #N/A | AO52: =INT(IF(AG2>4,(AG2/4),1)) -> #N/A
X53: 火 | Y53: 水 | Z53: 草 | AA53: 电 | AB53: 超能力 | AC53: 冰 | AD53: 龙 | AE53: 恶 | AF53: 妖精 | AH53: 捕获率 | AI53: =VLOOKUP(AA2,编号表!$A:$R,16,FALSE) -> #N/A | AJ53: 收服概率 | AK53: =(((AG2*3-AH52*2)*AI53*AK51)/(AG2*3)*AK52)/255 -> #N/A | AM53: 1/3HP | AN53: 1/2HP | AO53: 2/3HP
X54: =VLOOKUP($AC$2,其它!$AA$23:$AS$42,11,FALSE)*VLOOKUP($AC$3,其它!$AA$23:$AS$42,11,FALSE)*IF(Y6="引火",0,1)*IF(OR(Y6="厚脂肪",Y6="水泡",Y6="耐热"),0.5,1)*IF(Y6="毛茸茸",2,1) -> #N/A | Y54: =VLOOKUP($AC$2,其它!$AA$23:$AS$42,12,FALSE)*VLOOKUP($AC$3,其它!$AA$23:$AS$42,12,FALSE)*IF(OR(Y6="储水",Y6="引水",Y6="干燥皮肤"),0,1) -> #N/A | Z54: =VLOOKUP($AC$2,其它!$AA$23:$AS$42,13,FALSE)*VLOOKUP($AC$3,其它!$AA$23:$AS$42,13,FALSE)*IF(Y6="食草",0,1) -> #N/A | AA54: =VLOOKUP($AC$2,其它!$AA$23:$AS$42,14,FALSE)*VLOOKUP($AC$3,其它!$AA$23:$AS$42,14,FALSE)*IF(OR(Y6="避雷针",Y6="蓄电",Y6="电气引擎"),0,1) -> #N/A | AB54: =VLOOKUP($AC$2,其它!$AA$23:$AS$42,15,FALSE)*VLOOKUP($AC$3,其它!$AA$23:$AS$42,15,FALSE) -> #N/A | AC54: =VLOOKUP($AC$2,其它!$AA$23:$AS$42,16,FALSE)*VLOOKUP($AC$3,其它!$AA$23:$AS$42,16,FALSE) -> #N/A | AD54: =VLOOKUP($AC$2,其它!$AA$23:$AS$42,17,FALSE)*VLOOKUP($AC$3,其它!$AA$23:$AS$42,17,FALSE) -> #N/A | AE54: =VLOOKUP($AC$2,其它!$AA$23:$AS$42,18,FALSE)*VLOOKUP($AC$3,其它!$AA$23:$AS$42,18,FALSE) -> #N/A | AF54: =VLOOKUP($AC$2,其它!$AA$23:$AS$42,19,FALSE)*VLOOKUP($AC$3,其它!$AA$23:$AS$42,19,FALSE) -> #N/A | AK54: ="DC"&21-INT(AK53/0.05) -> #N/A | AM54: =INT(IF(AG2>3,(AG2/3),1)) -> #N/A | AN54: =INT(IF(AG2>2,(AG2/2),1)) -> #N/A | AO54: =INT(IF(AG2>1.5,(AG2/1.5),1)) -> #N/A
X57: 升级招式 | Y57: 消耗 | Z57: 可学习 | AB57: 招式学习器 | AC57: 消耗 | AD57: 技能机招式 | AE57: 消耗 | AF57: 技能机招式 | AG57: 消耗 | AI57: 蛋招式 | AJ57: 消耗 | AK57: 教学招式 | AL57: 消耗 | AM57: 其他招式 | AN57: 消耗
X58: =IFERROR(VLOOKUP(MID(SUBSTITUTE(VLOOKUP($AA$2,编号表!$A:$W,19,FALSE),",",""),(ROW(X58)-ROW($X$58))*4+1,4),招式表!$A:$C,3,FALSE),"") | Y58: =IFERROR(VLOOKUP(X58,招式表!$C:$N,9,FALSE),"") | Z58: =IF($AA$8>Y58,"是","") -> #N/A | AB58: =IFERROR(VLOOKUP(MID(SUBSTITUTE(VLOOKUP($AA$2,编号表!$A:$W,20,FALSE),",",""),(ROW(AB58)-ROW($AB$58))*4+1,4),招式表!$A:$C,3,FALSE),"") | AC58: =IFERROR(VLOOKUP(AB58,招式表!$C:$N,9,FALSE),"") | AD58: =IFERROR(VLOOKUP(MID(SUBSTITUTE(VLOOKUP($AA$2,编号表!$A:$W,20,FALSE),",",""),(ROW(AD58)-ROW($AB$58)+50)*4+1,4),招式表!$A:$C,3,FALSE),"") | AE58: =IFERROR(VLOOKUP(AD58,招式表!$C:$N,9,FALSE),"") | AF58: =IFERROR(VLOOKUP(MID(SUBSTITUTE(VLOOKUP($AA$2,编号表!$A:$W,20,FALSE),",",""),(ROW(AF58)-ROW($AF$58)+100)*4+1,4),招式表!$A:$C,3,FALSE),"") | AG58: =IFERROR(VLOOKUP(AF58,招式表!$C:$N,9,FALSE),"") | AI58: =IFERROR(VLOOKUP(MID(SUBSTITUTE(VLOOKUP($AA$2,编号表!$A:$W,21,FALSE),",",""),(ROW(AI58)-ROW($AI$58))*4+1,4),招式表!$A:$C,3,FALSE),"") | AJ58: =IFERROR(VLOOKUP(AI58,招式表!$C:$N,9,FALSE),"") | AK58: =IFERROR(VLOOKUP(MID(SUBSTITUTE(VLOOKUP($AA$2,编号表!$A:$W,22,FALSE),",",""),(ROW(AK58)-ROW($AK$58))*4+1,4),招式表!$A:$C,3,FALSE),"") | AL58: =IFERROR(VLOOKUP(AK58,招式表!$C:$N,9,FALSE),"") | AM58: =IFERROR(VLOOKUP(MID(SUBSTITUTE(VLOOKUP($AA$2,编号表!$A:$W,23,FALSE),",",""),(ROW(AM58)-ROW($AM$58))*4+1,4),招式表!$A:$C,3,FALSE),"") | AN58: =IFERROR(VLOOKUP(AM58,招式表!$C:$N,9,FALSE),"")
X59: =IFERROR(VLOOKUP(MID(SUBSTITUTE(VLOOKUP($AA$2,编号表!$A:$W,19,FALSE),",",""),(ROW(X59)-ROW($X$58))*4+1,4),招式表!$A:$C,3,FALSE),"") | Y59: =IFERROR(VLOOKUP(X59,招式表!$C:$N,9,FALSE),"") | Z59: =IF($AA$8>Y59,"是","") -> #N/A | AB59: =IFERROR(VLOOKUP(MID(SUBSTITUTE(VLOOKUP($AA$2,编号表!$A:$W,20,FALSE),",",""),(ROW(AB59)-ROW($AB$58))*4+1,4),招式表!$A:$C,3,FALSE),"") | AC59: =IFERROR(VLOOKUP(AB59,招式表!$C:$N,9,FALSE),"") | AD59: =IFERROR(VLOOKUP(MID(SUBSTITUTE(VLOOKUP($AA$2,编号表!$A:$W,20,FALSE),",",""),(ROW(AD59)-ROW($AB$58)+50)*4+1,4),招式表!$A:$C,3,FALSE),"") | AE59: =IFERROR(VLOOKUP(AD59,招式表!$C:$N,9,FALSE),"") | AF59: =IFERROR(VLOOKUP(MID(SUBSTITUTE(VLOOKUP($AA$2,编号表!$A:$W,20,FALSE),",",""),(ROW(AF59)-ROW($AF$58)+100)*4+1,4),招式表!$A:$C,3,FALSE),"") | AG59: =IFERROR(VLOOKUP(AF59,招式表!$C:$N,9,FALSE),"") | AI59: =IFERROR(VLOOKUP(MID(SUBSTITUTE(VLOOKUP($AA$2,编号表!$A:$W,21,FALSE),",",""),(ROW(AI59)-ROW($AI$58))*4+1,4),招式表!$A:$C,3,FALSE),"") | AJ59: =IFERROR(VLOOKUP(AI59,招式表!$C:$N,9,FALSE),"") | AK59: =IFERROR(VLOOKUP(MID(SUBSTITUTE(VLOOKUP($AA$2,编号表!$A:$W,22,FALSE),",",""),(ROW(AK59)-ROW($AK$58))*4+1,4),招式表!$A:$C,3,FALSE),"") | AL59: =IFERROR(VLOOKUP(AK59,招式表!$C:$N,9,FALSE),"") | AM59: =IFERROR(VLOOKUP(MID(SUBSTITUTE(VLOOKUP($AA$2,编号表!$A:$W,23,FALSE),",",""),(ROW(AM59)-ROW($AM$58))*4+1,4),招式表!$A:$C,3,FALSE),"") | AN59: =IFERROR(VLOOKUP(AM59,招式表!$C:$N,9,FALSE),"")
X60: =IFERROR(VLOOKUP(MID(SUBSTITUTE(VLOOKUP($AA$2,编号表!$A:$W,19,FALSE),",",""),(ROW(X60)-ROW($X$58))*4+1,4),招式表!$A:$C,3,FALSE),"") | Y60: =IFERROR(VLOOKUP(X60,招式表!$C:$N,9,FALSE),"") | Z60: =IF($AA$8>Y60,"是","") -> #N/A | AB60: =IFERROR(VLOOKUP(MID(SUBSTITUTE(VLOOKUP($AA$2,编号表!$A:$W,20,FALSE),",",""),(ROW(AB60)-ROW($AB$58))*4+1,4),招式表!$A:$C,3,FALSE),"") | AC60: =IFERROR(VLOOKUP(AB60,招式表!$C:$N,9,FALSE),"") | AD60: =IFERROR(VLOOKUP(MID(SUBSTITUTE(VLOOKUP($AA$2,编号表!$A:$W,20,FALSE),",",""),(ROW(AD60)-ROW($AB$58)+50)*4+1,4),招式表!$A:$C,3,FALSE),"") | AE60: =IFERROR(VLOOKUP(AD60,招式表!$C:$N,9,FALSE),"") | AF60: =IFERROR(VLOOKUP(MID(SUBSTITUTE(VLOOKUP($AA$2,编号表!$A:$W,20,FALSE),",",""),(ROW(AF60)-ROW($AF$58)+100)*4+1,4),招式表!$A:$C,3,FALSE),"") | AG60: =IFERROR(VLOOKUP(AF60,招式表!$C:$N,9,FALSE),"") | AI60: =IFERROR(VLOOKUP(MID(SUBSTITUTE(VLOOKUP($AA$2,编号表!$A:$W,21,FALSE),",",""),(ROW(AI60)-ROW($AI$58))*4+1,4),招式表!$A:$C,3,FALSE),"") | AJ60: =IFERROR(VLOOKUP(AI60,招式表!$C:$N,9,FALSE),"") | AK60: =IFERROR(VLOOKUP(MID(SUBSTITUTE(VLOOKUP($AA$2,编号表!$A:$W,22,FALSE),",",""),(ROW(AK60)-ROW($AK$58))*4+1,4),招式表!$A:$C,3,FALSE),"") | AL60: =IFERROR(VLOOKUP(AK60,招式表!$C:$N,9,FALSE),"") | AM60: =IFERROR(VLOOKUP(MID(SUBSTITUTE(VLOOKUP($AA$2,编号表!$A:$W,23,FALSE),",",""),(ROW(AM60)-ROW($AM$58))*4+1,4),招式表!$A:$C,3,FALSE),"") | AN60: =IFERROR(VLOOKUP(AM60,招式表!$C:$N,9,FALSE),"")
X61: =IFERROR(VLOOKUP(MID(SUBSTITUTE(VLOOKUP($AA$2,编号表!$A:$W,19,FALSE),",",""),(ROW(X61)-ROW($X$58))*4+1,4),招式表!$A:$C,3,FALSE),"") | Y61: =IFERROR(VLOOKUP(X61,招式表!$C:$N,9,FALSE),"") | Z61: =IF($AA$8>Y61,"是","") -> #N/A | AB61: =IFERROR(VLOOKUP(MID(SUBSTITUTE(VLOOKUP($AA$2,编号表!$A:$W,20,FALSE),",",""),(ROW(AB61)-ROW($AB$58))*4+1,4),招式表!$A:$C,3,FALSE),"") | AC61: =IFERROR(VLOOKUP(AB61,招式表!$C:$N,9,FALSE),"") | AD61: =IFERROR(VLOOKUP(MID(SUBSTITUTE(VLOOKUP($AA$2,编号表!$A:$W,20,FALSE),",",""),(ROW(AD61)-ROW($AB$58)+50)*4+1,4),招式表!$A:$C,3,FALSE),"") | AE61: =IFERROR(VLOOKUP(AD61,招式表!$C:$N,9,FALSE),"") | AF61: =IFERROR(VLOOKUP(MID(SUBSTITUTE(VLOOKUP($AA$2,编号表!$A:$W,20,FALSE),",",""),(ROW(AF61)-ROW($AF$58)+100)*4+1,4),招式表!$A:$C,3,FALSE),"") | AG61: =IFERROR(VLOOKUP(AF61,招式表!$C:$N,9,FALSE),"") | AI61: =IFERROR(VLOOKUP(MID(SUBSTITUTE(VLOOKUP($AA$2,编号表!$A:$W,21,FALSE),",",""),(ROW(AI61)-ROW($AI$58))*4+1,4),招式表!$A:$C,3,FALSE),"") | AJ61: =IFERROR(VLOOKUP(AI61,招式表!$C:$N,9,FALSE),"") | AK61: =IFERROR(VLOOKUP(MID(SUBSTITUTE(VLOOKUP($AA$2,编号表!$A:$W,22,FALSE),",",""),(ROW(AK61)-ROW($AK$58))*4+1,4),招式表!$A:$C,3,FALSE),"") | AL61: =IFERROR(VLOOKUP(AK61,招式表!$C:$N,9,FALSE),"") | AM61: =IFERROR(VLOOKUP(MID(SUBSTITUTE(VLOOKUP($AA$2,编号表!$A:$W,23,FALSE),",",""),(ROW(AM61)-ROW($AM$58))*4+1,4),招式表!$A:$C,3,FALSE),"") | AN61: =IFERROR(VLOOKUP(AM61,招式表!$C:$N,9,FALSE),"")
X62: =IFERROR(VLOOKUP(MID(SUBSTITUTE(VLOOKUP($AA$2,编号表!$A:$W,19,FALSE),",",""),(ROW(X62)-ROW($X$58))*4+1,4),招式表!$A:$C,3,FALSE),"") | Y62: =IFERROR(VLOOKUP(X62,招式表!$C:$N,9,FALSE),"") | Z62: =IF($AA$8>Y62,"是","") -> #N/A | AB62: =IFERROR(VLOOKUP(MID(SUBSTITUTE(VLOOKUP($AA$2,编号表!$A:$W,20,FALSE),",",""),(ROW(AB62)-ROW($AB$58))*4+1,4),招式表!$A:$C,3,FALSE),"") | AC62: =IFERROR(VLOOKUP(AB62,招式表!$C:$N,9,FALSE),"") | AD62: =IFERROR(VLOOKUP(MID(SUBSTITUTE(VLOOKUP($AA$2,编号表!$A:$W,20,FALSE),",",""),(ROW(AD62)-ROW($AB$58)+50)*4+1,4),招式表!$A:$C,3,FALSE),"") | AE62: =IFERROR(VLOOKUP(AD62,招式表!$C:$N,9,FALSE),"") | AF62: =IFERROR(VLOOKUP(MID(SUBSTITUTE(VLOOKUP($AA$2,编号表!$A:$W,20,FALSE),",",""),(ROW(AF62)-ROW($AF$58)+100)*4+1,4),招式表!$A:$C,3,FALSE),"") | AG62: =IFERROR(VLOOKUP(AF62,招式表!$C:$N,9,FALSE),"") | AI62: =IFERROR(VLOOKUP(MID(SUBSTITUTE(VLOOKUP($AA$2,编号表!$A:$W,21,FALSE),",",""),(ROW(AI62)-ROW($AI$58))*4+1,4),招式表!$A:$C,3,FALSE),"") | AJ62: =IFERROR(VLOOKUP(AI62,招式表!$C:$N,9,FALSE),"") | AK62: =IFERROR(VLOOKUP(MID(SUBSTITUTE(VLOOKUP($AA$2,编号表!$A:$W,22,FALSE),",",""),(ROW(AK62)-ROW($AK$58))*4+1,4),招式表!$A:$C,3,FALSE),"") | AL62: =IFERROR(VLOOKUP(AK62,招式表!$C:$N,9,FALSE),"") | AM62: =IFERROR(VLOOKUP(MID(SUBSTITUTE(VLOOKUP($AA$2,编号表!$A:$W,23,FALSE),",",""),(ROW(AM62)-ROW($AM$58))*4+1,4),招式表!$A:$C,3,FALSE),"") | AN62: =IFERROR(VLOOKUP(AM62,招式表!$C:$N,9,FALSE),"")
...

Sheet 编号表
A1: 编号 | B1: 宝可梦 | C1: 第一属性 | D1: 第二属性 | E1: 第一特性 | F1: 第二特性 | G1: 隐藏特性 | H1: 第一蛋群 | I1: 第二蛋群 | J1: HP | K1: 物攻 | L1: 物防 | M1: 特攻 | N1: 特防 | O1: 速度 | P1: 捕获率 | Q1: 身高 | R1: 体重 | S1: 升级招式 | T1: 招式学习器 | U1: 蛋招式 | V1: 教学招式 | W1: 其它招式
A2: 1 | B2: 妙蛙种子 | C2: 草 | D2: 毒 | E2: 茂盛 | F2: 茂盛 | G2: 叶绿素 | H2: 怪兽 | I2: 植物 | J2: 45 | K2: 49 | L2: 49 | M2: 65 | N2: 65 | O2: 45 | P2: 45 | Q2: 0.7 | R2: 6.9 | S2: 0038,0045,0074,0073,0077,0438,0075,0402,0079,0076,0230,0235,0033,0036,0022,0388 | T2: 0491,0133,0213,0034,0331,0445,0204,0590,0174,0015,0038,0104,0497,0203,0412,0263,0206,0148,0218,0202,0447,0520,0803,0580,0270,0237,0282,0437,0113,0345,0363,0267,0438,0182,0156,0216,0249,0496,0219,0290,0402,0214,0188,0173,0076,0070,0164,0241,0207,0014,0036,0851,0092,0885,0474,0311,0526 | U2: 0133,0204,0174,0203,0202,0320,0580,0275,0437,0113,0345,0267,0080,0438,0219,0130,0124,0092 | V2: 0020,0034,0111,0038,0203,0210,0202,0520,0803,0029,0282,0102,0189,0402,0214,0173,0081,0164,0207,0014,0235,0388 | W2: 0117,0335,0606,0338,0072,0200,0099,0013,0115
A3: 2 | B3: 妙蛙草 | C3: 草 | D3: 毒 | E3: 茂盛 | F3: 茂盛 | G3: 叶绿素 | H3: 怪兽 | I3: 植物 | J3: 60 | K3: 62 | L3: 63 | M3: 80 | N3: 80 | O3: 60 | P3: 45 | Q3: 1 | R3: 13 | S3: 0038,0045,0074,0073,0077,0438,0075,0402,0079,0076,0230,0235,0033,0036,0022,0388 | T3: 0491,0133,0213,0034,0331,0445,0204,0590,0174,0015,0038,0104,0497,0203,0412,0263,0206,0148,0218,0202,0447,0520,0803,0580,0270,0237,0282,0437,0113,0345,0363,0267,0438,0182,0156,0216,0046,0249,0496,0219,0290,0402,0214,0188,0173,0076,0070,0164,0241,0207,0014,0036,0851,0092,0885,0474,0311,0526 | U3: 0133,0204,0174,0203,0202,0320,0580,0275,0437,0113,0345,0267,0080,0438,0219,0130,0124,0092 | V3: 0020,0034,0111,0038,0203,0210,0202,0520,0803,0029,0282,0102,0189,0402,0214,0173,0081,0164,0207,0014,0235,0388 | W3: 0117,0072,0200,0099,0115
A4: 3 | B4: 妙蛙花 | C4: 草 | D4: 毒 | E4: 茂盛 | F4: 茂盛 | G4: 叶绿素 | H4: 怪兽 | I4: 植物 | J4: 80 | K4: 82 | L4: 83 | M4: 100 | N4: 100 | O4: 80 | P4: 45 | Q4: 2 | R4: 100 | S4: 0038,0045,0074,0073,0572,0080,0077,0438,0075,0402,0079,0076,0230,0235,0033,0036,0022,0388 | T4: 0491,0133,0213,0034,0523,0331,0445,0204,0590,0174,0015,0038,0104,0414,0089,0497,0203,0412,0263,0206,0148,0338,0218,0202,0416,0447,0520,0803,0580,0270,0237,0063,0282,0437,0113,0345,0363,0267,0200,0572,0398,0438,0182,0156,0216,0046,0431,0249,0496,0219,0184,0290,0402,0214,0188,0173,0076,0707,0070,0164,0241,0207,0014,0036,0851,0092,0885,0474,0311,0526 | U4: 0133,0204,0174,0203,0202,0320,0580,0275,0437,0113,0345,0267,0080,0438,0219,0130,0124,0092 | V4: 0020,0335,0034,0111,0038,0203,0338,0210,0202,0520,0803,0029,0282,0102,0189,0200,0402,0214,0173,0707,0081,0164,0207,0014,0235,0805,0388 | W4: 0117,0072,0099,0115
A5: 3.1 | B5: 超级妙蛙花 | C5: 草 | D5: 毒 | E5: 厚脂肪 | F5: 厚脂肪 | G5: 厚脂肪 | H5: 怪兽 | I5: 植物 | J5: 80 | K5: 100 | L5: 123 | M5: 122 | N5: 120 | O5: 80 | P5: 45 | Q5: 2.4 | R5: 155.5
A6: 4 | B6: 小火龙 | C6: 火 | D6: 无 | E6: 猛火 | F6: 猛火 | G6: 太阳之力 | H6: 怪兽 | I6: 龙 | J6: 39 | K6: 52 | L6: 43 | M6: 60 | N6: 50 | O6: 65 | P6: 45 | Q6: 0.6 | R6: 8.5 | S6: 0225,0082,0052,0424,0083,0481,0053,0394,0045,0517,0232,0099,0184,0010,0163,0108 | T6: 0512,0332,0213,0251,0034,0784,0280,0445,0590,0242,0015,0091,0104,0337,0349,0406,0525,0497,0203,0263,0206,0126,0424,0519,0007,0083,0488,0053,0394,0374,0411,0264,0218,0257,0270,0237,0468,0510,0231,0025,0005,0232,0363,0200,0315,0612,0182,0156,0216,0046,0157,0249,0317,0496,0184,0290,0421,0214,0173,0070,0164,0241,0207,0129,0014,0036,0915,0851,0009,0092,0311,0261,0526 | U6: 0314,0246,0251,0187,0044,0068,0242,0349,0406,0407,0525,0394,0264,0231,0232,0200,0157,0014,0017 | V6: 0034,0068,0111,0038,0406,0223,0203,0519,0007,0264,0210,0029,0257,0231,0025,0005,0102,0189,0200,0157,0069,0214,0173,0164,0207,0129,0014,0009 | W6: 0117,0307,0335,0606,0174,0154,0336,0043,0098,0115,0130,0066
A7: 5 | B7: 火恐龙 | C7: 火 | D7: 无 | E7: 猛火 | F7: 猛火 | G7: 太阳之力 | H7: 怪兽 | I7: 龙 | J7: 58 | K7: 64 | L7: 58 | M7: 80 | N7: 65 | O7: 80 | P7: 45 | Q7: 1.1 | R7: 19 | S7: 0225,0082,0052,0424,0083,0481,0053,0394,0045,0517,0232,0099,0184,0010,0163,0108 | T7: 0512,0332,0213,0251,0034,0784,0280,0445,0590,0242,0015,0091,0104,0337,0349,0406,0525,0497,0203,0263,0206,0126,0424,0519,0007,0083,0488,0053,0394,0374,0411,0264,0218,0257,0270,0237,0468,0510,0231,0025,0005,0363,0200,0315,0612,0182,0156,0216,0046,0157,0249,0317,0496,0184,0290,0421,0214,0173,0070,0164,0241,0207,0129,0014,0036,0915,0851,0009,0092,0311,0261,0526 | U7: 0314,0246,0251,0187,0044,0068,0242,0349,0406,0407,0525,0394,0264,0231,0232,0200,0157,0014,0017 | V7: 0034,0068,0111,0038,0406,0223,0203,0519,0007,0264,0210,0029,0257,0231,0025,0005,0102,0189,0200,0157,0069,0214,0173,0164,0207,0129,0014,0009 | W7: 0117,0174,0154,0043,0115,0130,0066
A8: 6 | B8: 喷火龙 | C8: 火 | D8: 飞行 | E8: 猛火 | F8: 猛火 | G8: 太阳之力 | H8: 怪兽 | I8: 龙 | J8: 78 | K8: 84 | L8: 78 | M8: 109 | N8: 85 | O8: 100 | P8: 45 | Q8: 1.7 | R8: 90.5 | S8: 0403,0225,0337,0082,0052,0424,0083,0481,0053,0394,0045,0257,0517,0232,0099,0184,0010,0421,0163,0108,0017 | T8: 0512,0332,0314,0403,0213,0251,0307,0299,0034,0784,0280,0693,0523,0445,0590,0242,0015,0432,0091,0038,0104,0913,0337,0349,0406,0525,0089,0497,0203,0263,0206,0126,0424,0519,0007,0083,0488,0053,0394,0374,0019,0411,0264,0218,0416,0535,0257,0270,0237,0468,0542,0063,0510,0231,0025,0005,0595,0363,0200,0315,0612,0182,0156,0216,0046,0157,0249,0317,0355,0496,0201,0184,0815,0290,0421,0507,0214,0173,0076,0211,0070,0164,0241,0207,0129,0014,0036,0915,0851,0009,0092,0311,0261,0526 | U8: 0314,0246,0251,0187,0044,0068,0242,0349,0406,0407,0525,0394,0264,0231,0232,0200,0157,0014,0017 | V8: 0314,0307,0034,0068,0111,0432,0038,0406,0814,0223,0203,0519,0007,0264,0210,0029,0257,0231,0025,0005,0102,0189,0466,0200,0157,0355,0799,0815,0069,0214,0173,0164,0207,0129,0014,0366,0009,0239 | W8: 0187,0117,0174,0090,0154,0607,0043,0115,0130,0066
A9: 6.1 | B9: 超级喷火龙X | C9: 火 | D9: 龙 | E9: 硬爪 | F9: 硬爪 | G9: 硬爪 | H9: 怪兽 | I9: 龙 | J9: 78 | K9: 130 | L9: 111 | M9: 130 | N9: 85 | O9: 100 | P9: 45 | Q9: 1.7 | R9: 110.5
A10: 6.2 | B10: 超级喷火龙Y | C10: 火 | D10: 飞行 | E10: 日照 | F10: 日照 | G10: 日照 | H10: 怪兽 | I10: 龙 | J10: 78 | K10: 104 | L10: 78 | M10: 159 | N10: 115 | O10: 100 | P10: 45 | Q10: 1.7 | R10: 100.5
A11: 7 | B11: 杰尼龟 | C11: 水 | D11: 无 | E11: 激流 | F11: 激流 | G11: 雨盘 | H11: 怪兽 | I11: 水中1 | J11: 44 | K11: 48 | L11: 65 | M11: 50 | N11: 64 | O11: 43 | P11: 45 | Q11: 0.5 | R11: 9 | S11: 0401,0044,0145,0056,0334,0182,0240,0229,0504,0130,0033,0039,0055,0352,0834,0110 | T11: 0213,0396,0059,0034,0280,0362,0445,0886,0590,0091,0291,0038,0104,0406,0203,0263,0206,0374,0812,0264,0218,0360,0258,0114,0270,0237,0056,0058,0008,0861,0196,0334,0231,0710,0025,0005,0330,0341,0363,0612,0182,0240,0156,0216,0249,0317,0496,0503,0290,0214,0173,0070,0164,0057,0207,0036,0851,0092,0127,0518,0352,0311,0250,0526,0428 | U11: 0453,0392,0396,0362,0406,0252,0175,0193,0114,0791,0243,0054,0330,0300,0287,0323,0281 | V11: 0401,0034,0068,0111,0291,0038,0406,0223,0203,0812,0264,0029,0008,0196,0334,0231,0025,0005,0102,0189,0205,0069,0214,0173,0164,0207,0518,0352,0428 | W11: 0117,0335,0061,0606,0093,0174,0266,0308,0200,0099,0115,0157,0066
A12: 8 | B12: 卡咪龟 | C12: 水 | D12: 无 | E12: 激流 | F12: 激流 | G12: 雨盘 | H12: 怪兽 | I12: 水中1 | J12: 59 | K12: 63 | L12: 80 | M12: 65 | N12: 80 | O12: 58 | P12: 45 | Q12: 1 | R12: 22.5 | S12: 0401,0044,0145,0056,0334,0182,0240,0229,0504,0130,0033,0039,0055,0352,0834,0110 | T12: 0213,0396,0059,0034,0280,0362,0445,0886,0590,0091,0291,0038,0104,0406,0203,0263,0206,0374,0812,0264,0218,0360,0258,0114,0270,0237,0056,0058,0008,0861,0196,0334,0231,0710,0025,0005,0330,0341,0363,0612,0182,0240,0156,0216,0249,0317,0496,0503,0290,0214,0173,0070,0164,0057,0207,0036,0851,0092,0127,0518,0352,0311,0250,0526,0428 | U12: 0453,0392,0396,0362,0406,0252,0175,0193,0114,0791,0243,0054,0330,0300,0287,0323,0281 | V12: 0401,0034,0068,0111,0291,0038,0406,0223,0203,0812,0264,0029,0008,0196,0334,0231,0025,0005,0102,0189,0205,0069,0214,0173,0164,0207,0518,0352,0428 | W12: 0117,0061,0174,0200,0099,0115,0157,0066
A13: 9 | B13: 水箭龟 | C13: 水 | D13: 无 | E13: 激流 | F13: 激流 | G13: 雨盘 | H13: 怪兽 | I13: 水中1 | J13: 79 | K13: 83 | L13: 100 | M13: 85 | N13: 105 | O13: 78 | P13: 45 | Q13: 1.6 | R13: 85.5 | S13: 0401,0044,0145,0430,0056,0334,0182,0240,0229,0504,0130,0033,0039,0055,0352,0834,0110 | T13: 0213,0396,0419,0059,0776,0034,0280,0362,0523,0445,0886,0590,0242,0399,0091,0291,0038,0104,0406,0525,0089,0203,0263,0206,0430,0374,0812,0411,0264,0218,0416,0360,0258,0114,0270,0237,0308,0056,0063,0058,0008,0861,0196,0334,0231,0710,0025,0005,0330,0341,0363,0200,0612,0182,0240,0156,0216,0046,0431,0157,0249,0317,0496,0503,0184,0290,0214,0479,0173,0070,0164,0057,0207,0036,0851,0092,0127,0518,0352,0311,0250,0526,0428 | U13: 0453,0392,0396,0362,0406,0252,0175,0193,0114,0791,0243,0054,0330,0300,0287,0323,0281 | V13: 0401,0034,0068,0111,0291,0038,0406,0223,0203,0812,0264,0029,0308,0008,0196,0334,0231,0710,0025,0005,0102,0189,0200,0205,0069,0324,0214,0173,0164,0207,0805,0518,0352,0428 | W13: 0453,0117,0061,0174,0252,0090,0099,0115,0066
A14: 9.1 | B14: 超级水箭龟 | C14: 水 | D14: 无 | E14: 超级发射器 | F14: 超级发射器 | G14: 超级发射器 | H14: 怪兽 | I14: 水中1 | J14: 79 | K14: 103 | L14: 120 | M14: 135 | N14: 115 | O14: 78 | P14: 45 | Q14: 1.6 | R14: 101.1
A15: 10 | B15: 绿毛虫 | C15: 虫 | D15: 无 | E15: 鳞粉 | F15: 鳞粉 | G15: 逃跑 | H15: 虫 | I15: 无 | J15: 45 | K15: 30 | L15: 35 | M15: 20 | N15: 20 | O15: 45 | P15: 255 | Q15: 0.3 | R15: 2.9 | S15: 0450,0081,0033 | T15: 0527 | V15: 0450,0527,0173,0081
A16: 11 | B16: 铁甲蛹 | C16: 虫 | D16: 无 | E16: 蜕皮 | F16: 蜕皮 | G16: 蜕皮 | H16: 虫 | I16: 无 | J16: 50 | K16: 20 | L16: 55 | M16: 25 | N16: 25 | O16: 30 | P16: 120 | Q16: 0.7 | R16: 9.9 | S16: 0106 | T16: 0527,0334 | V16: 0450,0527,0334,0081
A17: 12 | B17: 巴大蝶 | C17: 虫 | D17: 飞行 | E17: 复眼 | F17: 复眼 | G17: 有色眼镜 | H17: 虫 | I17: 无 | J17: 60 | K17: 45 | L17: 50 | M17: 90 | N17: 80 | O17: 70 | P17: 45 | Q17: 1.1 | R17: 32 | S17: 0403,0450,0405,0445,0093,0016,0106,0077,0060,0483,0476,0219,0318,0079,0081,0078,0048,0033,0366,0018 | T17: 0512,0332,0403,0213,0226,0405,0445,0590,0432,0104,0577,0138,0527,0203,0412,0263,0148,0218,0202,0416,0237,0542,0063,0611,0334,0363,0676,0182,0094,0244,0240,0156,0216,0355,0496,0219,0290,0247,0318,0285,0214,0173,0076,0522,0164,0241,0207,0129,0168,0092,0369,0474 | V17: 0314,0450,0432,0038,0138,0814,0527,0203,0202,0102,0171,0466,0355,0324,0285,0214,0173,0081,0164,0207,0129,0366,0239 | W17: 0117,0174,0029,0072,0234,0149,0099,0013,0115,0230,0036,0100
A18: 13 | B18: 独角虫 | C18: 虫 | D18: 毒 | E18: 鳞粉 | F18: 鳞粉 | G18: 逃跑 | H18: 虫 | I18: 无 | J18: 40 | K18: 35 | L18: 30 | M18: 20 | N18: 20 | O18: 50 | P18: 255 | Q18: 0.3 | R18: 3.2 | S18: 0450,0040,0081 | V18: 0450,0527,0081
A19: 14 | B19: 铁壳蛹 | C19: 虫 | D19: 毒 | E19: 蜕皮 | F19: 蜕皮 | G19: 蜕皮 | H19: 虫 | I19: 无 | J19: 45 | K19: 25 | L19: 50 | M19: 25 | N19: 25 | O19: 35 | P19: 120 | Q19: 0.6 | R19: 10 | S19: 0106 | V19: 0450,0527,0334,0081
A20: 15 | B20: 大针蜂 | C20: 虫 | D20: 毒 | E20: 虫之预感 | F20: 虫之预感 | G20: 狙击手 | H20: 虫 | I20: 无 | J20: 65 | K20: 90 | L20: 40 | M20: 45 | N20: 80 | O20: 75 | P20: 45 | Q20: 1 | R20: 29.5 | S20: 0097,0372,0283,0565,0116,0031,0042,0398,0228,0099,0390,0041,0474 | T20: 0512,0332,0213,0280,0693,0445,0590,0015,0432,0104,0203,0263,0206,0148,0218,0202,0416,0237,0063,0611,0363,0371,0398,0182,0156,0216,0249,0355,0496,0290,0318,0214,0188,0076,0522,0164,0241,0207,0014,0168,0092,0369,0474,0404 | V20: 0314,0450,0432,0038,0529,0527,0283,0203,0210,0202,0282,0673,0102,0466,0355,0214,0173,0081,0164,0207,0129,0014,0366,0675 | W20: 0226,0117,0174,0029,0072,0200,0064,0115,0130,0230,0036
A21: 15.1 | B21: 超级大针蜂 | C21: 虫 | D21: 毒 | E21: 适应力 | F21: 适应力 | G21: 适应力 | H21: 虫 | I21: 无 | J21: 65 | K21: 150 | L21: 40 | M21: 15 | N21: 80 | O21: 145 | P21: 45 | Q21: 1.4 | R21: 40.5
A22: 16 | B22: 波波 | C22: 一般 | D22: 飞行 | E22: 锐利目光 | F22: 蹒跚 | G22: 健壮胸肌 | H22: 飞行 | I22: 无 | J22: 40 | K22: 45 | L22: 40 | M22: 35 | N22: 35 | O22: 56 | P22: 255 | Q22: 0.3 | R22: 1.8 | S22: 0097,0403,0297,0016,0542,0119,0098,0355,0028,0033,0366,0239,0018,0017 | T22: 0332,0213,0445,0590,0432,0104,0203,0263,0019,0218,0237,0363,0365,0182,0240,0156,0216,0355,0496,0290,0214,0211,0164,0241,0207,0168,0092,0369,0526 | U22: 0314,0403,0413,0432,0185,0193,0228,0211,0253 | V22: 0314,0432,0038,0203,0257,0102,0189,0466,0355,0143,0214,0173,0164,0207,0129,0366,0239,0253 | W22: 0117,0174,0197,0029,0099,0013,0115,0036
A23: 17 | B23: 比比鸟 | C23: 一般 | D23: 飞行 | E23: 锐利目光 | F23: 蹒跚 | G23: 健壮胸肌 | H23: 飞行 | I23: 无 | J23: 63 | K23: 60 | L23: 55 | M23: 50 | N23: 50 | O23: 71 | P23: 120 | Q23: 1.1 | R23: 30 | S23: 0097,0403,0297,0016,0542,0119,0098,0355,0028,0033,0366,0239,0018,0017 | T23: 0332,0213,0445,0590,0432,0104,0203,0263,0019,0218,0237,0363,0365,0182,0240,0156,0216,0355,0496,0290,0214,0211,0164,0241,0207,0168,0092,0369,0526 | U23: 0314,0403,0413,0432,0185,0193,0228,0211,0253 | V23: 0314,0432,0038,0203,0257,0102,0189,0466,0355,0143,0214,0173,0164,0207,0129,0366,0239,0253 | W23: 0117,0174,0197,0029,0099,0013,0115,0287,0036
A24: 18 | B24: 大比鸟 | C24: 一般 | D24: 飞行 | E24: 锐利目光 | F24: 蹒跚 | G24: 健壮胸肌 | H24: 飞行 | I24: 无 | J24: 83 | K24: 80 | L24: 75 | M24: 70 | N24: 70 | O24: 101 | P24: 45 | Q24: 1.5 | R24: 39.5 | S24: 0097,0403,0297,0016,0542,0119,0098,0355,0028,0033,0366,0239,0018,0017 | T24: 0332,0213,0445,0590,0432,0104,0203,0263,0019,0218,0416,0237,0063,0363,0365,0182,0240,0156,0216,0355,0496,0290,0214,0211,0164,0241,0207,0168,0092,0369,0526 | U24: 0314,0403,0413,0432,0185,0193,0228,0211,0253 | V24: 0314,0432,0038,0203,0257,0673,0102,0189,0466,0355,0143,0214,0173,0164,0207,0129,0366,0239,0253 | W24: 0117,0174,0197,0029,0099,0013,0115,0036
A25: 18.1 | B25: 超级大比鸟 | C25: 一般 | D25: 飞行 | E25: 无防守 | F25: 无防守 | G25: 无防守 | H25: 飞行 | I25: 无 | J25: 83 | K25: 80 | L25: 80 | M25: 135 | N25: 80 | O25: 121 | P25: 45 | Q25: 2.2 | R25: 50.5
A26: 19 | B26: 小拉达 | C26: 一般 | D26: 无 | E26: 逃跑 | F26: 毅力 | G26: 活力 | H26: 陆上 | I26: 无 | J26: 30 | K26: 56 | L26: 35 | M26: 25 | N26: 35 | O26: 72 | P26: 255 | Q26: 0.3 | R26: 3.5 | S26: 0372,0044,0242,0038,0283,0116,0158,0228,0098,0389,0162,0033,0039 | T26: 0213,0059,0445,0451,0590,0015,0091,0104,0203,0263,0218,0447,0237,0058,0231,0363,0365,0182,0240,0156,0514,0216,0249,0496,0290,0247,0351,0214,0164,0241,0207,0269,0168,0087,0085,0086,0092,0369,0528,0526 | U26: 0044,0068,0515,0172,0154,0387,0382,0279,0179,0103,0207,0253 | V26: 0034,0068,0343,0111,0038,0283,0203,0029,0196,0231,0387,0102,0189,0351,0214,0173,0164,0389,0162,0207,0129,0086,0253,0428 | W26: 0117,0061,0174,0099,0130,0036,0055
A27: 19.1 | B27: 小拉达-阿罗拉的样子 | C27: 恶 | D27: 一般 | E27: 贪吃鬼 | F27: 活力 | G27: 厚脂肪 | H27: 陆上 | I27: 无 | J27: 30 | K27: 56 | L27: 35 | M27: 25 | N27: 35 | O27: 72 | P27: 255 | Q27: 0.3 | R27: 3.8 | S27: 0372,0044,0242,0038,0283,0116,0158,0228,0098,0389,0162,0033,0039 | T27: 0213,0059,0590,0399,0104,0373,0263,0218,0447,0237,0058,0182,0511,0240,0156,0216,0496,0247,0421,0214,0188,0555,0164,0241,0207,0269,0168,0259,0092,0369 | U27: 0068,0515,0154,0382,0279,0179,0289,0254,0256,0415,0253 | V27: 0343,0283,0196,0231,0387,0351,0289,0173,0162,0253,0428 | W27: 0091,0029
A28: 20 | B28: 拉达 | C28: 一般 | D28: 无 | E28: 逃跑 | F28: 毅力 | G28: 活力 | H28: 陆上 | I28: 无 | J28: 55 | K28: 81 | L28: 60 | M28: 50 | N28: 70 | O28: 97 | P28: 127 | Q28: 0.7 | R28: 18.5 | S28: 0372,0044,0242,0038,0283,0116,0158,0228,0098,0184,0389,0162,0014,0033,0039 | T28: 0213,0059,0445,0451,0590,0015,0091,0104,0203,0263,0218,0416,0447,0237,0063,0058,0231,0363,0365,0182,0240,0156,0514,0216,0046,0249,0496,0290,0247,0351,0214,0070,0164,0241,0207,0014,0269,0168,0087,0085,0086,0092,0369,0528,0526 | U28: 0044,0068,0515,0172,0154,0387,0382,0279,0179,0103,0207,0253 | V28: 0034,0068,0343,0111,0038,0283,0203,0029,0196,0231,0387,0102,0189,0351,0214,0173,0707,0164,0389,0162,0207,0129,0675,0086,0253,0428 | W28: 0117,0061,0174,0154,0099,0287,0130,0036,0055
A29: 20.1 | B29: 拉达-阿罗拉的样子 | C29: 恶 | D29: 一般 | E29: 贪吃鬼 | F29: 活力 | G29: 厚脂肪 | H29: 陆上 | I29: 无 | J29: 75 | K29: 71 | L29: 70 | M29: 40 | N29: 80 | O29: 77 | P29: 127 | Q29: 0.7 | R29: 25.5 | S29: 0372,0044,0242,0038,0283,0116,0158,0228,0098,0184,0389,0162,0014,0033,0039 | T29: 0213,0059,0339,0590,0399,0104,0373,0263,0218,0416,0447,0237,0063,0058,0182,0511,0240,0156,0216,0046,0496,0247,0421,0214,0188,0482,0555,0164,0241,0207,0014,0269,0168,0259,0092,0369,0474 | U29: 0068,0515,0154,0382,0279,0179,0289,0254,0256,0415,0253 | V29: 0343,0283,0196,0231,0282,0387,0351,0289,0173,0707,0162,0675,0253,0428 | W29: 0068,0091,0154,0029
A30: 21 | B30: 烈雀 | C30: 一般 | D30: 飞行 | E30: 锐利目光 | F30: 锐利目光 | G30: 狙击手 | H30: 飞行 | I30: 无 | J30: 40 | K30: 60 | L30: 30 | M30: 31 | N30: 31 | O30: 70 | P30: 255 | Q30: 0.3 | R30: 2 | S30: 0332,0097,0372,0065,0116,0031,0045,0043,0119,0064,0228,0355 | T30: 0332,0213,0445,0590,0432,0104,0497,0203,0263,0206,0019,0218,0237,0363,0365,0182,0240,0156,0216,0355,0496,0290,0214,0211,0164,0241,0207,0168,0092,0369,0526 | U30: 0310,0206,0297,0185,0098,0013,0184,0143,0211,0161,0253,0018 | V30: 0314,0432,0038,0529,0203,0257,0102,0189,0466,0355,0143,0214,0173,0164,0207,0129,0366,0239,0253 | W30: 0226,0117,0174,0197,0029,0099,0036
A31: 22 | B31: 大嘴雀 | C31: 一般 | D31: 飞行 | E31: 锐利目光 | F31: 锐利目光 | G31: 狙击手 | H31: 飞行 | I31: 无 | J31: 65 | K31: 90 | L31: 65 | M31: 61 | N31: 61 | O31: 100 | P31: 90 | Q31: 1.2 | R31: 38 | S31: 0332,0097,0372,0065,0529,0116,0031,0045,0043,0119,0064,0365,0228,0355 | T31: 0332,0213,0445,0590,0432,0104,0497,0203,0263,0206,0019,0218,0416,0237,0063,0363,0365,0182,0240,0156,0216,0355,0496,0290,0214,0211,0164,0241,0207,0168,0092,0369,0526 | U31: 0310,0206,0297,0185,0098,0013,0184,0143,0211,0161,0253,0018 | V31: 0314,0432,0038,0529,0203,0257,0673,0102,0189,0466,0355,0143,0214,0173,0164,0207,0129,0366,0675,0239,0253 | W31: 0117,0174,0197,0029,0098,0099,0013,0036,0161,0018
A32: 23 | B32: 阿柏蛇 | C32: 毒 | D32: 无 | E32: 威吓 | F32: 蜕皮 | G32: 紧张感 | H32: 陆上 | I32: 龙 | J32: 35 | K32: 60 | L32: 44 | M32: 40 | N32: 54 | O32: 55 | P32: 255 | Q32: 2 | R32: 6.9 | S32: 0051,0491,0562,0044,0489,0380,0137,0441,0114,0043,0426,0040,0103,0188,0255,0254,0256,0035 | T32: 0491,0213,0693,0523,0445,0590,0242,0399,0091,0038,0104,0089,0203,0263,0424,0218,0202,0441,0114,0237,0611,0231,0282,0808,0141,0341,0189,0363,0371,0398,0342,0182,0706,0240,0156,0216,0157,0317,0496,0799,0184,0290,0402,0806,0214,0188,0482,0555,0289,0180,0070,0164,0241,0207,0036,0851,0168,0259,0092,0390,0885,0474 | U32: 0251,0050,0231,0305,0342,0228,0184,0021,0289,0180,0389,0415 | V32: 0401,0020,0034,0399,0038,0203,0380,0202,0441,0029,0231,0102,0157,0402,0214,0289,0173,0180,0164,0207 | W32: 0117,0174,0090,0072,0099,0130
A33: 24 | B33: 阿柏怪 | C33: 毒 | D33: 无 | E33: 威吓 | F33: 蜕皮 | G33: 紧张感 | H33: 陆上 | I33: 龙 | J33: 60 | K33: 95 | L33: 69 | M33: 65 | N33: 79 | O33: 80 | P33: 90 | Q33: 3.5 | R33: 65 | S33: 0051,0491,0562,0044,0489,0242,0424,0380,0137,0441,0114,0423,0043,0426,0040,0103,0188,0255,0254,0256,0422,0035 | T33: 0491,0213,0034,0784,0693,0523,0445,0590,0242,0399,0091,0038,0104,0525,0089,0203,0263,0424,0218,0202,0416,0441,0114,0237,0063,0423,0611,0231,0282,0808,0141,0341,0189,0363,0220,0371,0398,0342,0182,0706,0240,0156,0216,0157,0317,0496,0799,0184,0290,0402,0806,0214,0188,0482,0555,0289,0180,0707,0070,0164,0241,0207,0036,0851,0168,0675,0422,0259,0092,0390,0885,0474 | U33: 0251,0050,0231,0305,0342,0228,0184,0021,0289,0180,0389,0415 | V33: 0401,0020,0034,0399,0038,0203,0380,0202,0441,0029,0231,0102,0157,0402,0214,0289,0173,0180,0707,0164,0207,0675 | W33: 0117,0174,0090,0072,0099,0287,0130,0021,0389
A34: 25 | B34: 皮卡丘 | C34: 电 | D34: 无 | E34: 静电 | F34: 静电 | G34: 避雷针 | H34: 陆上 | I34: 妖精 | J34: 35 | K34: 55 | L34: 40 | M34: 50 | N34: 50 | O34: 90 | P34: 190 | Q34: 0.4 | R34: 6 | S34: 0097,0204,0435,0104,0486,0364,0045,0231,0113,0417,0609,0589,0098,0021,0209,0186,0039,0087,0085,0084,0086,0528 | T34: 0097,0914,0213,0034,0280,0445,0268,0451,0204,0590,0091,0574,0104,0577,0497,0598,0604,0486,0527,0227,0283,0203,0263,0313,0148,0374,0264,0218,0447,0270,0237,0231,0282,0113,0025,0005,0417,0363,0006,0583,0182,0240,0115,0156,0216,0179,0249,0496,0290,0351,0214,0173,0070,0164,0057,0207,0129,0036,0851,0168,0087,0085,0009,0086,0092,0885,0918,0253,0521,0528 | U34: 0516,0117,0268,0574,0003,0604,0227,0203,0252,0175,0381,0217,0179,0009,0321,0344,0273 | V34: 0034,0068,0343,0111,0038,0223,0527,0203,0264,0029,0270,0231,0282,0673,0393,0025,0005,0102,0189,0804,0205,0069,0351,0324,0214,0173,0164,0207,0129,0009,0086,0344 | W34: 0516,0117,0347,0606,0174,0197,0024,0245,0252,0019,0603,0531,0607,0387,0217,0099,0287,0047,0130,0066,0230,0298,0273,0281,0192
A35: 25.1 | B35: 搭档皮卡丘 | C35: 电 | D35: 无 | E35: 静电 | F35: 静电 | G35: 避雷针 | H35: 陆上 | I35: 妖精 | J35: 45 | K35: 80 | L35: 50 | M35: 75 | N35: 60 | O35: 120 | P35: 45 | Q35: 0.4 | R35: 6
A36: 26 | B36: 雷丘 | C36: 电 | D36: 无 | E36: 静电 | F36: 静电 | G36: 避雷针 | H36: 陆上 | I36: 妖精 | J36: 60 | K36: 90 | L36: 55 | M36: 90 | N36: 80 | O36: 110 | P36: 75 | Q36: 0.8 | R36: 30 | S36: 0097,0204,0435,0104,0486,0364,0045,0231,0113,0417,0609,0589,0098,0021,0209,0186,0039,0087,0085,0009,0084,0086 | T36: 0097,0914,0213,0034,0280,0693,0445,0268,0451,0204,0590,0091,0574,0104,0577,0497,0598,0604,0486,0527,0227,0283,0203,0263,0313,0148,0374,0411,0264,0218,0416,0447,0270,0237,0063,0231,0282,0113,0025,0005,0417,0363,0006,0583,0182,0240,0115,0156,0216,0179,0249,0496,0219,0290,0351,0214,0173,0683,0070,0164,0057,0207,0129,0036,0851,0168,0087,0085,0009,0086,0092,0885,0918,0253,0521,0528 | U36: 0516,0117,0268,0574,0003,0604,0227,0203,0252,0175,0381,0217,0179,0009,0321,0344,0273 | V36: 0034,0068,0343,0111,0038,0223,0527,0203,0264,0029,0270,0231,0282,0673,0393,0025,0005,0102,0189,0804,0205,0069,0351,0324,0214,0173,0164,0207,0129,0009,0086 | W36: 0117,0347,0174,0197,0252,0099,0130,0066,0192
A37: 26.1 | B37: 雷丘-阿罗拉的样子 | C37: 电 | D37: 超能力 | E37: 冲浪之尾 | F37: 冲浪之尾 | G37: 冲浪之尾 | H37: 陆上 | I37: 妖精 | J37: 60 | K37: 85 | L37: 50 | M37: 95 | N37: 85 | O37: 110 | P37: 75 | Q37: 0.7 | R37: 21 | S37: 0097,0204,0435,0104,0486,0364,0045,0231,0113,0417,0609,0589,0094,0098,0021,0209,0683,0186,0039,0087,0085,0084,0086 | T37: 0097,0914,0502,0213,0034,0280,0347,0268,0451,0204,0590,0091,0104,0577,0497,0598,0604,0486,0527,0227,0283,0203,0797,0263,0313,0374,0411,0264,0218,0248,0416,0447,0270,0237,0063,0231,0282,0113,0478,0025,0005,0417,0006,0583,0182,0094,0917,0678,0473,0240,0115,0156,0216,0179,0496,0219,0285,0214,0173,0683,0500,0164,0057,0207,0129,0036,0851,0168,0087,0085,0009,0086,0092,0885,0918,0253,0521,0528 | U37: 0516,0117,0268,0574,0003,0604,0227,0203,0252,0175,0381,0217,0179,0009,0321,0344,0273 | V37: 0502,0343,0527,0797,0264,0270,0231,0282,0673,0277,0478,0393,0278,0804,0351,0324,0173,0477,0009 | W37: 0252,0029,0069,0100
A38: 26.2 | B38: 超级雷丘X | C38: 电 | D38: 无 | E38: 电气制造者 | F38: 电气制造者 | G38: 电气制造者 | H38: 陆上 | I38: 妖精 | J38: 60 | K38: 135 | L38: 95 | M38: 90 | N38: 95 | O38: 110 | P38: 75 | Q38: 1.2 | R38: 38
A39: 26.3 | B39: 超级雷丘Y | C39: 电 | D39: 无 | E39: 无防守 | F39: 无防守 | G39: 无防守 | H39: 陆上 | I39: 妖精 | J39: 60 | K39: 100 | L39: 55 | M39: 160 | N39: 80 | O39: 130 | P39: 75 | Q39: 1 | R39: 26
