Workbook
Name APP: 人物卡!$AA$5
Name CON: 人物卡!$U$5
Name DEX: 人物卡!$AA$3
Name EDU: 人物卡!$AG$5
Name INT: 人物卡!$AA$7
Name Luck: 人物卡!$AG$7
Name MP: 人物卡!$W$10
Name POW: 人物卡!$AG$3
Name SIZ: 人物卡!$U$7
Name STR: 人物卡!$U$3

Sheet 人物卡
B1: 电脑推荐使用excel2010及以后版本或WPS打开本卡，使用横轴滚动条可以看见更多东西
B2: 调查员信息 | S2: 年龄补正： | V2: =附表!D37 -> 请和kp商议 | AA2: 属性 | AC2: 已用点数: | AG2: =U3+U5+U7+AA3+AA5+AA7+AG3+AG5+AG7 -> 0 | AL2: 调查员肖像 | AU2: 您的角色可能（只是可能！）
B3: 姓名 | S3: 力量 STR | U3: 0 | W3: =INT(U3/2) -> 0 | Y3: 敏捷 DEX | AA3: 0 | AC3: =INT(AA3/2) -> 0 | AE3: 意志 POW | AG3: 0 | AI3: =INT(AG3/2) -> 0 | AU3: =IF(U3=0,"",IF(U3<=15,"虚弱，孱弱",IF(U3<=40,"力量弱小",IF(U3<=60,"有正常人的力量",IF(U3<=80,"超乎常人的力量",IF(U3<100,"超乎超乎常人的力量")))))) | BC3: =IF(AA3=0,"",IF(AA3<=20,"很不灵活",IF(AA3<=40,"不是很灵活",IF(AA3<=60,"普通人水平",IF(AA3<=80,"是一位运动健将",IF(AA3<100,"高速而灵活,可以达成超凡的技艺")))))) | BK3: =IF(AG3=0,"",IF(AG3<=20,"尔不过玩物",IF(AG3<=40,"痴愚盲目",IF(AG3<=60,"如常人一般会有一定自制力",IF(AG3<=80,"我心如铁，心坚石穿",IF(AG3<100,"泰山崩于面而色不变",IF(AG3<140,"钢铁之心，还能看见鬼","你怕是个假人吧")))))))
B4: 玩家 | J4: 时代 | M4: 1920s | W4: =INT(U3/5) -> 0 | AC4: =INT(AA3/5) -> 0 | AI4: =INT(AG3/5) -> 0
B5: 职业 | J5: 职业序号 | M5: 0 | S5: 体质 CON | U5: 0 | W5: =INT(U5/2) -> 0 | Y5: 外貌 APP | AA5: 0 | AC5: =INT(AA5/2) -> 0 | AE5: 教育 知识 | AG5: 0 | AI5: =INT(AG5/2) -> 0 | AU5: =IF(U5=0,"",IF(U5<=20,"常年患病在身",IF(U5<=40,"体弱多病",IF(U5<=60,"不会生什么大毛病",IF(U5<=80,"健硕，浑身湿透也不会感冒",IF(U5<100,"身体素质极好，精神抖擞")))))) | BC5: =IF(AA5=0,"",IF(AA5<=20,"用脸就能恐惧敌人。。或队友",IF(AA5<=40,"有些难看",IF(AA5<=60,"人群之中谁也不会看你一眼之后就忘不掉你容颜",IF(AA5<=80,"五官端正，仪表堂堂",IF(AA5<100,"沉鱼落雁，闭月羞花")))))) | BK5: =IF(AG5=0,"",IF(AG5<=20,"目不识丁",IF(AG5<=40,"小学毕业",IF(AG5<=60,"高中毕业",IF(AG5<=80,"是重点大学的学生，或是普通大学的研究生",IF(AG5<100,"饱读诗书，满腹经纶"))))))
B6: 年龄 | J6: 性别 | W6: =INT(U5/5) -> 0 | AC6: =INT(AA5/5) -> 0 | AI6: =INT(AG5/5) -> 0
B7: 住地 | J7: 故乡 | M7: （应包含国籍） | S7: 体型 SIZ | U7: 0 | W7: =INT(U7/2) -> 0 | Y7: 智力 灵感 | AA7: 0 | AC7: =INT(AA7/2) -> 0 | AE7: 幸运 Luck | AG7: 0 | AI7: =INT(AG7/2) -> 0 | AU7: =IF(U7=0,"",IF(U7<=20,"孩童，身短体瘦",IF(U7<=40,"乙女身材",IF(U7<=60,"普遍身高155-175",IF(U7<=80,"不是高就是胖",IF(U7<=100,"大号的人",IF(U7<150,"听说你正在申请身高世界记录？",IF(U7<180,"你可能是一头牛",IF(U7<200,"你已经是历史上最重的人类了","过分了喂！"))))))))) | BC7: =IF(INT=0,"",IF(INT<=20,"脑子是个好东西，可惜。。。",IF(INT<=40,"理解知识要耗费比普通人更多的时间",IF(INT<=60,"有着普通人的灵光一现",IF(INT<=80,"可以自主进行发明创造",IF(INT<100,"天才级水准")))))) | BK7: =IF(Luck=0,"",IF(Luck<=20,"克夫克妻",IF(Luck<=40,"霉运连连",IF(Luck<=60,"命格平庸",IF(Luck<=80,"在马路边捡到100块",IF(Luck<100,"被幸运女神所眷顾"))))))
B8: 现时间 | E8: 公元 | J8: 月 | L8: 日 | N8: 0：00 | W8: =INT(U7/5) -> 0 | AC8: =INT(AA7/5) -> 0 | AI8: =INT(AG7/5) -> 0
B9: =IF(F9=0,"","任意特长数：") | F9: =INDEX(本职技能!$A$2:$HX$69,MATCH("任意特长",本职技能!$A$2:$A$75,0),MATCH($M$5,本职技能!$A$1:$HX$1,0)) -> 0 | K9: =INDEX(本职技能!$A$2:$HX$69,MATCH("☆",本职技能!$A$2:$A$75,0),MATCH($M$5,本职技能!$A$1:$HX$1,0)) -> 0 | T9: =INDEX(本职技能!$A$2:$HX$69,MATCH("⊙",本职技能!$A$2:$A$75,0),MATCH($M$5,本职技能!$A$1:$HX$1,0)) -> 0 | AC9: =INDEX(本职技能!$A$2:$HX$69,MATCH("☯",本职技能!$A$2:$A$75,0),MATCH($M$5,本职技能!$A$1:$HX$1,0)) -> 0 | AL9: =INDEX(本职技能!$A$2:$HX$69,MATCH("※",本职技能!$A$2:$A$75,0),MATCH($M$5,本职技能!$A$1:$HX$1,0)) -> 0
B10: 生命值 Hit Points | E10: =G10 -> 0 | G10: =INT((U5+U7)/10) -> 0 | I10: 状态: | K10: 理智 Sanity | N10: =IF(AG3>P10,P10,AG3) -> 0 | P10: =99-R27 -> 99 | R10: 状态: | T10: 魔法 Magic Points | W10: =Y10 -> 0 | Y10: =INT(AG3/5) -> 0 | AA10: 每h恢复 | AC10: 移动力 MOV | AF10: =AI11+8 -> 8 | AI10: 调整值 | AK10: 护甲 Armor | AN10: =IF($AN12=0,"0",VLOOKUP($AN12,'防具表 载具表'!B2:J82,2,FALSE)) -> 无 | AP10: 覆盖部位
I11: 健康 | R11: 清醒 | AA11: =IF(AG3="","",INT(AG3/100+1)) -> 1 | AI11: =附表!C9 -> 0 | AP11: =IF($AN12=0,"",VLOOKUP($AN12,'防具表 载具表'!B2:I101,4,FALSE)) -> ——
B12: 重伤值: | D12: =CEILING(G10/2,1) -> 0 | F12: 临时生命值： | I12: 0 | K12: 今日损失 : | N12: 0 | P12: 剩余： | R12: =N10-N12 -> 0 | T12: 用过的魔法： | AC12: 移动方式 | AE12: 步式 | AG12: 护甲减值 | AI12: 关 | AK12: 护甲类型 : | AN12: 请看【防具表】
B13: =IF(M5=0," ","["&LOOKUP(M5,职业列表!A2:A232,职业列表!B2:B232)&"]的本职技能："&LOOKUP(M5,职业列表!A2:A232,职业列表!G2:G232))
B14: 技能表
B15: 成功标 | D15: 本职 | F15: 技能名称 | J15: 初始 | L15: 成长 | N15: 职业 | P15: 兴趣 | R15: 成功率 普通/困难/极难 | X15: 成功标 | Z15: 本职 | AB15: 技能名称 | AF15: 初始 | AH15: 成长 | AJ15: 职业 | AL15: 兴趣 | AN15: 成功率 普通/困难/极难
A16: 📒 | B16: ☐ | D16: =IF(ISTEXT(_xlfn.IFERROR(VLOOKUP(人物卡!F16,人物卡!BJ18:BR22,1,FALSE),_xlfn.IFERROR(VLOOKUP(人物卡!F16,人物卡!BA18:BC22,1,FALSE),0))),"★",INDEX(本职技能!$A$2:$HX$76,MATCH(人物卡!F16,本职技能!$A$2:$A$75,0),MATCH(人物卡!$M$5,本职技能!$A$1:$HX$1,0))) -> 0 | F16: 会计 | J16: 5 | R16: =SUM(J16:P16) -> 5 | T16: =INT(R16/2) -> 2 | V16: =INT(R16/5) -> 1 | X16: ☐ | Z16: =IF(ISTEXT(_xlfn.IFERROR(VLOOKUP(人物卡!AB16,人物卡!BJ18:BR22,1,FALSE),_xlfn.IFERROR(VLOOKUP(人物卡!AB16,人物卡!BA18:BC22,1,FALSE),0))),"★",INDEX(本职技能!$A$2:$HX$76,MATCH(人物卡!AB16,本职技能!$A$2:$A$75,0),MATCH(人物卡!$M$5,本职技能!$A$1:$HX$1,0))) -> 0 | AB16: 法律 | AF16: 5 | AN16: =SUM(AF16:AL16) -> 5 | AP16: =INT(AN16/2) -> 2 | AR16: =INT(AN16/5) -> 1 | AT16: ⚖️
A17: 👨🏿‍🦲 | B17: ☐ | D17: =IF(ISTEXT(_xlfn.IFERROR(VLOOKUP(人物卡!F17,人物卡!BJ18:BR22,1,FALSE),_xlfn.IFERROR(VLOOKUP(人物卡!F17,人物卡!BA18:BC22,1,FALSE),0))),"★",INDEX(本职技能!$A$2:$HX$76,MATCH(人物卡!F17,本职技能!$A$2:$A$75,0),MATCH(人物卡!$M$5,本职技能!$A$1:$HX$1,0))) -> 0 | F17: 人类学 | J17: 1 | R17: =SUM(J17:P17) -> 1 | T17: =INT(R17/2) -> 0 | V17: =INT(R17/5) -> 0 | X17: ☐ | Z17: =IF(ISTEXT(_xlfn.IFERROR(VLOOKUP(人物卡!AB17,人物卡!BJ18:BR22,1,FALSE),_xlfn.IFERROR(VLOOKUP(人物卡!AB17,人物卡!BA18:BC22,1,FALSE),0))),"★",INDEX(本职技能!$A$2:$HX$76,MATCH(人物卡!AB17,本职技能!$A$2:$A$75,0),MATCH(人物卡!$M$5,本职技能!$A$1:$HX$1,0))) -> 0 | AB17: 图书馆使用 | AF17: 20 | AN17: =SUM(AF17:AL17) -> 20 | AP17: =INT(AN17/2) -> 10 | AR17: =INT(AN17/5) -> 4 | AT17: 📚 | AU17: 你现在有这么多 | BA17: 那么你分配到了哪里?
A18: 💵 | B18: ☐ | D18: =IF(ISTEXT(_xlfn.IFERROR(VLOOKUP(人物卡!F18,人物卡!BJ18:BR22,1,FALSE),_xlfn.IFERROR(VLOOKUP(人物卡!F18,人物卡!BA18:BC22,1,FALSE),0))),"★",INDEX(本职技能!$A$2:$HX$76,MATCH(人物卡!F18,本职技能!$A$2:$A$75,0),MATCH(人物卡!$M$5,本职技能!$A$1:$HX$1,0))) -> 0 | F18: 估价 | J18: 5 | R18: =SUM(J18:P18) -> 5 | T18: =INT(R18/2) -> 2 | V18: =INT(R18/5) -> 1 | X18: ☐ | Z18: =IF(ISTEXT(_xlfn.IFERROR(VLOOKUP(人物卡!AB18,人物卡!BJ18:BR22,1,FALSE),_xlfn.IFERROR(VLOOKUP(人物卡!AB18,人物卡!BA18:BC22,1,FALSE),0))),"★",INDEX(本职技能!$A$2:$HX$76,MATCH(人物卡!AB18,本职技能!$A$2:$A$75,0),MATCH(人物卡!$M$5,本职技能!$A$1:$HX$1,0))) -> 0 | AB18: 聆听 | AF18: 20 | AN18: =SUM(AF18:AL18) -> 20 | AP18: =INT(AN18/2) -> 10 | AR18: =INT(AN18/5) -> 4 | AT18: 👂 | AU18: 任意特长
A19: 🗿 | B19: ☐ | D19: =IF(ISTEXT(_xlfn.IFERROR(VLOOKUP(人物卡!F19,人物卡!BJ18:BR22,1,FALSE),_xlfn.IFERROR(VLOOKUP(人物卡!F19,人物卡!BA18:BC22,1,FALSE),0))),"★",INDEX(本职技能!$A$2:$HX$76,MATCH(人物卡!F19,本职技能!$A$2:$A$75,0),MATCH(人物卡!$M$5,本职技能!$A$1:$HX$1,0))) -> 0 | F19: 考古学 | J19: 1 | R19: =SUM(J19:P19) -> 1 | T19: =INT(R19/2) -> 0 | V19: =INT(R19/5) -> 0 | X19: ☐ | Z19: =IF(ISTEXT(_xlfn.IFERROR(VLOOKUP(人物卡!AB19,人物卡!BJ18:BR22,1,FALSE),_xlfn.IFERROR(VLOOKUP(人物卡!AB19,人物卡!BA18:BC22,1,FALSE),0))),"★",INDEX(本职技能!$A$2:$HX$76,MATCH(人物卡!AB19,本职技能!$A$2:$A$75,0),MATCH(人物卡!$M$5,本职技能!$A$1:$HX$1,0))) -> 0 | AB19: 锁匠 | AF19: 1 | AN19: =SUM(AF19:AL19) -> 1 | AP19: =INT(AN19/2) -> 0 | AR19: =INT(AN19/5) -> 0 | AT19: 🔒 | AU19: =附表!AD25 -> 无
A20: =_xlfn.IFS(H20="表演","🎭",H20="美术","🎨",H20="摄影","📷",H20="伪造","🃏",H20="写作","🖋️",H20="书法","🖌️",H20="乐理","🎼",H20="厨艺","🍱",H20="裁缝","👕",H20="理发","✂️",H20="建筑","🏠",H20="舞蹈","💃",H20="酿酒","🍷",H20="捕鱼","🎣",H20="歌唱","🎤",H20="制陶","🏺",H20="雕塑","🗽",H20="杂技","🤸‍♂️",H20="风水","☯️",H20="技术制图","🗺️",H20="耕作","🌾",H20="打字","📠",H20="速记","📝",H20="木匠","🪵",H20="莫里斯舞蹈","👯‍♂️",H20="歌剧歌唱","🎶",H20="粉刷匠与油漆工","🧩",H20="吹真空管","🎺",H20="","🔅",TRUE,"🎭") -> 🔅 | B20: ☐ | D20: =IF(ISTEXT(_xlfn.IFERROR(VLOOKUP(人物卡!F20,人物卡!BJ18:BR22,1,FALSE),_xlfn.IFERROR(VLOOKUP(人物卡!F20,人物卡!BA18:BC22,1,FALSE),0))),"★",INDEX(本职技能!$A$2:$HX$76,MATCH(人物卡!F20,本职技能!$A$2:$A$75,0),MATCH(人物卡!$M$5,本职技能!$A$1:$HX$1,0))) -> 0 | F20: 技艺① | J20: =IF(ISBLANK(AU26),5,IF(H20=AU26,BA26,5)) -> 5 | R20: =J20+L20+N20+P20 -> 5 | T20: =INT(R20/2) -> 2 | V20: =INT(R20/5) -> 1 | X20: ☐ | Z20: =IF(ISTEXT(_xlfn.IFERROR(VLOOKUP(人物卡!AB20,人物卡!BJ18:BR22,1,FALSE),_xlfn.IFERROR(VLOOKUP(人物卡!AB20,人物卡!BA18:BC22,1,FALSE),0))),"★",INDEX(本职技能!$A$2:$HX$76,MATCH(人物卡!AB20,本职技能!$A$2:$A$75,0),MATCH(人物卡!$M$5,本职技能!$A$1:$HX$1,0))) -> 0 | AB20: 机械维修 | AF20: 10 | AN20: =SUM(AF20:AL20) -> 10 | AP20: =INT(AN20/2) -> 5 | AR20: =INT(AN20/5) -> 2 | AT20: 🛠️
A21: =_xlfn.IFS(H21="表演","🎭",H21="美术","🎨",H21="摄影","📷",H21="伪造","🃏",H21="写作","🖋️",H21="书法","🖌️",H21="乐理","🎼",H21="厨艺","🍱",H21="裁缝","👕",H21="理发","✂️",H21="建筑","🏠",H21="舞蹈","💃",H21="酿酒","🍷",H21="捕鱼","🎣",H21="歌唱","🎤",H21="制陶","🏺",H21="雕塑","🗽",H21="杂技","🤸‍♂️",H21="风水","☯️",H21="技术制图","🗺️",H21="耕作","🌾",H21="打字","📠",H21="速记","📝",H21="木匠","🪵",H21="莫里斯舞蹈","👯‍♂️",H21="歌剧歌唱","🎶",H21="粉刷匠与油漆工","🧩",H21="吹真空管","🎺",H21="","🔅",TRUE,"🎭") -> 🔅 | B21: ☐ | D21: =IF(ISTEXT(_xlfn.IFERROR(VLOOKUP(人物卡!F21,人物卡!BJ18:BR22,1,FALSE),_xlfn.IFERROR(VLOOKUP(人物卡!F21,人物卡!BA18:BC22,1,FALSE),0))),"★",INDEX(本职技能!$A$2:$HX$76,MATCH(人物卡!F21,本职技能!$A$2:$A$75,0),MATCH(人物卡!$M$5,本职技能!$A$1:$HX$1,0))) -> 0 | F21: 技艺② | J21: =IF(ISBLANK(AU26),5,IF(H21=AU26,BA26,5)) -> 5 | R21: =P21+N21+L21+J21 -> 5 | T21: =INT(R21/2) -> 2 | V21: =INT(R21/5) -> 1 | X21: ☐ | Z21: =IF(ISTEXT(_xlfn.IFERROR(VLOOKUP(人物卡!AB21,人物卡!BJ18:BR22,1,FALSE),_xlfn.IFERROR(VLOOKUP(人物卡!AB21,人物卡!BA18:BC22,1,FALSE),0))),"★",INDEX(本职技能!$A$2:$HX$76,MATCH(人物卡!AB21,本职技能!$A$2:$A$75,0),MATCH(人物卡!$M$5,本职技能!$A$1:$HX$1,0))) -> 0 | AB21: 医学 | AF21: 1 | AN21: =SUM(AF21:AL21) -> 1 | AP21: =INT(AN21/2) -> 0 | AR21: =INT(AN21/5) -> 0 | AT21: 💊
A22: =_xlfn.IFS(H22="表演","🎭",H22="美术","🎨",H22="摄影","📷",H22="伪造","🃏",H22="写作","🖋️",H22="书法","🖌️",H22="乐理","🎼",H22="厨艺","🍱",H22="裁缝","👕",H22="理发","✂️",H22="建筑","🏠",H22="舞蹈","💃",H22="酿酒","🍷",H22="捕鱼","🎣",H22="歌唱","🎤",H22="制陶","🏺",H22="雕塑","🗽",H22="杂技","🤸‍♂️",H22="风水","☯️",H22="技术制图","🗺️",H22="耕作","🌾",H22="打字","📠",H22="速记","📝",H22="木匠","🪵",H22="莫里斯舞蹈","👯‍♂️",H22="歌剧歌唱","🎶",H22="粉刷匠与油漆工","🧩",H22="吹真空管","🎺",H22="","🔅",TRUE,"🎭") -> 🔅 | B22: ☐ | D22: =IF(ISTEXT(_xlfn.IFERROR(VLOOKUP(人物卡!F22,人物卡!BJ18:BR22,1,FALSE),_xlfn.IFERROR(VLOOKUP(人物卡!F22,人物卡!BA18:BC22,1,FALSE),0))),"★",INDEX(本职技能!$A$2:$HX$76,MATCH(人物卡!F22,本职技能!$A$2:$A$75,0),MATCH(人物卡!$M$5,本职技能!$A$1:$HX$1,0))) -> 0 | F22: 技艺③ | J22: =IF(ISBLANK(AU26),5,IF(H22=AU26,BA26,5)) -> 5 | R22: =P22+N22+L22+J22 -> 5 | T22: =INT(R22/2) -> 2 | V22: =INT(R22/5) -> 1 | X22: ☐ | Z22: =IF(ISTEXT(_xlfn.IFERROR(VLOOKUP(人物卡!AB22,人物卡!BJ18:BR22,1,FALSE),_xlfn.IFERROR(VLOOKUP(人物卡!AB22,人物卡!BA18:BC22,1,FALSE),0))),"★",INDEX(本职技能!$A$2:$HX$76,MATCH(人物卡!AB22,本职技能!$A$2:$A$75,0),MATCH(人物卡!$M$5,本职技能!$A$1:$HX$1,0))) -> 0 | AB22: 博物学 | AF22: 10 | AN22: =SUM(AF22:AL22) -> 10 | AP22: =INT(AN22/2) -> 5 | AR22: =INT(AN22/5) -> 2 | AT22: 🔬 | AU22: 提示当前职业
A23: 😍 | B23: ☐ | D23: =IF(ISTEXT(_xlfn.IFERROR(VLOOKUP(人物卡!F23,人物卡!BJ18:BR22,1,FALSE),_xlfn.IFERROR(VLOOKUP(人物卡!F23,人物卡!BA18:BC22,1,FALSE),0))),"★",INDEX(本职技能!$A$2:$HX$76,MATCH(人物卡!F23,本职技能!$A$2:$A$75,0),MATCH(人物卡!$M$5,本职技能!$A$1:$HX$1,0))) -> 0 | F23: 取悦 | J23: 15 | R23: =SUM(J23:P23) -> 15 | T23: =INT(R23/2) -> 7 | V23: =INT(R23/5) -> 3 | X23: ☐ | Z23: =IF(ISTEXT(_xlfn.IFERROR(VLOOKUP(人物卡!AB23,人物卡!BJ18:BR22,1,FALSE),_xlfn.IFERROR(VLOOKUP(人物卡!AB23,人物卡!BA18:BC22,1,FALSE),0))),"★",INDEX(本职技能!$A$2:$HX$76,MATCH(人物卡!AB23,本职技能!$A$2:$A$75,0),MATCH(人物卡!$M$5,本职技能!$A$1:$HX$1,0))) -> 0 | AB23: 导航 | AF23: 10 | AN23: =SUM(AF23:AL23) -> 10 | AP23: =INT(AN23/2) -> 5 | AR23: =INT(AN23/5) -> 2 | AT23: 🧭 | AU23: 请将你选择的任意特长写在上方栏内，这样既方便你写卡又方便KP审卡
A24: 🧗‍♂️ | B24: ☐ | D24: =IF(ISTEXT(_xlfn.IFERROR(VLOOKUP(人物卡!F24,人物卡!BJ18:BR22,1,FALSE),_xlfn.IFERROR(VLOOKUP(人物卡!F24,人物卡!BA18:BC22,1,FALSE),0))),"★",INDEX(本职技能!$A$2:$HX$76,MATCH(人物卡!F24,本职技能!$A$2:$A$75,0),MATCH(人物卡!$M$5,本职技能!$A$1:$HX$1,0))) -> 0 | F24: 攀爬 | J24: 20 | R24: =SUM(J24:P24) -> 20 | T24: =INT(R24/2) -> 10 | V24: =INT(R24/5) -> 4 | X24: ☐ | Z24: =IF(ISTEXT(_xlfn.IFERROR(VLOOKUP(人物卡!AB24,人物卡!BJ18:BR22,1,FALSE),_xlfn.IFERROR(VLOOKUP(人物卡!AB24,人物卡!BA18:BC22,1,FALSE),0))),"★",INDEX(本职技能!$A$2:$HX$76,MATCH(人物卡!AB24,本职技能!$A$2:$A$75,0),MATCH(人物卡!$M$5,本职技能!$A$1:$HX$1,0))) -> 0 | AB24: 神秘学 | AF24: 5 | AN24: =SUM(AF24:AL24) -> 5 | AP24: =INT(AN24/2) -> 2 | AR24: =INT(AN24/5) -> 1 | AT24: 🔮 | AU24: 自定义子技能 | BC24: 自定义经历包 | BK24: 自定义状态
A25: 💻 | B25: ☐ | D25: =IF(ISTEXT(_xlfn.IFERROR(VLOOKUP(人物卡!F25,人物卡!BJ18:BR22,1,FALSE),_xlfn.IFERROR(VLOOKUP(人物卡!F25,人物卡!BA18:BC22,1,FALSE),0))),"★",INDEX(本职技能!$A$2:$HX$76,MATCH(人物卡!F25,本职技能!$A$2:$A$75,0),MATCH(人物卡!$M$5,本职技能!$A$1:$HX$1,0))) -> 0 | F25: 计算机使用 Ω | J25: 5 | R25: =SUM(J25:P25) -> 5 | T25: =INT(R25/2) -> 2 | V25: =INT(R25/5) -> 1 | X25: ☐ | Z25: =IF(ISTEXT(_xlfn.IFERROR(VLOOKUP(人物卡!AB25,人物卡!BJ18:BR22,1,FALSE),_xlfn.IFERROR(VLOOKUP(人物卡!AB25,人物卡!BA18:BC22,1,FALSE),0))),"★",INDEX(本职技能!$A$2:$HX$76,MATCH(人物卡!AB25,本职技能!$A$2:$A$75,0),MATCH(人物卡!$M$5,本职技能!$A$1:$HX$1,0))) -> 0 | AB25: 操作重型机械 | AF25: 1 | AN25: =SUM(AF25:AL25) -> 1 | AP25: =INT(AN25/2) -> 0 | AR25: =INT(AN25/5) -> 0 | AT25: 🚜 | AU25: 技艺技能名称 | BA25: 基础值 | BC25: 经历包名称 | BK25: 状态名称(例:生病、精神分裂)
A26: 💳 | B26: —— | D26: ★ | F26: 信用评级 | J26: 0 | R26: =SUM(J26:P26) -> 0 | T26: =INT(R26/2) -> 0 | V26: =INT(R26/5) -> 0 | X26: ☐ | Z26: =IF(ISTEXT(_xlfn.IFERROR(VLOOKUP(人物卡!AB26,人物卡!BJ18:BR22,1,FALSE),_xlfn.IFERROR(VLOOKUP(人物卡!AB26,人物卡!BA18:BC22,1,FALSE),0))),"★",INDEX(本职技能!$A$2:$HX$76,MATCH(人物卡!AB26,本职技能!$A$2:$A$75,0),MATCH(人物卡!$M$5,本职技能!$A$1:$HX$1,0))) -> 0 | AB26: 说服 | AF26: 10 | AN26: =SUM(AF26:AL26) -> 10 | AP26: =INT(AN26/2) -> 5 | AR26: =INT(AN26/5) -> 2 | AT26: 🤓
A27: 🐙 | B27: —— | D27: =IF(ISTEXT(_xlfn.IFERROR(VLOOKUP(F27,人物卡!BJ18:BR22,1,FALSE),_xlfn.IFERROR(VLOOKUP(F27,人物卡!BA18:BC22,1,FALSE),0))),"★",INDEX(本职技能!$A$2:$HX$76,MATCH(F27,本职技能!$A$2:$A$75,0),MATCH(人物卡!$M$5,本职技能!$A$1:$HX$1,0))) -> 0 | F27: 克苏鲁神话 | J27: 0 | N27: —— | P27: —— | R27: =SUM(J27:P27) -> 0 | T27: =INT(R27/2) -> 0 | V27: =INT(R27/5) -> 0 | X27: ☐ | Z27: =IF(ISTEXT(_xlfn.IFERROR(VLOOKUP(人物卡!AB27,人物卡!BJ18:BR22,1,FALSE),_xlfn.IFERROR(VLOOKUP(人物卡!AB27,人物卡!BA18:BC22,1,FALSE),0))),"★",INDEX(本职技能!$A$2:$HX$76,MATCH(人物卡!AB27,本职技能!$A$2:$A$75,0),MATCH(人物卡!$M$5,本职技能!$A$1:$HX$1,0))) -> 0 | AB27: 驾驶： | AF27: =IF(ISBLANK(AU32),1,IF(AD27=AU32,BA32,1)) -> 1 | AN27: =SUM(AF27:AL27) -> 1 | AP27: =INT(AN27/2) -> 0 | AR27: =INT(AN27/5) -> 0 | AT27: =IF(AD27="飞行器","✈️","⛴️") -> ⛴️ | AU27: 格斗技能名称 | BA27: 基础值 | BC27: san值减少 | BG27: 技能增长 | BK27: 身体状态 | BO27: 精神状态
A28: 👩‍🎤 | B28: ☐ | D28: =IF(ISTEXT(_xlfn.IFERROR(VLOOKUP(人物卡!F28,人物卡!BJ18:BR22,1,FALSE),_xlfn.IFERROR(VLOOKUP(人物卡!F28,人物卡!BA18:BC22,1,FALSE),0))),"★",INDEX(本职技能!$A$2:$HX$76,MATCH(人物卡!F28,本职技能!$A$2:$A$75,0),MATCH(人物卡!$M$5,本职技能!$A$1:$HX$1,0))) -> 0 | F28: 乔装 | J28: 5 | R28: =SUM(J28:P28) -> 5 | T28: =INT(R28/2) -> 2 | V28: =INT(R28/5) -> 1 | X28: ☐ | Z28: =IF(ISTEXT(_xlfn.IFERROR(VLOOKUP(人物卡!AB28,人物卡!BJ18:BR22,1,FALSE),_xlfn.IFERROR(VLOOKUP(人物卡!AB28,人物卡!BA18:BC22,1,FALSE),0))),"★",INDEX(本职技能!$A$2:$HX$76,MATCH(人物卡!AB28,本职技能!$A$2:$A$75,0),MATCH(人物卡!$M$5,本职技能!$A$1:$HX$1,0))) -> 0 | AB28: 精神分析 | AF28: 1 | AN28: =SUM(AF28:AL28) -> 1 | AP28: =INT(AN28/2) -> 0 | AR28: =INT(AN28/5) -> 0 | AT28: 💡
A29: 💨 | B29: ☐ | D29: =IF(ISTEXT(_xlfn.IFERROR(VLOOKUP(人物卡!F29,人物卡!BJ18:BR22,1,FALSE),_xlfn.IFERROR(VLOOKUP(人物卡!F29,人物卡!BA18:BC22,1,FALSE),0))),"★",INDEX(本职技能!$A$2:$HX$76,MATCH(人物卡!F29,本职技能!$A$2:$A$75,0),MATCH(人物卡!$M$5,本职技能!$A$1:$HX$1,0))) -> 0 | F29: 闪避 | J29: =INT(DEX/2) -> 0 | R29: =SUM(J29:P29) -> 0 | T29: =INT(R29/2) -> 0 | V29: =INT(R29/5) -> 0 | X29: ☐ | Z29: =IF(ISTEXT(_xlfn.IFERROR(VLOOKUP(人物卡!AB29,人物卡!BJ18:BR22,1,FALSE),_xlfn.IFERROR(VLOOKUP(人物卡!AB29,人物卡!BA18:BC22,1,FALSE),0))),"★",INDEX(本职技能!$A$2:$HX$76,MATCH(人物卡!AB29,本职技能!$A$2:$A$75,0),MATCH(人物卡!$M$5,本职技能!$A$1:$HX$1,0))) -> 0 | AB29: 心理学 | AF29: 10 | AN29: =SUM(AF29:AL29) -> 10 | AP29: =INT(AN29/2) -> 5 | AR29: =INT(AN29/5) -> 2 | AT29: 💓 | AU29: 射击技能名称 | BA29: 基础值 | BC29: 备注
A30: 🚙 | B30: ☐ | D30: =IF(ISTEXT(_xlfn.IFERROR(VLOOKUP(人物卡!F30,人物卡!BJ18:BR22,1,FALSE),_xlfn.IFERROR(VLOOKUP(人物卡!F30,人物卡!BA18:BC22,1,FALSE),0))),"★",INDEX(本职技能!$A$2:$HX$76,MATCH(人物卡!F30,本职技能!$A$2:$A$75,0),MATCH(人物卡!$M$5,本职技能!$A$1:$HX$1,0))) -> 0 | F30: 汽车驾驶 | J30: 20 | R30: =SUM(J30:P30) -> 20 | T30: =INT(R30/2) -> 10 | V30: =INT(R30/5) -> 4 | X30: ☐ | Z30: =IF(ISTEXT(_xlfn.IFERROR(VLOOKUP(人物卡!AB30,人物卡!BJ18:BR22,1,FALSE),_xlfn.IFERROR(VLOOKUP(人物卡!AB30,人物卡!BA18:BC22,1,FALSE),0))),"★",INDEX(本职技能!$A$2:$HX$76,MATCH(人物卡!AB30,本职技能!$A$2:$A$75,0),MATCH(人物卡!$M$5,本职技能!$A$1:$HX$1,0))) -> 0 | AB30: 骑术 | AF30: 5 | AN30: =SUM(AF30:AL30) -> 5 | AP30: =INT(AN30/2) -> 2 | AR30: =INT(AN30/5) -> 1 | AT30: 🐴
A31: ⚒️ | B31: ☐ | D31: =IF(ISTEXT(_xlfn.IFERROR(VLOOKUP(人物卡!F31,人物卡!BJ18:BR22,1,FALSE),_xlfn.IFERROR(VLOOKUP(人物卡!F31,人物卡!BA18:BC22,1,FALSE),0))),"★",INDEX(本职技能!$A$2:$HX$76,MATCH(人物卡!F31,本职技能!$A$2:$A$75,0),MATCH(人物卡!$M$5,本职技能!$A$1:$HX$1,0))) -> 0 | F31: 电气维修 | J31: 10 | R31: =SUM(J31:P31) -> 10 | T31: =INT(R31/2) -> 5 | V31: =INT(R31/5) -> 2 | X31: ☐ | Z31: =IF(ISTEXT(_xlfn.IFERROR(VLOOKUP(人物卡!AB31,人物卡!BJ18:BR22,1,FALSE),_xlfn.IFERROR(VLOOKUP(人物卡!AB31,人物卡!BA18:BC22,1,FALSE),0))),"★",INDEX(本职技能!$A$2:$HX$76,MATCH(人物卡!AB31,本职技能!$A$2:$A$75,0),MATCH(人物卡!$M$5,本职技能!$A$1:$HX$1,0))) -> 0 | AB31: 科学① | AF31: =IF(ISBLANK(AU34),IF(AD31="数学",10,1),IF(AD31=AU34,BA34,1)) -> 1 | AN31: =AF31+AH31+AL31+AJ31 -> 1 | AP31: =INT(AN31/2) -> 0 | AR31: =INT(AN31/5) -> 0 | AT31: =_xlfn.IFS(AD31="地质学","🪨",AD31="化学","🧪",AD31="生物学","🦠",AD31="数学","🧮",AD31="天文学","🔭",AD31="物理学","🌡️",AD31="药学","💊",AD31="植物学","🌲",AD31="动物学","🐤",AD31="密码学","🔢",AD31="工程学","📏",AD31="气象学","🌤️",AD31="司法科学","⚖️",AD31="","🔅",TRUE,"🧬") -> 🔅 | AU31: 驾驶技能名称 | BA31: 基础值
A32: ⚡ | B32: ☐ | D32: =IF(ISTEXT(_xlfn.IFERROR(VLOOKUP(人物卡!F32,人物卡!BJ18:BR22,1,FALSE),_xlfn.IFERROR(VLOOKUP(人物卡!F32,人物卡!BA18:BC22,1,FALSE),0))),"★",INDEX(本职技能!$A$2:$HX$76,MATCH(人物卡!F32,本职技能!$A$2:$A$75,0),MATCH(人物卡!$M$5,本职技能!$A$1:$HX$1,0))) -> 0 | F32: 电子学 Ω | J32: 1 | R32: =SUM(J32:P32) -> 1 | T32: =INT(R32/2) -> 0 | V32: =INT(R32/5) -> 0 | X32: ☐ | Z32: =IF(ISTEXT(_xlfn.IFERROR(VLOOKUP(人物卡!AB32,人物卡!BJ18:BR22,1,FALSE),_xlfn.IFERROR(VLOOKUP(人物卡!AB32,人物卡!BA18:BC22,1,FALSE),0))),"★",INDEX(本职技能!$A$2:$HX$76,MATCH(人物卡!AB32,本职技能!$A$2:$A$75,0),MATCH(人物卡!$M$5,本职技能!$A$1:$HX$1,0))) -> 0 | AB32: 科学② | AF32: =IF(ISBLANK(AU34),IF(AD32="数学",10,1),IF(AD32=AU34,BA34,1)) -> 1 | AN32: =AL32+AJ32+AF32+AH32 -> 1 | AP32: =INT(AN32/2) -> 0 | AR32: =INT(AN32/5) -> 0 | AT32: =_xlfn.IFS(AD32="地质学","🪨",AD32="化学","🧪",AD32="生物学","🦠",AD32="数学","🧮",AD32="天文学","🔭",AD32="物理学","🌡️",AD32="药学","💊",AD32="植物学","🌲",AD32="动物学","🐤",AD32="密码学","🔢",AD32="工程学","📏",AD32="气象学","🌤️",AD32="司法科学","⚖️",AD32="","🔅",TRUE,"🧬") -> 🔅
A33: 🤥 | B33: ☐ | D33: =IF(ISTEXT(_xlfn.IFERROR(VLOOKUP(人物卡!F33,人物卡!BJ18:BR22,1,FALSE),_xlfn.IFERROR(VLOOKUP(人物卡!F33,人物卡!BA18:BC22,1,FALSE),0))),"★",INDEX(本职技能!$A$2:$HX$76,MATCH(人物卡!F33,本职技能!$A$2:$A$75,0),MATCH(人物卡!$M$5,本职技能!$A$1:$HX$1,0))) -> 0 | F33: 话术 | J33: 5 | R33: =SUM(J33:P33) -> 5 | T33: =INT(R33/2) -> 2 | V33: =INT(R33/5) -> 1 | X33: ☐ | Z33: =IF(ISTEXT(_xlfn.IFERROR(VLOOKUP(人物卡!AB33,人物卡!BJ18:BR22,1,FALSE),_xlfn.IFERROR(VLOOKUP(人物卡!AB33,人物卡!BA18:BC22,1,FALSE),0))),"★",INDEX(本职技能!$A$2:$HX$76,MATCH(人物卡!AB33,本职技能!$A$2:$A$75,0),MATCH(人物卡!$M$5,本职技能!$A$1:$HX$1,0))) -> 0 | AB33: 科学③ | AF33: =IF(ISBLANK(AU34),IF(AD33="数学",10,1),IF(AD33=AU34,BA34,1)) -> 1 | AN33: =AF33+AH33+AJ33+AL33 -> 1 | AP33: =INT(AN33/2) -> 0 | AR33: =INT(AN33/5) -> 0 | AT33: =_xlfn.IFS(AD33="地质学","🪨",AD33="化学","🧪",AD33="生物学","🦠",AD33="数学","🧮",AD33="天文学","🔭",AD33="物理学","🌡️",AD33="药学","💊",AD33="植物学","🌲",AD33="动物学","🐤",AD33="密码学","🔢",AD33="工程学","📏",AD33="气象学","🌤️",AD33="司法科学","⚖️",AD33="","🔅",TRUE,"🧬") -> 🔅 | AU33: 科学技能名称 | BA33: 基础值
A34: 🥊 | B34: ☐ | D34: =IF(ISTEXT(_xlfn.IFERROR(VLOOKUP(人物卡!F34,人物卡!BJ18:BR22,1,FALSE),_xlfn.IFERROR(VLOOKUP(人物卡!F34,人物卡!BA18:BC22,1,FALSE),0))),"★",INDEX(本职技能!$A$2:$HX$76,MATCH(人物卡!F34,本职技能!$A$2:$A$75,0),MATCH(人物卡!$M$5,本职技能!$A$1:$HX$1,0))) -> 0 | F34: 格斗： | H34: 斗殴 | J34: 25 | R34: =SUM(J34:P34) -> 25 | T34: =INT(R34/2) -> 12 | V34: =INT(R34/5) -> 5 | X34: ☐ | Z34: =IF(ISTEXT(_xlfn.IFERROR(VLOOKUP(人物卡!AB34,人物卡!BJ18:BR22,1,FALSE),_xlfn.IFERROR(VLOOKUP(人物卡!AB34,人物卡!BA18:BC22,1,FALSE),0))),"★",INDEX(本职技能!$A$2:$HX$76,MATCH(人物卡!AB34,本职技能!$A$2:$A$75,0),MATCH(人物卡!$M$5,本职技能!$A$1:$HX$1,0))) -> 0 | AB34: 妙手 | AF34: 10 | AN34: =SUM(AF34:AL34) -> 10 | AP34: =INT(AN34/2) -> 5 | AR34: =INT(AN34/5) -> 2 | AT34: 👋
A35: =_xlfn.IFS(H35="鞭子","〰️",H35="电锯","⚙️",H35="链枷","💫",H35="绞具","➰",H35="斧","🔨",H35="剑","🗡️",H35="矛","🔱",H35="","🔅",TRUE,"⚔️") -> 🔅 | B35: ☐ | D35: =IF(ISTEXT(_xlfn.IFERROR(VLOOKUP(人物卡!F35,人物卡!BJ18:BR22,1,FALSE),_xlfn.IFERROR(VLOOKUP(人物卡!F35,人物卡!BA18:BC22,1,FALSE),0))),"★",INDEX(本职技能!$A$2:$HX$76,MATCH(人物卡!F35,本职技能!$A$2:$A$75,0),MATCH(人物卡!$M$5,本职技能!$A$1:$HX$1,0))) -> 0 | F35: 格斗① | J35: =附表!C11 -> 0 | R35: =J35+L35+N35+P35 -> 0 | T35: =INT(R35/2) -> 0 | V35: =INT(R35/5) -> 0 | X35: ☐ | Z35: =IF(ISTEXT(_xlfn.IFERROR(VLOOKUP(人物卡!AB35,人物卡!BJ18:BR22,1,FALSE),_xlfn.IFERROR(VLOOKUP(人物卡!AB35,人物卡!BA18:BC22,1,FALSE),0))),"★",INDEX(本职技能!$A$2:$HX$76,MATCH(人物卡!AB35,本职技能!$A$2:$A$75,0),MATCH(人物卡!$M$5,本职技能!$A$1:$HX$1,0))) -> 0 | AB35: 侦查 | AF35: 25 | AN35: =SUM(AF35:AL35) -> 25 | AP35: =INT(AN35/2) -> 12 | AR35: =INT(AN35/5) -> 5 | AT35: 👀 | AU35: 自定义年龄补正 | BK35: 自定义货币
A36: =_xlfn.IFS(H36="鞭子","〰️",H36="电锯","⚙️",H36="链枷","💫",H36="绞具","➰",H36="斧","🔨",H36="剑","🗡️",H36="矛","🔱",H36="","🔅",TRUE,"⚔️") -> 🔅 | B36: ☐ | D36: =IF(ISTEXT(_xlfn.IFERROR(VLOOKUP(F36,人物卡!BJ18:BR22,1,FALSE),_xlfn.IFERROR(VLOOKUP(F36,人物卡!BA18:BC22,1,FALSE),0))),"★",INDEX(本职技能!$A$2:$HX$76,MATCH(F36,本职技能!$A$2:$A$75,0),MATCH(人物卡!$M$5,本职技能!$A$1:$HX$1,0))) -> 0 | F36: 格斗② | J36: =附表!C12 -> 0 | R36: =J36+L36+P36+N36 -> 0 | T36: =INT(R36/2) -> 0 | V36: =INT(R36/5) -> 0 | X36: ☐ | Z36: =IF(ISTEXT(_xlfn.IFERROR(VLOOKUP(人物卡!AB36,人物卡!BJ18:BR22,1,FALSE),_xlfn.IFERROR(VLOOKUP(人物卡!AB36,人物卡!BA18:BC22,1,FALSE),0))),"★",INDEX(本职技能!$A$2:$HX$76,MATCH(人物卡!AB36,本职技能!$A$2:$A$75,0),MATCH(人物卡!$M$5,本职技能!$A$1:$HX$1,0))) -> 0 | AB36: 潜行 | AF36: 20 | AN36: =SUM(AF36:AL36) -> 20 | AP36: =INT(AN36/2) -> 10 | AR36: =INT(AN36/5) -> 4 | AT36: 👣 | AU36: 年龄补正 | BK36: 货币名称 | BO36: 与美元的汇率
A37: =_xlfn.IFS(H37="鞭子","〰️",H37="电锯","⚙️",H37="链枷","💫",H37="绞具","➰",H37="斧","🔨",H37="剑","🗡️",H37="矛","🔱",H37="","🔅",TRUE,"⚔️") -> 🔅 | B37: ☐ | D37: =IF(ISTEXT(_xlfn.IFERROR(VLOOKUP(F37,人物卡!BJ18:BR22,1,FALSE),_xlfn.IFERROR(VLOOKUP(F37,人物卡!BA18:BC22,1,FALSE),0))),"★",INDEX(本职技能!$A$2:$HX$76,MATCH(F37,本职技能!$A$2:$A$75,0),MATCH(人物卡!$M$5,本职技能!$A$1:$HX$1,0))) -> 0 | F37: 格斗③ | J37: =附表!C13 -> 0 | R37: =P37+N37+L37+J37 -> 0 | T37: =INT(R37/2) -> 0 | V37: =INT(R37/5) -> 0 | X37: ☐ | Z37: =IF(ISTEXT(_xlfn.IFERROR(VLOOKUP(人物卡!AB37,人物卡!BJ18:BR22,1,FALSE),_xlfn.IFERROR(VLOOKUP(人物卡!AB37,人物卡!BA18:BC22,1,FALSE),0))),"★",INDEX(本职技能!$A$2:$HX$76,MATCH(人物卡!AB37,本职技能!$A$2:$A$75,0),MATCH(人物卡!$M$5,本职技能!$A$1:$HX$1,0))) -> 0 | AB37: 生存： | AF37: 10 | AN37: =SUM(AF37:AL37) -> 10 | AP37: =INT(AN37/2) -> 5 | AR37: =INT(AN37/5) -> 2 | AT37: ⛺
A38: 🎯 | B38: ☐ | D38: =IF(ISTEXT(_xlfn.IFERROR(VLOOKUP(人物卡!F38,人物卡!BJ18:BR22,1,FALSE),_xlfn.IFERROR(VLOOKUP(人物卡!F38,人物卡!BA18:BC22,1,FALSE),0))),"★",INDEX(本职技能!$A$2:$HX$76,MATCH(人物卡!F38,本职技能!$A$2:$A$75,0),MATCH(人物卡!$M$5,本职技能!$A$1:$HX$1,0))) -> 0 | F38: 射击： | H38: 手枪 | J38: 20 | R38: =SUM(J38:P38) -> 20 | T38: =INT(R38/2) -> 10 | V38: =INT(R38/5) -> 4 | X38: ☐ | Z38: =IF(ISTEXT(_xlfn.IFERROR(VLOOKUP(人物卡!AB38,人物卡!BJ18:BR22,1,FALSE),_xlfn.IFERROR(VLOOKUP(人物卡!AB38,人物卡!BA18:BC22,1,FALSE),0))),"★",INDEX(本职技能!$A$2:$HX$76,MATCH(人物卡!AB38,本职技能!$A$2:$A$75,0),MATCH(人物卡!$M$5,本职技能!$A$1:$HX$1,0))) -> 0 | AB38: 游泳 | AF38: 20 | AN38: =SUM(AF38:AL38) -> 20 | AP38: =INT(AN38/2) -> 10 | AR38: =INT(AN38/5) -> 4 | AT38: 🏊‍♂️ | AU38: 推 荐 关 系 人 | AV38: =IF(M5=0," ",""&LOOKUP(M5,职业列表!A2:A232,职业列表!K2:K232))
A39: =IF(H39="弓术","🏹","🎯") -> 🎯 | B39: ☐ | D39: =IF(ISTEXT(_xlfn.IFERROR(VLOOKUP(人物卡!F39,人物卡!BJ18:BR22,1,FALSE),_xlfn.IFERROR(VLOOKUP(人物卡!F39,人物卡!BA18:BC22,1,FALSE),0))),"★",INDEX(本职技能!$A$2:$HX$76,MATCH(人物卡!F39,本职技能!$A$2:$A$75,0),MATCH(人物卡!$M$5,本职技能!$A$1:$HX$1,0))) -> 0 | F39: 射击① | J39: =附表!E11 -> 0 | R39: =P39+N39+L39+J39 -> 0 | T39: =INT(R39/2) -> 0 | V39: =INT(R39/5) -> 0 | X39: ☐ | Z39: =IF(ISTEXT(_xlfn.IFERROR(VLOOKUP(人物卡!AB39,人物卡!BJ18:BR22,1,FALSE),_xlfn.IFERROR(VLOOKUP(人物卡!AB39,人物卡!BA18:BC22,1,FALSE),0))),"★",INDEX(本职技能!$A$2:$HX$76,MATCH(人物卡!AB39,本职技能!$A$2:$A$75,0),MATCH(人物卡!$M$5,本职技能!$A$1:$HX$1,0))) -> 0 | AB39: 投掷 | AF39: 20 | AN39: =SUM(AF39:AL39) -> 20 | AP39: =INT(AN39/2) -> 10 | AR39: =INT(AN39/5) -> 4 | AT39: 🏀
A40: =IF(H40="弓术","🏹","🎯") -> 🎯 | B40: ☐ | D40: =IF(ISTEXT(_xlfn.IFERROR(VLOOKUP(F40,人物卡!BJ18:BR22,1,FALSE),_xlfn.IFERROR(VLOOKUP(F40,人物卡!BA18:BC22,1,FALSE),0))),"★",INDEX(本职技能!$A$2:$HX$76,MATCH(F40,本职技能!$A$2:$A$75,0),MATCH(人物卡!$M$5,本职技能!$A$1:$HX$1,0))) -> 0 | F40: 射击② | J40: =附表!E12 -> 0 | R40: =P40+N40+L40+J40 -> 0 | T40: =INT(R40/2) -> 0 | V40: =INT(R40/5) -> 0 | X40: ☐ | Z40: =IF(ISTEXT(_xlfn.IFERROR(VLOOKUP(人物卡!AB40,人物卡!BJ18:BR22,1,FALSE),_xlfn.IFERROR(VLOOKUP(人物卡!AB40,人物卡!BA18:BC22,1,FALSE),0))),"★",INDEX(本职技能!$A$2:$HX$76,MATCH(人物卡!AB40,本职技能!$A$2:$A$75,0),MATCH(人物卡!$M$5,本职技能!$A$1:$HX$1,0))) -> 0 | AB40: 追踪 | AF40: 10 | AN40: =SUM(AF40:AL40) -> 10 | AP40: =INT(AN40/2) -> 5 | AR40: =INT(AN40/5) -> 2 | AT40: 🐾
...

Sheet 审卡
B2: =人物卡!B2 -> 调查员信息 | S2: =人物卡!S2 -> 年龄补正： | V2: =人物卡!V2 -> 请和kp商议 | AA2: =人物卡!AA2 -> 属性 | AC2: =人物卡!AC2 -> 已用点数: | AG2: =人物卡!AG2 -> 0
B3: =人物卡!B3 -> 姓名 | E3: =IF(人物卡!E3="","",人物卡!E3) | S3: 力量🥊 | U3: =人物卡!U3 -> 0 | W3: =人物卡!W3 -> 0 | Y3: 敏捷⚡ | AA3: =人物卡!AA3 -> 0 | AC3: =人物卡!AC3 -> 0 | AE3: 意志😱 | AG3: =人物卡!AG3 -> 0 | AI3: =人物卡!AI3 -> 0 | AL3: =IF(人物卡!AU3="","",人物卡!AU3) | AT3: =IF(人物卡!BC3="","",人物卡!BC3) | BB3: =IF(人物卡!BK3="","",人物卡!BK3)
B4: =人物卡!B4 -> 玩家 | E4: =IF(人物卡!E4="","",人物卡!E4) | J4: =人物卡!J4 -> 时代 | M4: =人物卡!M4 -> 1920s | S4: STR | W4: =人物卡!W4 -> 0 | Y4: DEX | AC4: =人物卡!AC4 -> 0 | AE4: POW | AI4: =人物卡!AI4 -> 0
B5: =人物卡!B5 -> 职业 | E5: =IF(人物卡!E5="","",人物卡!E5) | J5: =人物卡!J5 -> 职业序号 | M5: =人物卡!M5 -> 0 | S5: 体质💪 | U5: =人物卡!U5 -> 0 | W5: =人物卡!W5 -> 0 | Y5: 外貌💄 | AA5: =人物卡!AA5 -> 0 | AC5: =人物卡!AC5 -> 0 | AE5: 教育🎓 | AG5: =人物卡!AG5 -> 0 | AI5: =人物卡!AI5 -> 0 | AL5: =IF(人物卡!AU5="","",人物卡!AU5) | AT5: =IF(人物卡!BC5="","",人物卡!BC5) | BB5: =IF(人物卡!BK5="","",人物卡!BK5)
B6: =人物卡!B6 -> 年龄 | E6: =IF(人物卡!E6="","",人物卡!E6) | J6: =人物卡!J6 -> 性别 | M6: =IF(人物卡!M6="","",人物卡!M6) | S6: CON | W6: =人物卡!W6 -> 0 | Y6: APP | AC6: =人物卡!AC6 -> 0 | AE6: 知识📚 | AI6: =人物卡!AI6 -> 0
B7: =人物卡!B7 -> 住地 | E7: =IF(人物卡!E7="","",人物卡!E7) | J7: =人物卡!J7 -> 故乡 | M7: =IF(人物卡!M7="","",人物卡!M7) -> （应包含国籍） | S7: 体型🚹 | U7: =人物卡!U7 -> 0 | W7: =人物卡!W7 -> 0 | Y7: 智力🧠 | AA7: =人物卡!AA7 -> 0 | AC7: =人物卡!AC7 -> 0 | AE7: 幸运🍀 | AG7: =人物卡!AG7 -> 0 | AI7: =人物卡!AI7 -> 0 | AL7: =IF(人物卡!AU7="","",人物卡!AU7) | AT7: =IF(人物卡!BC7="","",人物卡!BC7) | BB7: =IF(人物卡!BK7="","",人物卡!BK7)
B8: =人物卡!W61 -> 形象描述 | F8: =IF(人物卡!AA61="","",人物卡!AA61) | S8: SIZ | W8: =人物卡!W8 -> 0 | Y8: 灵感💡 | AC8: =人物卡!AC8 -> 0 | AE8: LUCK | AI8: =人物卡!AI8 -> 0
B10: HP❤️ | E10: =人物卡!E10 -> 0 | G10: =人物卡!G10 -> 0 | K10: SAN🧠 | N10: =人物卡!N10 -> 0 | P10: =人物卡!P10 -> 99 | T10: MP🔯 | W10: =人物卡!W10 -> 0 | Y10: =人物卡!Y10 -> 0 | AA10: =人物卡!AA10 -> 每h恢复 | AC10: MOV🦵 | AF10: =人物卡!AF10 -> 8 | AI10: =人物卡!AI10 -> 调整值 | AK10: 护甲🔰 | AN10: =人物卡!AN10 -> 无 | AP10: =人物卡!AP10 -> 覆盖部位
AA11: =人物卡!AA11 -> 1 | AI11: =人物卡!AI11 -> 0 | AP11: =人物卡!AP11 -> ——
B12: =人物卡!B12 -> 重伤值: | D12: =人物卡!D12 -> 0 | F12: =人物卡!F12 -> 临时生命值： | I12: =人物卡!I12 -> 0 | K12: =人物卡!K12 -> 今日损失 : | N12: =人物卡!N12 -> 0 | P12: =人物卡!P12 -> 剩余： | R12: =人物卡!R12 -> 0 | T12: =人物卡!T12 -> 用过的魔法： | X12: =IF(人物卡!X12="","",人物卡!X12) | AC12: =人物卡!AC12 -> 移动方式 | AE12: =人物卡!AE12 -> 步式 | AG12: =人物卡!AG12 -> 护甲减值 | AI12: =人物卡!AI12 -> 关 | AK12: =人物卡!AK12 -> 护甲类型 : | AN12: =人物卡!AN12 -> 请看【防具表】
B14: 本职最高 | F14: =审卡后台!G40 -> 0 | I14: =审卡后台!I40
B15: 兴趣最高 | F15: =审卡后台!T40 -> 0 | I15: =审卡后台!V40
B16: =IF(人物卡!M5=0,"本职技能（先选择职业）","["&LOOKUP(人物卡!M5,职业列表!A2:A232,职业列表!B2:B232)&"]的本职技能："&LOOKUP(人物卡!M5,职业列表!A2:A232,职业列表!G2:G232)) -> 本职技能（先选择职业）
B17: =IF(人物卡!M5=0,"职业信用范围（先选择职业）","职业信用范围："&LOOKUP(人物卡!M5,职业列表!A2:A232,职业列表!D2:D232)) -> 职业信用范围（先选择职业） | J17: =IF(人物卡!M5=0,"剩余技能点（先选择职业）","本职属性："&附表!J52&" ")&IF(人物卡!M5=0,"",(("剩余职业点="&附表!J53-SUM(人物卡!N16:O49,人物卡!AJ16:AK49))&" 剩余兴趣点="&人物卡!AA7+人物卡!AA7-SUM(人物卡!P16:Q49,人物卡!AL16:AM49)&IF(人物卡!F113=附表!B26,""," 剩余经历包点="&IF(ISNUMBER(附表!D34),附表!D34-SUM(人物卡!L16:M49,人物卡!AH16:AI49),附表!D34)))) -> 剩余技能点（先选择职业）
B18: 成长过或消耗了技能点的技能 | J18: 特长 | M18: =CONCATENATE("剩余:",人物卡!AU19) -> 剩余:无 | P18: 伤害 加值 | R18: =人物卡!AP52 -> 0 | U18: 经历包 | Z18: =IF(人物卡!J113="","",人物卡!J113) -> SAN值减少 备注：
B19: =审卡后台!AI40 | H19: =审卡后台!AK40 | J19: =_xlfn.TEXTJOIN(CHAR(10),TRUE,人物卡!BA18:BI22) | M19: =_xlfn.TEXTJOIN(CHAR(10),TRUE,人物卡!BJ18:BR22) | U19: =IF(人物卡!F113="","",人物卡!F113) -> 无 | AM19: =人物卡!AU43 -> 职业介绍
P20: 体格 | R20: =人物卡!AP55 -> 0 | AM20: =IF(人物卡!AU44="","",人物卡!AU44)
P22: 克苏鲁 神话 | R22: =人物卡!R27 -> 0 | U22: =IF(人物卡!B63="","",人物卡!B63) -> 连贫穷都够不上的人才能够叫做身无分文。住所：大概只有睡大街。旅行：步行，扒车或逃票上火车轮船。
P24: 信用 评级 | R24: =人物卡!R26 -> 0
J26: 随身物品🧺 | V26: 随身武器⚔️🔫
J27: =_xlfn.TEXTJOIN(CHAR(10),TRUE,审卡后台!W136:Y150,审卡后台!W135,审卡后台!O136:V150) | V27: =_xlfn.TEXTJOIN(CHAR(10),TRUE,审卡后台!AM155:AO159) | AI27: =IF(B107="🗣️","🌐",B107) -> 🌐
AI31: =人物卡!W61 -> 形象描述 | AM31: =IF(人物卡!AA61="","",人物卡!AA61) | BD31: =人物卡!AR61 -> ☐
V32: 法术列表🔮
V33: =_xlfn.TEXTJOIN(CHAR(10),TRUE,人物卡!Y114:AB120) | AB33: =_xlfn.TEXTJOIN(CHAR(10),TRUE,人物卡!Y121:AB126) | AI33: =人物卡!W63 -> 思想与信念 | AM33: =IF(人物卡!AA63="","",人物卡!AA63) | BD33: =人物卡!AR63 -> ☐
AI35: =人物卡!W65 -> 重要之人 | AM35: =IF(人物卡!AA65="","",人物卡!AA65) | BD35: =人物卡!AR65 -> ☐
AI37: =人物卡!W67 -> 意义非凡之地 | AM37: =IF(人物卡!AA67="","",人物卡!AA67) | BD37: =人物卡!AR67 -> ☐
AI39: =人物卡!W69 -> 宝贵之物 | AM39: =IF(人物卡!AA69="","",人物卡!AA69) | BD39: =人物卡!AR69 -> ☐
V41: 神话接触🐙 | AI41: =人物卡!W71 -> 特质 | AM41: =IF(人物卡!AA71="","",人物卡!AA71) | BD41: =人物卡!AR71 -> ☐
V42: =_xlfn.TEXTJOIN("、",TRUE,人物卡!W98:Z110)
AI43: =人物卡!W73 -> 伤口和疤痕 | AM43: =IF(人物卡!AA73="","",人物卡!AA73) | BD43: =人物卡!AR73 -> ☐
AI45: =人物卡!W75 -> 恐惧症和躁狂症 | AM45: =IF(人物卡!AA75="","",人物卡!AA75) | BD45: =人物卡!AR75 -> ☐
AI47: =IF(人物卡!W77="","",人物卡!W77) -> 请务必在此填写背景故事！ 使用Alt+Enter换行
J51: 经历模组📜 | V51: 结识调查员🤝
J52: =_xlfn.TEXTJOIN("、",TRUE,人物卡!B97:I112) | V52: =_xlfn.TEXTJOIN("、",TRUE,人物卡!W130:Z144)
J63: =人物卡!B51 -> 武器表
J64: =人物卡!B52 -> 武器名称 | O64: =人物卡!G52 -> 类型 | U64: =人物卡!M52 -> 使用技能 | Y64: =人物卡!Q52 -> 成功率 | AE64: =人物卡!W52 -> 伤害 | AI64: =人物卡!AA52 -> 基础射程 | AK64: =人物卡!AC52 -> 贯穿 | AM64: =人物卡!AE52 -> 次数 | AO64: =人物卡!AG52 -> 装弹量 | AR64: =人物卡!AJ52 -> 故障值
J65: =人物卡!B53 -> 无 | O65: =人物卡!G53 -> 肉搏 | U65: =人物卡!M53 -> 斗殴 | Y65: =人物卡!Q53 -> 25 | AA65: =人物卡!S53 -> 12 | AC65: =人物卡!U53 -> 5 | AE65: =人物卡!W53 -> 1D3+DB | AI65: =人物卡!AA53 -> —— | AK65: =人物卡!AC53 -> × | AM65: =人物卡!AE53 -> 1 | AO65: =人物卡!AG53 -> —— | AR65: =人物卡!AJ53 -> ——
J66: =IF(人物卡!B54="","",人物卡!B54) | O66: =IF(人物卡!G54="","",人物卡!G54) | U66: =IF(人物卡!M54="","",人物卡!M54) -> ←请选择类型 | Y66: =IF(人物卡!Q54="","",人物卡!Q54) | AA66: =IF(人物卡!S54="","",人物卡!S54) | AC66: =IF(人物卡!U54="","",人物卡!U54) | AE66: =IF(人物卡!W54="","",人物卡!W54) | AI66: =IF(人物卡!AA54="","",人物卡!AA54) | AK66: =IF(人物卡!AC54="","",人物卡!AC54) | AM66: =IF(人物卡!AE54="","",人物卡!AE54) | AO66: =IF(人物卡!AG54="","",人物卡!AG54) | AR66: =IF(人物卡!AJ54="","",人物卡!AJ54)
J67: =IF(人物卡!B55="","",人物卡!B55) | O67: =IF(人物卡!G55="","",人物卡!G55) | U67: =IF(人物卡!M55="","",人物卡!M55) | Y67: =IF(人物卡!Q55="","",人物卡!Q55) | AA67: =IF(人物卡!S55="","",人物卡!S55) | AC67: =IF(人物卡!U55="","",人物卡!U55) | AE67: =IF(人物卡!W55="","",人物卡!W55) | AI67: =IF(人物卡!AA55="","",人物卡!AA55) | AK67: =IF(人物卡!AC55="","",人物卡!AC55) | AM67: =IF(人物卡!AE55="","",人物卡!AE55) | AO67: =IF(人物卡!AG55="","",人物卡!AG55) | AR67: =IF(人物卡!AJ55="","",人物卡!AJ55)
J68: =IF(人物卡!B56="","",人物卡!B56) | O68: =IF(人物卡!G56="","",人物卡!G56) | U68: =IF(人物卡!M56="","",人物卡!M56) | Y68: =IF(人物卡!Q56="","",人物卡!Q56) | AA68: =IF(人物卡!S56="","",人物卡!S56) | AC68: =IF(人物卡!U56="","",人物卡!U56) | AE68: =IF(人物卡!W56="","",人物卡!W56) | AI68: =IF(人物卡!AA56="","",人物卡!AA56) | AK68: =IF(人物卡!AC56="","",人物卡!AC56) | AM68: =IF(人物卡!AE56="","",人物卡!AE56) | AO68: =IF(人物卡!AG56="","",人物卡!AG56) | AR68: =IF(人物卡!AJ56="","",人物卡!AJ56)
...

Sheet 审卡后台
C3: 技能表
D4: =人物卡!D15 -> 本职 | F4: =人物卡!F15 -> 技能名称 | J4: =人物卡!J15 -> 初始 | L4: =人物卡!L15 -> 成长 | N4: =人物卡!N15 -> 职业 | P4: =人物卡!P15 -> 兴趣 | R4: =人物卡!R15 -> 成功率 普通/困难/极难 | X4: =人物卡!Z15 -> 本职 | Z4: =人物卡!AB15 -> 技能名称 | AD4: =人物卡!AF15 -> 初始 | AF4: =人物卡!AH15 -> 成长 | AH4: =人物卡!AJ15 -> 职业 | AJ4: =人物卡!AL15 -> 兴趣 | AL4: =人物卡!AN15 -> 成功率 普通/困难/极难
C5: =IF(人物卡!A16="","",人物卡!A16) -> 📒 | D5: =人物卡!D16 -> 0 | F5: =人物卡!F16 -> 会计 | J5: =人物卡!J16 -> 5 | L5: =人物卡!L16 -> 0 | N5: =人物卡!N16 -> 0 | P5: =人物卡!P16 -> 0 | R5: =人物卡!R16 -> 5 | T5: =人物卡!T16 -> 2 | V5: =人物卡!V16 -> 1 | X5: =人物卡!Z16 -> 0 | Z5: =人物卡!AB16 -> 法律 | AD5: =人物卡!AF16 -> 5 | AF5: =人物卡!AH16 -> 0 | AH5: =人物卡!AJ16 -> 0 | AJ5: =人物卡!AL16 -> 0 | AL5: =人物卡!AN16 -> 5 | AN5: =人物卡!AP16 -> 2 | AP5: =人物卡!AR16 -> 1 | AR5: =IF(人物卡!AT16="","",人物卡!AT16) -> ⚖️
C6: =IF(人物卡!A17="","",人物卡!A17) -> 👨🏿‍🦲 | D6: =人物卡!D17 -> 0 | F6: =人物卡!F17 -> 人类学 | J6: =人物卡!J17 -> 1 | L6: =人物卡!L17 -> 0 | N6: =人物卡!N17 -> 0 | P6: =人物卡!P17 -> 0 | R6: =人物卡!R17 -> 1 | T6: =人物卡!T17 -> 0 | V6: =人物卡!V17 -> 0 | X6: =人物卡!Z17 -> 0 | Z6: =人物卡!AB17 -> 图书馆使用 | AD6: =人物卡!AF17 -> 20 | AF6: =人物卡!AH17 -> 0 | AH6: =人物卡!AJ17 -> 0 | AJ6: =人物卡!AL17 -> 0 | AL6: =人物卡!AN17 -> 20 | AN6: =人物卡!AP17 -> 10 | AP6: =人物卡!AR17 -> 4 | AR6: =IF(人物卡!AT17="","",人物卡!AT17) -> 📚
C7: =IF(人物卡!A18="","",人物卡!A18) -> 💵 | D7: =人物卡!D18 -> 0 | F7: =人物卡!F18 -> 估价 | J7: =人物卡!J18 -> 5 | L7: =人物卡!L18 -> 0 | N7: =人物卡!N18 -> 0 | P7: =人物卡!P18 -> 0 | R7: =人物卡!R18 -> 5 | T7: =人物卡!T18 -> 2 | V7: =人物卡!V18 -> 1 | X7: =人物卡!Z18 -> 0 | Z7: =人物卡!AB18 -> 聆听 | AD7: =人物卡!AF18 -> 20 | AF7: =人物卡!AH18 -> 0 | AH7: =人物卡!AJ18 -> 0 | AJ7: =人物卡!AL18 -> 0 | AL7: =人物卡!AN18 -> 20 | AN7: =人物卡!AP18 -> 10 | AP7: =人物卡!AR18 -> 4 | AR7: =IF(人物卡!AT18="","",人物卡!AT18) -> 👂
C8: =IF(人物卡!A19="","",人物卡!A19) -> 🗿 | D8: =人物卡!D19 -> 0 | F8: =人物卡!F19 -> 考古学 | J8: =人物卡!J19 -> 1 | L8: =人物卡!L19 -> 0 | N8: =人物卡!N19 -> 0 | P8: =人物卡!P19 -> 0 | R8: =人物卡!R19 -> 1 | T8: =人物卡!T19 -> 0 | V8: =人物卡!V19 -> 0 | X8: =人物卡!Z19 -> 0 | Z8: =人物卡!AB19 -> 锁匠 | AD8: =人物卡!AF19 -> 1 | AF8: =人物卡!AH19 -> 0 | AH8: =人物卡!AJ19 -> 0 | AJ8: =人物卡!AL19 -> 0 | AL8: =人物卡!AN19 -> 1 | AN8: =人物卡!AP19 -> 0 | AP8: =人物卡!AR19 -> 0 | AR8: =IF(人物卡!AT19="","",人物卡!AT19) -> 🔒
C9: =IF(人物卡!A20="","",人物卡!A20) -> 🔅 | D9: =人物卡!D20 -> 0 | F9: =人物卡!F20 -> 技艺① | H9: =IF(人物卡!H20="","",人物卡!H20) | J9: =人物卡!J20 -> 5 | L9: =人物卡!L20 -> 0 | N9: =人物卡!N20 -> 0 | P9: =人物卡!P20 -> 0 | R9: =人物卡!R20 -> 5 | T9: =人物卡!T20 -> 2 | V9: =人物卡!V20 -> 1 | X9: =人物卡!Z20 -> 0 | Z9: =人物卡!AB20 -> 机械维修 | AD9: =人物卡!AF20 -> 10 | AF9: =人物卡!AH20 -> 0 | AH9: =人物卡!AJ20 -> 0 | AJ9: =人物卡!AL20 -> 0 | AL9: =人物卡!AN20 -> 10 | AN9: =人物卡!AP20 -> 5 | AP9: =人物卡!AR20 -> 2 | AR9: =IF(人物卡!AT20="","",人物卡!AT20) -> 🛠️
C10: =IF(人物卡!A21="","",人物卡!A21) -> 🔅 | D10: =人物卡!D21 -> 0 | F10: =人物卡!F21 -> 技艺② | H10: =IF(人物卡!H21="","",人物卡!H21) | J10: =人物卡!J21 -> 5 | L10: =人物卡!L21 -> 0 | N10: =人物卡!N21 -> 0 | P10: =人物卡!P21 -> 0 | R10: =人物卡!R21 -> 5 | T10: =人物卡!T21 -> 2 | V10: =人物卡!V21 -> 1 | X10: =人物卡!Z21 -> 0 | Z10: =人物卡!AB21 -> 医学 | AD10: =人物卡!AF21 -> 1 | AF10: =人物卡!AH21 -> 0 | AH10: =人物卡!AJ21 -> 0 | AJ10: =人物卡!AL21 -> 0 | AL10: =人物卡!AN21 -> 1 | AN10: =人物卡!AP21 -> 0 | AP10: =人物卡!AR21 -> 0 | AR10: =IF(人物卡!AT21="","",人物卡!AT21) -> 💊
C11: =IF(人物卡!A22="","",人物卡!A22) -> 🔅 | D11: =人物卡!D22 -> 0 | F11: =人物卡!F22 -> 技艺③ | H11: =IF(人物卡!H22="","",人物卡!H22) | J11: =人物卡!J22 -> 5 | L11: =人物卡!L22 -> 0 | N11: =人物卡!N22 -> 0 | P11: =人物卡!P22 -> 0 | R11: =人物卡!R22 -> 5 | T11: =人物卡!T22 -> 2 | V11: =人物卡!V22 -> 1 | X11: =人物卡!Z22 -> 0 | Z11: =人物卡!AB22 -> 博物学 | AD11: =人物卡!AF22 -> 10 | AF11: =人物卡!AH22 -> 0 | AH11: =人物卡!AJ22 -> 0 | AJ11: =人物卡!AL22 -> 0 | AL11: =人物卡!AN22 -> 10 | AN11: =人物卡!AP22 -> 5 | AP11: =人物卡!AR22 -> 2 | AR11: =IF(人物卡!AT22="","",人物卡!AT22) -> 🔬
C12: =IF(人物卡!A23="","",人物卡!A23) -> 😍 | D12: =人物卡!D23 -> 0 | F12: =人物卡!F23 -> 取悦 | J12: =人物卡!J23 -> 15 | L12: =人物卡!L23 -> 0 | N12: =人物卡!N23 -> 0 | P12: =人物卡!P23 -> 0 | R12: =人物卡!R23 -> 15 | T12: =人物卡!T23 -> 7 | V12: =人物卡!V23 -> 3 | X12: =人物卡!Z23 -> 0 | Z12: =人物卡!AB23 -> 导航 | AD12: =人物卡!AF23 -> 10 | AF12: =人物卡!AH23 -> 0 | AH12: =人物卡!AJ23 -> 0 | AJ12: =人物卡!AL23 -> 0 | AL12: =人物卡!AN23 -> 10 | AN12: =人物卡!AP23 -> 5 | AP12: =人物卡!AR23 -> 2 | AR12: =IF(人物卡!AT23="","",人物卡!AT23) -> 🧭
C13: =IF(人物卡!A24="","",人物卡!A24) -> 🧗‍♂️ | D13: =人物卡!D24 -> 0 | F13: =人物卡!F24 -> 攀爬 | J13: =人物卡!J24 -> 20 | L13: =人物卡!L24 -> 0 | N13: =人物卡!N24 -> 0 | P13: =人物卡!P24 -> 0 | R13: =人物卡!R24 -> 20 | T13: =人物卡!T24 -> 10 | V13: =人物卡!V24 -> 4 | X13: =人物卡!Z24 -> 0 | Z13: =人物卡!AB24 -> 神秘学 | AD13: =人物卡!AF24 -> 5 | AF13: =人物卡!AH24 -> 0 | AH13: =人物卡!AJ24 -> 0 | AJ13: =人物卡!AL24 -> 0 | AL13: =人物卡!AN24 -> 5 | AN13: =人物卡!AP24 -> 2 | AP13: =人物卡!AR24 -> 1 | AR13: =IF(人物卡!AT24="","",人物卡!AT24) -> 🔮
C14: =IF(人物卡!A25="","",人物卡!A25) -> 💻 | D14: =人物卡!D25 -> 0 | F14: =人物卡!F25 -> 计算机使用 Ω | J14: =人物卡!J25 -> 5 | L14: =人物卡!L25 -> 0 | N14: =人物卡!N25 -> 0 | P14: =人物卡!P25 -> 0 | R14: =人物卡!R25 -> 5 | T14: =人物卡!T25 -> 2 | V14: =人物卡!V25 -> 1 | X14: =人物卡!Z25 -> 0 | Z14: =人物卡!AB25 -> 操作重型机械 | AD14: =人物卡!AF25 -> 1 | AF14: =人物卡!AH25 -> 0 | AH14: =人物卡!AJ25 -> 0 | AJ14: =人物卡!AL25 -> 0 | AL14: =人物卡!AN25 -> 1 | AN14: =人物卡!AP25 -> 0 | AP14: =人物卡!AR25 -> 0 | AR14: =IF(人物卡!AT25="","",人物卡!AT25) -> 🚜
C15: =IF(人物卡!A26="","",人物卡!A26) -> 💳 | D15: =人物卡!D26 -> ★ | F15: =人物卡!F26 -> 信用评级 | J15: =人物卡!J26 -> 0 | L15: =人物卡!L26 -> 0 | N15: =人物卡!N26 -> 0 | P15: =人物卡!P26 -> 0 | R15: =人物卡!R26 -> 0 | T15: =人物卡!T26 -> 0 | V15: =人物卡!V26 -> 0 | X15: =人物卡!Z26 -> 0 | Z15: =人物卡!AB26 -> 说服 | AD15: =人物卡!AF26 -> 10 | AF15: =人物卡!AH26 -> 0 | AH15: =人物卡!AJ26 -> 0 | AJ15: =人物卡!AL26 -> 0 | AL15: =人物卡!AN26 -> 10 | AN15: =人物卡!AP26 -> 5 | AP15: =人物卡!AR26 -> 2 | AR15: =IF(人物卡!AT26="","",人物卡!AT26) -> 🤓
C16: =IF(人物卡!A27="","",人物卡!A27) -> 🐙 | D16: =人物卡!D27 -> 0 | F16: =人物卡!F27 -> 克苏鲁神话 | J16: =人物卡!J27 -> 0 | L16: =人物卡!L27 -> 0 | N16: =人物卡!N27 -> —— | P16: =人物卡!P27 -> —— | R16: =人物卡!R27 -> 0 | T16: =人物卡!T27 -> 0 | V16: =人物卡!V27 -> 0 | X16: =人物卡!Z27 -> 0 | Z16: =人物卡!AB27 -> 驾驶： | AB16: =IF(人物卡!AD27="","",人物卡!AD27) | AD16: =人物卡!AF27 -> 1 | AF16: =人物卡!AH27 -> 0 | AH16: =人物卡!AJ27 -> 0 | AJ16: =人物卡!AL27 -> 0 | AL16: =人物卡!AN27 -> 1 | AN16: =人物卡!AP27 -> 0 | AP16: =人物卡!AR27 -> 0 | AR16: =IF(人物卡!AT27="","",人物卡!AT27) -> ⛴️
C17: =IF(人物卡!A28="","",人物卡!A28) -> 👩‍🎤 | D17: =人物卡!D28 -> 0 | F17: =人物卡!F28 -> 乔装 | J17: =人物卡!J28 -> 5 | L17: =人物卡!L28 -> 0 | N17: =人物卡!N28 -> 0 | P17: =人物卡!P28 -> 0 | R17: =人物卡!R28 -> 5 | T17: =人物卡!T28 -> 2 | V17: =人物卡!V28 -> 1 | X17: =人物卡!Z28 -> 0 | Z17: =人物卡!AB28 -> 精神分析 | AD17: =人物卡!AF28 -> 1 | AF17: =人物卡!AH28 -> 0 | AH17: =人物卡!AJ28 -> 0 | AJ17: =人物卡!AL28 -> 0 | AL17: =人物卡!AN28 -> 1 | AN17: =人物卡!AP28 -> 0 | AP17: =人物卡!AR28 -> 0 | AR17: =IF(人物卡!AT28="","",人物卡!AT28) -> 💡
C18: =IF(人物卡!A29="","",人物卡!A29) -> 💨 | D18: =人物卡!D29 -> 0 | F18: =人物卡!F29 -> 闪避 | J18: =人物卡!J29 -> 0 | L18: =人物卡!L29 -> 0 | N18: =人物卡!N29 -> 0 | P18: =人物卡!P29 -> 0 | R18: =人物卡!R29 -> 0 | T18: =人物卡!T29 -> 0 | V18: =人物卡!V29 -> 0 | X18: =人物卡!Z29 -> 0 | Z18: =人物卡!AB29 -> 心理学 | AD18: =人物卡!AF29 -> 10 | AF18: =人物卡!AH29 -> 0 | AH18: =人物卡!AJ29 -> 0 | AJ18: =人物卡!AL29 -> 0 | AL18: =人物卡!AN29 -> 10 | AN18: =人物卡!AP29 -> 5 | AP18: =人物卡!AR29 -> 2 | AR18: =IF(人物卡!AT29="","",人物卡!AT29) -> 💓
C19: =IF(人物卡!A30="","",人物卡!A30) -> 🚙 | D19: =人物卡!D30 -> 0 | F19: =人物卡!F30 -> 汽车驾驶 | J19: =人物卡!J30 -> 20 | L19: =人物卡!L30 -> 0 | N19: =人物卡!N30 -> 0 | P19: =人物卡!P30 -> 0 | R19: =人物卡!R30 -> 20 | T19: =人物卡!T30 -> 10 | V19: =人物卡!V30 -> 4 | X19: =人物卡!Z30 -> 0 | Z19: =人物卡!AB30 -> 骑术 | AD19: =人物卡!AF30 -> 5 | AF19: =人物卡!AH30 -> 0 | AH19: =人物卡!AJ30 -> 0 | AJ19: =人物卡!AL30 -> 0 | AL19: =人物卡!AN30 -> 5 | AN19: =人物卡!AP30 -> 2 | AP19: =人物卡!AR30 -> 1 | AR19: =IF(人物卡!AT30="","",人物卡!AT30) -> 🐴
C20: =IF(人物卡!A31="","",人物卡!A31) -> ⚒️ | D20: =人物卡!D31 -> 0 | F20: =人物卡!F31 -> 电气维修 | J20: =人物卡!J31 -> 10 | L20: =人物卡!L31 -> 0 | N20: =人物卡!N31 -> 0 | P20: =人物卡!P31 -> 0 | R20: =人物卡!R31 -> 10 | T20: =人物卡!T31 -> 5 | V20: =人物卡!V31 -> 2 | X20: =人物卡!Z31 -> 0 | Z20: =人物卡!AB31 -> 科学① | AB20: =IF(人物卡!AD31="","",人物卡!AD31) | AD20: =人物卡!AF31 -> 1 | AF20: =人物卡!AH31 -> 0 | AH20: =人物卡!AJ31 -> 0 | AJ20: =人物卡!AL31 -> 0 | AL20: =人物卡!AN31 -> 1 | AN20: =人物卡!AP31 -> 0 | AP20: =人物卡!AR31 -> 0 | AR20: =IF(人物卡!AT31="","",人物卡!AT31) -> 🔅
C21: =IF(人物卡!A32="","",人物卡!A32) -> ⚡ | D21: =人物卡!D32 -> 0 | F21: =人物卡!F32 -> 电子学 Ω | J21: =人物卡!J32 -> 1 | L21: =人物卡!L32 -> 0 | N21: =人物卡!N32 -> 0 | P21: =人物卡!P32 -> 0 | R21: =人物卡!R32 -> 1 | T21: =人物卡!T32 -> 0 | V21: =人物卡!V32 -> 0 | X21: =人物卡!Z32 -> 0 | Z21: =人物卡!AB32 -> 科学② | AB21: =IF(人物卡!AD32="","",人物卡!AD32) | AD21: =人物卡!AF32 -> 1 | AF21: =人物卡!AH32 -> 0 | AH21: =人物卡!AJ32 -> 0 | AJ21: =人物卡!AL32 -> 0 | AL21: =人物卡!AN32 -> 1 | AN21: =人物卡!AP32 -> 0 | AP21: =人物卡!AR32 -> 0 | AR21: =IF(人物卡!AT32="","",人物卡!AT32) -> 🔅
C22: =IF(人物卡!A33="","",人物卡!A33) -> 🤥 | D22: =人物卡!D33 -> 0 | F22: =人物卡!F33 -> 话术 | J22: =人物卡!J33 -> 5 | L22: =人物卡!L33 -> 0 | N22: =人物卡!N33 -> 0 | P22: =人物卡!P33 -> 0 | R22: =人物卡!R33 -> 5 | T22: =人物卡!T33 -> 2 | V22: =人物卡!V33 -> 1 | X22: =人物卡!Z33 -> 0 | Z22: =人物卡!AB33 -> 科学③ | AB22: =IF(人物卡!AD33="","",人物卡!AD33) | AD22: =人物卡!AF33 -> 1 | AF22: =人物卡!AH33 -> 0 | AH22: =人物卡!AJ33 -> 0 | AJ22: =人物卡!AL33 -> 0 | AL22: =人物卡!AN33 -> 1 | AN22: =人物卡!AP33 -> 0 | AP22: =人物卡!AR33 -> 0 | AR22: =IF(人物卡!AT33="","",人物卡!AT33) -> 🔅
C23: =IF(人物卡!A34="","",人物卡!A34) -> 🥊 | D23: =人物卡!D34 -> 0 | F23: =人物卡!F34 -> 格斗： | H23: =IF(人物卡!H34="","",人物卡!H34) -> 斗殴 | J23: =人物卡!J34 -> 25 | L23: =人物卡!L34 -> 0 | N23: =人物卡!N34 -> 0 | P23: =人物卡!P34 -> 0 | R23: =人物卡!R34 -> 25 | T23: =人物卡!T34 -> 12 | V23: =人物卡!V34 -> 5 | X23: =人物卡!Z34 -> 0 | Z23: =人物卡!AB34 -> 妙手 | AD23: =人物卡!AF34 -> 10 | AF23: =人物卡!AH34 -> 0 | AH23: =人物卡!AJ34 -> 0 | AJ23: =人物卡!AL34 -> 0 | AL23: =人物卡!AN34 -> 10 | AN23: =人物卡!AP34 -> 5 | AP23: =人物卡!AR34 -> 2 | AR23: =IF(人物卡!AT34="","",人物卡!AT34) -> 👋
C24: =IF(人物卡!A35="","",人物卡!A35) -> 🔅 | D24: =人物卡!D35 -> 0 | F24: =人物卡!F35 -> 格斗① | H24: =IF(人物卡!H35="","",人物卡!H35) | J24: =人物卡!J35 -> 0 | L24: =人物卡!L35 -> 0 | N24: =人物卡!N35 -> 0 | P24: =人物卡!P35 -> 0 | R24: =人物卡!R35 -> 0 | T24: =人物卡!T35 -> 0 | V24: =人物卡!V35 -> 0 | X24: =人物卡!Z35 -> 0 | Z24: =人物卡!AB35 -> 侦查 | AD24: =人物卡!AF35 -> 25 | AF24: =人物卡!AH35 -> 0 | AH24: =人物卡!AJ35 -> 0 | AJ24: =人物卡!AL35 -> 0 | AL24: =人物卡!AN35 -> 25 | AN24: =人物卡!AP35 -> 12 | AP24: =人物卡!AR35 -> 5 | AR24: =IF(人物卡!AT35="","",人物卡!AT35) -> 👀
C25: =IF(人物卡!A36="","",人物卡!A36) -> 🔅 | D25: =人物卡!D36 -> 0 | F25: =人物卡!F36 -> 格斗② | H25: =IF(人物卡!H36="","",人物卡!H36) | J25: =人物卡!J36 -> 0 | L25: =人物卡!L36 -> 0 | N25: =人物卡!N36 -> 0 | P25: =人物卡!P36 -> 0 | R25: =人物卡!R36 -> 0 | T25: =人物卡!T36 -> 0 | V25: =人物卡!V36 -> 0 | X25: =人物卡!Z36 -> 0 | Z25: =人物卡!AB36 -> 潜行 | AD25: =人物卡!AF36 -> 20 | AF25: =人物卡!AH36 -> 0 | AH25: =人物卡!AJ36 -> 0 | AJ25: =人物卡!AL36 -> 0 | AL25: =人物卡!AN36 -> 20 | AN25: =人物卡!AP36 -> 10 | AP25: =人物卡!AR36 -> 4 | AR25: =IF(人物卡!AT36="","",人物卡!AT36) -> 👣
C26: =IF(人物卡!A37="","",人物卡!A37) -> 🔅 | D26: =人物卡!D37 -> 0 | F26: =人物卡!F37 -> 格斗③ | H26: =IF(人物卡!H37="","",人物卡!H37) | J26: =人物卡!J37 -> 0 | L26: =人物卡!L37 -> 0 | N26: =人物卡!N37 -> 0 | P26: =人物卡!P37 -> 0 | R26: =人物卡!R37 -> 0 | T26: =人物卡!T37 -> 0 | V26: =人物卡!V37 -> 0 | X26: =人物卡!Z37 -> 0 | Z26: =人物卡!AB37 -> 生存： | AB26: =IF(人物卡!AD37="","",人物卡!AD37) | AD26: =人物卡!AF37 -> 10 | AF26: =人物卡!AH37 -> 0 | AH26: =人物卡!AJ37 -> 0 | AJ26: =人物卡!AL37 -> 0 | AL26: =人物卡!AN37 -> 10 | AN26: =人物卡!AP37 -> 5 | AP26: =人物卡!AR37 -> 2 | AR26: =IF(人物卡!AT37="","",人物卡!AT37) -> ⛺
C27: =IF(人物卡!A38="","",人物卡!A38) -> 🎯 | D27: =人物卡!D38 -> 0 | F27: =人物卡!F38 -> 射击： | H27: =IF(人物卡!H38="","",人物卡!H38) -> 手枪 | J27: =人物卡!J38 -> 20 | L27: =人物卡!L38 -> 0 | N27: =人物卡!N38 -> 0 | P27: =人物卡!P38 -> 0 | R27: =人物卡!R38 -> 20 | T27: =人物卡!T38 -> 10 | V27: =人物卡!V38 -> 4 | X27: =人物卡!Z38 -> 0 | Z27: =人物卡!AB38 -> 游泳 | AD27: =人物卡!AF38 -> 20 | AF27: =人物卡!AH38 -> 0 | AH27: =人物卡!AJ38 -> 0 | AJ27: =人物卡!AL38 -> 0 | AL27: =人物卡!AN38 -> 20 | AN27: =人物卡!AP38 -> 10 | AP27: =人物卡!AR38 -> 4 | AR27: =IF(人物卡!AT38="","",人物卡!AT38) -> 🏊‍♂️
C28: =IF(人物卡!A39="","",人物卡!A39) -> 🎯 | D28: =人物卡!D39 -> 0 | F28: =人物卡!F39 -> 射击① | H28: =IF(人物卡!H39="","",人物卡!H39) | J28: =人物卡!J39 -> 0 | L28: =人物卡!L39 -> 0 | N28: =人物卡!N39 -> 0 | P28: =人物卡!P39 -> 0 | R28: =人物卡!R39 -> 0 | T28: =人物卡!T39 -> 0 | V28: =人物卡!V39 -> 0 | X28: =人物卡!Z39 -> 0 | Z28: =人物卡!AB39 -> 投掷 | AD28: =人物卡!AF39 -> 20 | AF28: =人物卡!AH39 -> 0 | AH28: =人物卡!AJ39 -> 0 | AJ28: =人物卡!AL39 -> 0 | AL28: =人物卡!AN39 -> 20 | AN28: =人物卡!AP39 -> 10 | AP28: =人物卡!AR39 -> 4 | AR28: =IF(人物卡!AT39="","",人物卡!AT39) -> 🏀
C29: =IF(人物卡!A40="","",人物卡!A40) -> 🎯 | D29: =人物卡!D40 -> 0 | F29: =人物卡!F40 -> 射击② | H29: =IF(人物卡!H40="","",人物卡!H40) | J29: =人物卡!J40 -> 0 | L29: =人物卡!L40 -> 0 | N29: =人物卡!N40 -> 0 | P29: =人物卡!P40 -> 0 | R29: =人物卡!R40 -> 0 | T29: =人物卡!T40 -> 0 | V29: =人物卡!V40 -> 0 | X29: =人物卡!Z40 -> 0 | Z29: =人物卡!AB40 -> 追踪 | AD29: =人物卡!AF40 -> 10 | AF29: =人物卡!AH40 -> 0 | AH29: =人物卡!AJ40 -> 0 | AJ29: =人物卡!AL40 -> 0 | AL29: =人物卡!AN40 -> 10 | AN29: =人物卡!AP40 -> 5 | AP29: =人物卡!AR40 -> 2 | AR29: =IF(人物卡!AT40="","",人物卡!AT40) -> 🐾
C30: =IF(人物卡!A41="","",人物卡!A41) -> 🎯 | D30: =人物卡!D41 -> 0 | F30: =人物卡!F41 -> 射击③ | H30: =IF(人物卡!H41="","",人物卡!H41) | J30: =人物卡!J41 -> 0 | L30: =人物卡!L41 -> 0 | N30: =人物卡!N41 -> 0 | P30: =人物卡!P41 -> 0 | R30: =人物卡!R41 -> 0 | T30: =人物卡!T41 -> 0 | V30: =人物卡!V41 -> 0 | X30: =人物卡!Z41 -> 0 | Z30: =人物卡!AB41 -> 动物驯养 | AD30: =人物卡!AF41 -> 5 | AF30: =人物卡!AH41 -> 0 | AH30: =人物卡!AJ41 -> 0 | AJ30: =人物卡!AL41 -> 0 | AL30: =人物卡!AN41 -> 5 | AN30: =人物卡!AP41 -> 2 | AP30: =人物卡!AR41 -> 1 | AR30: =IF(人物卡!AT41="","",人物卡!AT41) -> 🐶
C31: =IF(人物卡!A42="","",人物卡!A42) -> 💉 | D31: =人物卡!D42 -> 0 | F31: =人物卡!F42 -> 急救 | J31: =人物卡!J42 -> 30 | L31: =人物卡!L42 -> 0 | N31: =人物卡!N42 -> 0 | P31: =人物卡!P42 -> 0 | R31: =人物卡!R42 -> 30 | T31: =人物卡!T42 -> 15 | V31: =人物卡!V42 -> 6 | X31: =人物卡!Z42 -> 0 | Z31: =人物卡!AB42 -> 潜水 | AD31: =人物卡!AF42 -> 1 | AF31: =人物卡!AH42 -> 0 | AH31: =人物卡!AJ42 -> 0 | AJ31: =人物卡!AL42 -> 0 | AL31: =人物卡!AN42 -> 1 | AN31: =人物卡!AP42 -> 0 | AP31: =人物卡!AR42 -> 0 | AR31: =IF(人物卡!AT42="","",人物卡!AT42) -> 🐠
C32: =IF(人物卡!A43="","",人物卡!A43) -> ⏳ | D32: =人物卡!D43 -> 0 | F32: =人物卡!F43 -> 历史 | J32: =人物卡!J43 -> 5 | L32: =人物卡!L43 -> 0 | N32: =人物卡!N43 -> 0 | P32: =人物卡!P43 -> 0 | R32: =人物卡!R43 -> 5 | T32: =人物卡!T43 -> 2 | V32: =人物卡!V43 -> 1 | X32: =人物卡!Z43 -> 0 | Z32: =人物卡!AB43 -> 爆破 | AD32: =人物卡!AF43 -> 1 | AF32: =人物卡!AH43 -> 0 | AH32: =人物卡!AJ43 -> 0 | AJ32: =人物卡!AL43 -> 0 | AL32: =人物卡!AN43 -> 1 | AN32: =人物卡!AP43 -> 0 | AP32: =人物卡!AR43 -> 0 | AR32: =IF(人物卡!AT43="","",人物卡!AT43) -> 💣
C33: =IF(人物卡!A44="","",人物卡!A44) -> 😱 | D33: =人物卡!D44 -> 0 | F33: =人物卡!F44 -> 恐吓 | J33: =人物卡!J44 -> 15 | L33: =人物卡!L44 -> 0 | N33: =人物卡!N44 -> 0 | P33: =人物卡!P44 -> 0 | R33: =人物卡!R44 -> 15 | T33: =人物卡!T44 -> 7 | V33: =人物卡!V44 -> 3 | X33: =人物卡!Z44 -> 0 | Z33: =人物卡!AB44 -> 读唇 | AD33: =人物卡!AF44 -> 1 | AF33: =人物卡!AH44 -> 0 | AH33: =人物卡!AJ44 -> 0 | AJ33: =人物卡!AL44 -> 0 | AL33: =人物卡!AN44 -> 1 | AN33: =人物卡!AP44 -> 0 | AP33: =人物卡!AR44 -> 0 | AR33: =IF(人物卡!AT44="","",人物卡!AT44) -> 👄
C34: =IF(人物卡!A45="","",人物卡!A45) -> 🐸 | D34: =人物卡!D45 -> 0 | F34: =人物卡!F45 -> 跳跃 | J34: =人物卡!J45 -> 20 | L34: =人物卡!L45 -> 0 | N34: =人物卡!N45 -> 0 | P34: =人物卡!P45 -> 0 | R34: =人物卡!R45 -> 20 | T34: =人物卡!T45 -> 10 | V34: =人物卡!V45 -> 4 | X34: =人物卡!Z45 -> 0 | Z34: =人物卡!AB45 -> 催眠 | AD34: =人物卡!AF45 -> 1 | AF34: =人物卡!AH45 -> 0 | AH34: =人物卡!AJ45 -> 0 | AJ34: =人物卡!AL45 -> 0 | AL34: =人物卡!AN45 -> 1 | AN34: =人物卡!AP45 -> 0 | AP34: =人物卡!AR45 -> 0 | AR34: =IF(人物卡!AT45="","",人物卡!AT45) -> 💤
C35: =IF(人物卡!A46="","",人物卡!A46) -> 🔅 | D35: =人物卡!D46 -> 0 | F35: =人物卡!F46 -> 外语① | H35: =IF(人物卡!H46="","",人物卡!H46) | J35: =人物卡!J46 -> 1 | L35: =人物卡!L46 -> 0 | N35: =人物卡!N46 -> 0 | P35: =人物卡!P46 -> 0 | R35: =人物卡!R46 -> 1 | T35: =人物卡!T46 -> 0 | V35: =人物卡!V46 -> 0 | X35: =人物卡!Z46 -> 0 | Z35: =人物卡!AB46 -> 炮术 | AD35: =人物卡!AF46 -> 1 | AF35: =人物卡!AH46 -> 0 | AH35: =人物卡!AJ46 -> 0 | AJ35: =人物卡!AL46 -> 0 | AL35: =人物卡!AN46 -> 1 | AN35: =人物卡!AP46 -> 0 | AP35: =人物卡!AR46 -> 0 | AR35: =IF(人物卡!AT46="","",人物卡!AT46) -> ☄️
C36: =IF(人物卡!A47="","",人物卡!A47) -> 🔅 | D36: =人物卡!D47 -> 0 | F36: =人物卡!F47 -> 外语② | H36: =IF(人物卡!H47="","",人物卡!H47) | J36: =人物卡!J47 -> 1 | L36: =人物卡!L47 -> 0 | N36: =人物卡!N47 -> 0 | P36: =人物卡!P47 -> 0 | R36: =人物卡!R47 -> 1 | T36: =人物卡!T47 -> 0 | V36: =人物卡!V47 -> 0 | X36: =人物卡!Z47 -> 0 | Z36: =人物卡!AB47 -> 学识： | AB36: =IF(人物卡!AD47="","",人物卡!AD47) | AD36: =人物卡!AF47 -> 1 | AF36: =人物卡!AH47 -> 0 | AH36: =人物卡!AJ47 -> 0 | AJ36: =人物卡!AL47 -> 0 | AL36: =人物卡!AN47 -> 1 | AN36: =人物卡!AP47 -> 0 | AP36: =人物卡!AR47 -> 0 | AR36: =IF(人物卡!AT47="","",人物卡!AT47) -> 👽
C37: =IF(人物卡!A48="","",人物卡!A48) -> 🔅 | D37: =人物卡!D48 -> 0 | F37: =人物卡!F48 -> 外语③ | H37: =IF(人物卡!H48="","",人物卡!H48) | J37: =人物卡!J48 -> 1 | L37: =人物卡!L48 -> 0 | N37: =人物卡!N48 -> 0 | P37: =人物卡!P48 -> 0 | R37: =人物卡!R48 -> 1 | T37: =人物卡!T48 -> 0 | V37: =人物卡!V48 -> 0 | X37: =人物卡!Z48 -> 0 | Z37: =人物卡!AB48 -> 自定义技能 | AD37: =人物卡!AF48 -> 0 | AF37: =人物卡!AH48 -> 0 | AH37: =人物卡!AJ48 -> 0 | AJ37: =人物卡!AL48 -> 0 | AL37: =人物卡!AN48 -> 0 | AN37: =人物卡!AP48 -> 0 | AP37: =人物卡!AR48 -> 0 | AR37: =IF(人物卡!AT48="","",人物卡!AT48) -> ❓
C38: =IF(人物卡!A49="","",人物卡!A49) -> 🗣️ | D38: =人物卡!D49 -> 0 | F38: =人物卡!F49 -> 母语 | H38: =IF(人物卡!H49="","",人物卡!H49) | J38: =人物卡!J49 -> 0 | L38: =人物卡!L49 -> 0 | N38: =人物卡!N49 -> 0 | P38: =人物卡!P49 -> 0 | R38: =人物卡!R49 -> 0 | T38: =人物卡!T49 -> 0 | V38: =人物卡!V49 -> 0 | X38: =人物卡!Z49 | Z38: =人物卡!AB49 -> 0 | AD38: =人物卡!AF49 -> 0 | AF38: =人物卡!AH49 -> 0 | AH38: =人物卡!AJ49 -> 0 | AJ38: =人物卡!AL49 -> 0 | AL38: =人物卡!AN49 -> 0 | AN38: =人物卡!AP49 -> 0 | AP38: =人物卡!AR49 -> 0 | AR38: =IF(人物卡!AT49="","",人物卡!AT49)
C40: 本职统计 | G40: =MAX(G41:H107) -> 0 | I40: =IF(M40=1,"错误：使用本职技能点提高了非本职技能！",_xlfn.TEXTJOIN("、",TRUE,I41:L107)) | M40: =SUM(M41:M107) -> 0 | P40: 兴趣统计 | T40: =MAX(T41:U107) -> 0 | V40: =_xlfn.TEXTJOIN("、",TRUE,V41:Y107) | AC40: 全技能统计 | AI40: =_xlfn.TEXTJOIN(CHAR(10),TRUE,AM109:KT109) | AK40: =_xlfn.TEXTJOIN(CHAR(10),TRUE,AM110:KT110) | AM40: 1 | AQ40: 2 | AU40: 3 | AY40: 4 | BC40: 5 | BG40: 6 | BK40: 7 | BO40: 8 | BS40: 9 | BW40: 10 | CA40: 11 | CE40: 12 | CI40: 13 | CM40: 14 | CQ40: 15 | CU40: 16 | CY40: 17 | DC40: 18 | DG40: 19 | DK40: 20 | DO40: 21 | DS40: 22 | DW40: 23 | EA40: 24 | EE40: 25 | EI40: 26 | EM40: 27 | EQ40: 28 | EU40: 29 | EY40: 30 | FC40: 31 | FG40: 32 | FK40: 33 | FO40: 34 | FS40: 35 | FW40: 36 | GA40: 37 | GE40: 38 | GI40: 39 | GM40: 40 | GQ40: 41 | GU40: 42 | GY40: 43 | HC40: 44 | HG40: 45 | HK40: 46 | HO40: 47 | HS40: 48 | HW40: 49 | IA40: 50 | IE40: 51 | II40: 52 | IM40: 53 | IQ40: 54 | IU40: 55 | IY40: 56 | JC40: 57 | JG40: 58 | JK40: 59 | JO40: 60 | JS40: 61 | JW40: 62 | KA40: 63 | KE40: 64 | KI40: 65 | KM40: 66 | KQ40: 67
C41: =IF(F5="","",CONCATENATE(" ",C5,F5,H5)) -> 📒会计 | G41: =IF(AND(L5=0,N5=0),"",IF(ISNONTEXT(D5),"",R5)) | I41: =IF(G41=$G$40,C41,"") | M41: =IF(AND(NOT(N5=0),ISNONTEXT(D5)),1,0) -> 0 | P41: =IF(F5="","",CONCATENATE(" ",C5,F5,H5)) -> 📒会计 | T41: =IF(AND(L5=0,P5=0),"",IF(ISNONTEXT(D5),R5,"")) | V41: =IF(T41=$T$40,P41,"") | AC41: =IF(F5="","",CONCATENATE(C5,F5,H5)) -> 📒会计 | AG41: =R5 -> 5 | AI41: =IF(AND(OR(ISNUMBER(L5),ISNUMBER(N5),ISNUMBER(P5)),OR(L5>0,N5>0,P5>0)),TRUE,FALSE) -> FALSE | AM41: =IF($AI41,IF(LARGE($AG$41:$AH$107,AM$40)=$AG41,$AC41,""),"") | AQ41: =IF($AI41,IF(LARGE($AG$41:$AH$107,AQ$40)=$AG41,$AC41,""),"") | AU41: =IF($AI41,IF(LARGE($AG$41:$AH$107,AU$40)=$AG41,$AC41,""),"") | AY41: =IF($AI41,IF(LARGE($AG$41:$AH$107,AY$40)=$AG41,$AC41,""),"") | BC41: =IF($AI41,IF(LARGE($AG$41:$AH$107,BC$40)=$AG41,$AC41,""),"") | BG41: =IF($AI41,IF(LARGE($AG$41:$AH$107,BG$40)=$AG41,$AC41,""),"") | BK41: =IF($AI41,IF(LARGE($AG$41:$AH$107,BK$40)=$AG41,$AC41,""),"") | BO41: =IF($AI41,IF(LARGE($AG$41:$AH$107,BO$40)=$AG41,$AC41,""),"") | BS41: =IF($AI41,IF(LARGE($AG$41:$AH$107,BS$40)=$AG41,$AC41,""),"") | BW41: =IF($AI41,IF(LARGE($AG$41:$AH$107,BW$40)=$AG41,$AC41,""),"") | CA41: =IF($AI41,IF(LARGE($AG$41:$AH$107,CA$40)=$AG41,$AC41,""),"") | CE41: =IF($AI41,IF(LARGE($AG$41:$AH$107,CE$40)=$AG41,$AC41,""),"") | CI41: =IF($AI41,IF(LARGE($AG$41:$AH$107,CI$40)=$AG41,$AC41,""),"") | CM41: =IF($AI41,IF(LARGE($AG$41:$AH$107,CM$40)=$AG41,$AC41,""),"") | CQ41: =IF($AI41,IF(LARGE($AG$41:$AH$107,CQ$40)=$AG41,$AC41,""),"") | CU41: =IF($AI41,IF(LARGE($AG$41:$AH$107,CU$40)=$AG41,$AC41,""),"") | CY41: =IF($AI41,IF(LARGE($AG$41:$AH$107,CY$40)=$AG41,$AC41,""),"") | DC41: =IF($AI41,IF(LARGE($AG$41:$AH$107,DC$40)=$AG41,$AC41,""),"") | DG41: =IF($AI41,IF(LARGE($AG$41:$AH$107,DG$40)=$AG41,$AC41,""),"") | DK41: =IF($AI41,IF(LARGE($AG$41:$AH$107,DK$40)=$AG41,$AC41,""),"") | DO41: =IF($AI41,IF(LARGE($AG$41:$AH$107,DO$40)=$AG41,$AC41,""),"") | DS41: =IF($AI41,IF(LARGE($AG$41:$AH$107,DS$40)=$AG41,$AC41,""),"") | DW41: =IF($AI41,IF(LARGE($AG$41:$AH$107,DW$40)=$AG41,$AC41,""),"") | EA41: =IF($AI41,IF(LARGE($AG$41:$AH$107,EA$40)=$AG41,$AC41,""),"") | EE41: =IF($AI41,IF(LARGE($AG$41:$AH$107,EE$40)=$AG41,$AC41,""),"") | EI41: =IF($AI41,IF(LARGE($AG$41:$AH$107,EI$40)=$AG41,$AC41,""),"") | EM41: =IF($AI41,IF(LARGE($AG$41:$AH$107,EM$40)=$AG41,$AC41,""),"") | EQ41: =IF($AI41,IF(LARGE($AG$41:$AH$107,EQ$40)=$AG41,$AC41,""),"") | EU41: =IF($AI41,IF(LARGE($AG$41:$AH$107,EU$40)=$AG41,$AC41,""),"") | EY41: =IF($AI41,IF(LARGE($AG$41:$AH$107,EY$40)=$AG41,$AC41,""),"") | FC41: =IF($AI41,IF(LARGE($AG$41:$AH$107,FC$40)=$AG41,$AC41,""),"") | FG41: =IF($AI41,IF(LARGE($AG$41:$AH$107,FG$40)=$AG41,$AC41,""),"") | FK41: =IF($AI41,IF(LARGE($AG$41:$AH$107,FK$40)=$AG41,$AC41,""),"") | FO41: =IF($AI41,IF(LARGE($AG$41:$AH$107,FO$40)=$AG41,$AC41,""),"") | FS41: =IF($AI41,IF(LARGE($AG$41:$AH$107,FS$40)=$AG41,$AC41,""),"") | FW41: =IF($AI41,IF(LARGE($AG$41:$AH$107,FW$40)=$AG41,$AC41,""),"") | GA41: =IF($AI41,IF(LARGE($AG$41:$AH$107,GA$40)=$AG41,$AC41,""),"") | GE41: =IF($AI41,IF(LARGE($AG$41:$AH$107,GE$40)=$AG41,$AC41,""),"") | GI41: =IF($AI41,IF(LARGE($AG$41:$AH$107,GI$40)=$AG41,$AC41,""),"") | GM41: =IF($AI41,IF(LARGE($AG$41:$AH$107,GM$40)=$AG41,$AC41,""),"") | GQ41: =IF($AI41,IF(LARGE($AG$41:$AH$107,GQ$40)=$AG41,$AC41,""),"") | GU41: =IF($AI41,IF(LARGE($AG$41:$AH$107,GU$40)=$AG41,$AC41,""),"") | GY41: =IF($AI41,IF(LARGE($AG$41:$AH$107,GY$40)=$AG41,$AC41,""),"") | HC41: =IF($AI41,IF(LARGE($AG$41:$AH$107,HC$40)=$AG41,$AC41,""),"") | HG41: =IF($AI41,IF(LARGE($AG$41:$AH$107,HG$40)=$AG41,$AC41,""),"") | HK41: =IF($AI41,IF(LARGE($AG$41:$AH$107,HK$40)=$AG41,$AC41,""),"") | HO41: =IF($AI41,IF(LARGE($AG$41:$AH$107,HO$40)=$AG41,$AC41,""),"") | HS41: =IF($AI41,IF(LARGE($AG$41:$AH$107,HS$40)=$AG41,$AC41,""),"") | HW41: =IF($AI41,IF(LARGE($AG$41:$AH$107,HW$40)=$AG41,$AC41,""),"") | IA41: =IF($AI41,IF(LARGE($AG$41:$AH$107,IA$40)=$AG41,$AC41,""),"") | IE41: =IF($AI41,IF(LARGE($AG$41:$AH$107,IE$40)=$AG41,$AC41,""),"") | II41: =IF($AI41,IF(LARGE($AG$41:$AH$107,II$40)=$AG41,$AC41,""),"") | IM41: =IF($AI41,IF(LARGE($AG$41:$AH$107,IM$40)=$AG41,$AC41,""),"") | IQ41: =IF($AI41,IF(LARGE($AG$41:$AH$107,IQ$40)=$AG41,$AC41,""),"") | IU41: =IF($AI41,IF(LARGE($AG$41:$AH$107,IU$40)=$AG41,$AC41,""),"") | IY41: =IF($AI41,IF(LARGE($AG$41:$AH$107,IY$40)=$AG41,$AC41,""),"") | JC41: =IF($AI41,IF(LARGE($AG$41:$AH$107,JC$40)=$AG41,$AC41,""),"") | JG41: =IF($AI41,IF(LARGE($AG$41:$AH$107,JG$40)=$AG41,$AC41,""),"") | JK41: =IF($AI41,IF(LARGE($AG$41:$AH$107,JK$40)=$AG41,$AC41,""),"") | JO41: =IF($AI41,IF(LARGE($AG$41:$AH$107,JO$40)=$AG41,$AC41,""),"") | JS41: =IF($AI41,IF(LARGE($AG$41:$AH$107,JS$40)=$AG41,$AC41,""),"") | JW41: =IF($AI41,IF(LARGE($AG$41:$AH$107,JW$40)=$AG41,$AC41,""),"") | KA41: =IF($AI41,IF(LARGE($AG$41:$AH$107,KA$40)=$AG41,$AC41,""),"") | KE41: =IF($AI41,IF(LARGE($AG$41:$AH$107,KE$40)=$AG41,$AC41,""),"") | KI41: =IF($AI41,IF(LARGE($AG$41:$AH$107,KI$40)=$AG41,$AC41,""),"") | KM41: =IF($AI41,IF(LARGE($AG$41:$AH$107,KM$40)=$AG41,$AC41,""),"") | KQ41: =IF($AI41,IF(LARGE($AG$41:$AH$107,KQ$40)=$AG41,$AC41,""),"")
