Workbook

Sheet 基础信息
B1: 配合EXCEL2021以上版本食用
D2: 武装传奇TRPG | J2: 神名 | AK2: =O18 -> 退魔师协会 | AW2: 立绘or头像 | BM2: =($Y$3-1)*1500+5000&"G" -> 5000G | BP2: 手动填入→ | BS2: 初始金 | BU2: 5000
D3: 神我狩 | Y3: 1 | AK3: =IFERROR(VLOOKUP(O18,备用!Q151:S177,3,FALSE),"") -> 是日本中势力最大的超常存在组织。也被称为协会，总部设在京都。其原型自神代时期便存在，但直到奈良时代才开始正式成立组织。它自古以来便是一个跨越了神道教、佛教、阴阳道等各派隔阂的组织，其主要目的为讨伐、封印和隐藏超常存在。八个宗家负责管理协会。以优秀退魔战士世代辈出的御剑家为首，珠辉、镜部、土御门、芦屋、秦、草壁、竹内各家被称为<八部众>，组织的方针由当家共治决定。不过，最近有分家的年轻人反对旧时的支配体系，频繁发生内讧的传闻。 | AW3: 随意用
AI4: ⚁ | BS4: 所持金 | BU4: =$BU$2-SUM($AI$39,IF($I$47="效果值",0,$M$47),IF($I$49="效果值",0,$M$49),IF($I$51="效果值",0,$M$51),IF($AM$45="效果值",0,$AQ$45),IF($AM$47="效果值",0,$AQ$47),IF($AM$49="效果值",0,$AQ$49),IF($AM$51="效果值",0,$AQ$51),$AI$57,IF($I$63="效果值",0,$M$63),IF($I$65="效果值",0,$M$65),IF($I$67="效果值",0,$M$67),IF($I$69="效果值",0,$M$69),IF($AM$65="效果值",0,$AQ$65),IF($AM$67="效果值",0,$AQ$67),IF($AM$63="效果值",0,$AQ$63),IF($AM$69="效果值",0,$AQ$69),$AI$75,$AI$83,$AI$91,SUM(道具栏!R44:T63)+BU8-BU6) -> 4000
X5: 只需要填浅黄色背景的地方 与等级↑、套装↓
B6: 玩家名 | K6: 角色名 | AI6: ⚁ | BS6: 收入
X7: 探索者套装： | AB7: 幸运型
AI8: ⚄ | BS8: 支出
B9: 种族 | E9: 封神 | M9: 种族奖励 | O9: =IFERROR(VLOOKUP(E9,备用!A29:H76,8,FALSE),"") -> [封神记忆]：可以取得《种族才能：封神》，可以[装备]写有[限制：封神]条目的[物品]。 | W9: 血统祖神 | Z9: =IF(COUNTIF(技能栏!D6:D42,"血统的祖神")>0,"√","") | AA9: 祖神种族 | AD9: 封神
W10: 种族奖励 | X10: =IF($Z$9="√",IFERROR(VLOOKUP(AD9,备用!A29:H76,8,FALSE),""),"") | AI10: ⚁
B11: 种类 | E11: 参考⯈ | G11: =IF(E9="","",IF(OR(E9="改造人",E9="机械人"),"机械",IF(E9="人造人","植物",IF(E9="神灵","幻兽",IF(E9="英魂","不死",IF(OR(E9="异乡人",E9="幸御魂"),"自选",IF(E9="适格者","虫/兽/植","人型"))))))) -> 人型 | I11: 最终⯈ | K11: 人型
B12: 能力值 | E12: 主能力值类型⯈ | I12: 魔法
B13: 表面职业1 | D13: 一般学生□ | H13: =IFERROR(OFFSET(备用!A181,备用!B180,MATCH(B13,备用!181:181,0)+1,,)&OFFSET(备用!A181,备用!B180,MATCH(B13,备用!181:181,0)+2,,),"") -> [持久力]效果：【体力】判定的达成值+2，【精神】判定的达成值+1 | M13: 特征⯇ | N13: 简介⯈ | O13: {=IFERROR(INDEX(备用!$1:$1000,181+备用!B180,MATCH(B13,备用!181:181,0)+1),"")} -> 随处可见的普通学生。玩家和GM商议决定小学、中学或大学生。普通学生能够取得[持久力]的[特征]，获得以下[道具]。 | W13: 混血种 | Z13: =IF(COUNTIF(技能栏!D6:D42,"混血种")>0,"√","") | AA13: 副种族 | AD13: 异乡人
W14: 混血用能力值类型⯈ （仅在混血种时可选） | AD14: 战士
AK15: 背景简介 | BL15: 最终属性 | BQ15: 注：最终属性下方黄色区域填写表面职业-特征给的加值
B16: 称号（系统： | F16: =IFERROR(VLOOKUP(D17,备用!A93:C128,3,FALSE),"") -> 魔导 | I16: ） | J16: 类型 | M16: EXP | X16: 情感填写 | Z16: ① | BL16: （掷骰时加值） | BQ16: 以及【常时】才能给的加值！
B17: 主要 | D17: 装具魔术师 | J17: A | Z17: ② | AK17: 个人特性 | AL17: 缘由 | AN17: 获得断片/成为神我狩的缘由 | AT17: 灵纹位置 | AY17: 灵纹形状 | BD17: 目的 | BF17: HO给的 | BL17: 耐力 | BO17: 敏捷 | BR17: 知性 | BU17: 精神 | BX17: 幸运
D18: 破神传承者 | J18: B | M18: 组织 | O18: 退魔师协会 | Z18: ③ | AI18: 灵力使用 | BL18: =C26+BL20+数!B21 -> 2 | BO18: =F26+BO20+数!C21 -> 3 | BR18: =I26+BR20+数!D21 -> 5 | BU18: =L26+BU20+数!E21 -> 4 | BX18: =O26+BX20+数!F21 -> 2
M19: 年龄 | R19: 性别 | Z19: ④ | AL19: 人设随便写
M20: 身高 | R20: 体重 | Z20: ⑤ | CA20: 调整
M21: 瞳色 | R21: 发色 | Z21: ⑥ | CF21: ：物理攻击时使用
M22: 肤色 | R22: 其他 | Z22: ⑦ | BL22: 命中 | BO22: 回避 | BR22: 发动 | BU22: 抵抗 | BX22: 看破
BL23: =C33+BL25+数!B8 -> 2 | BO23: =F33+BO25+数!C8 -> 4 | BR23: =I33+BR25+数!D8 -> 7 | BU23: =L33+BU25+数!E8 -> 5 | BX23: 6 | CF23: ：魔法攻击时使用
C24: 主能力值 | G24: 可分配点数 | J24: =Y3*2-1-SUM(备用!C2,备用!D2,备用!E2,备用!F2,备用!G2)+备用!B7 -> 0 | K24: 异界特性①（自选） | T24: 副能力值
C25: ="体力+"&备用!C2 -> 体力+0 | F25: ="敏捷+"&备用!D2 -> 敏捷+0 | I25: ="知性+"&备用!E2 -> 知性+0 | L25: ="精神+"&备用!F2 -> 精神+0 | O25: ="幸运+"&备用!G2 -> 幸运+1 | T25: 物D | W25: 魔D | Z25: 行动值 | AC25: 生命力 | CA25: 调整 | CF25: ：其他
C26: =IFERROR(IFERROR(OFFSET(备用!A28,备用!A27+VLOOKUP(备用!B2,备用!M1:N3,2,FALSE),2,1,1),"")+备用!C2,"") -> 2 | F26: =IFERROR(IFERROR(OFFSET(备用!A28,备用!A27+VLOOKUP(备用!B2,备用!M1:N3,2,FALSE),3,1,1),"")+备用!D2,"") -> 3 | I26: =IFERROR(IFERROR(OFFSET(备用!A28,备用!A27+VLOOKUP(备用!B2,备用!M1:N3,2,FALSE),4,1,1),"")+备用!E2,"") -> 5 | L26: =IFERROR(IFERROR(OFFSET(备用!A28,备用!A27+VLOOKUP(备用!B2,备用!M1:N3,2,FALSE),5,1,1),"")+备用!F2,"") -> 4 | O26: =IFERROR(IFERROR(OFFSET(备用!$A$28,备用!$A$27+VLOOKUP(备用!B2,备用!M1:N3,2,FALSE),6,1,1),"")+备用!G2,"") -> 2 | T26: =IFERROR(ROUNDUP(C26/2,0),"") -> 1 | W26: =IFERROR(ROUNDUP(I26/2,0),"") -> 3 | Z26: =IFERROR(F26+5,"") -> 8 | AC26: =IFERROR(C26+L26+Y3*3,"") -> 9
BL27: 物D | BO27: 魔D | BR27: 射击※物D | BU27: 行动值 | BX27: 生命力 | CA27: 装甲 | CD27: 结界
A28: 未计装备 战斗修正 | C28: + | F28: + | I28: + | L28: + | O28: + | T28: + | W28: + | Z28: + | AC28: + | BL28: =T33+BL30+数!G8 -> 2 | BO28: =W33+BO30+数!H8 -> 10 | BR28: =BR30+数!G12 -> 0 | BU28: =Z33+BU30+数!I8 -> 13 | BX28: =AC33+BX30+数!J8 -> 38 | CA28: =数!K8+CA30 -> 0 | CD28: =数!L8+CD30 -> 0
C29: =IFERROR(VLOOKUP(D17,备用!A87:L127,4,FALSE),"") -> 0 | F29: =IFERROR(VLOOKUP(D17,备用!A87:L127,5,FALSE),"") -> 1 | I29: =IFERROR(VLOOKUP(D17,备用!A87:L127,6,FALSE),"") -> 2 | L29: =IFERROR(VLOOKUP(D17,备用!A87:L127,7,FALSE),"") -> 1 | O29: =IFERROR(VLOOKUP(D17,备用!A87:L127,8,FALSE),"") -> 0 | T29: =IFERROR(VLOOKUP(D17,备用!A87:L127,9,FALSE),"") -> 1 | W29: =IFERROR(VLOOKUP(D17,备用!A87:L127,10,FALSE),"") -> 3 | Z29: =IFERROR(VLOOKUP(D17,备用!A87:L127,11,FALSE),"") -> 8 | AC29: =IFERROR(VLOOKUP(D17,备用!A87:L127,12,FALSE),"") -> 29
CG30: 调整
C31: = | F31: = | I31: = | L31: = | O31: = | T31: = | W31: = | Z31: = | AC31: = | AI31: 生命值 | AL31: 1 | AN31: / | AO31: =BX28 -> 38 | AW31: 移动行为 一回合中任选一个
A32: 本体合计 战斗值 | C32: 命中 | F32: 回避 | I32: 发动 | L32: 抵抗 | O32: 看破 | T32: 物D | W32: 魔D | Z32: 行动值 | AC32: 生命力 | AI32: =AL31/AO31 -> 0.026315789 | AL32: =IF(AL31/AO31>0,"","×") | AM32: =IF(AL31/AO31>0.1,"","×") -> × | AN32: =IF(AL31/AO31>0.2,"","×") -> × | AO32: =IF(AL31/AO31>0.3,"","×") -> × | AP32: =IF(AL31/AO31>0.4,"","×") -> × | AQ32: =IF(AL31/AO31>0.5,"","×") -> × | AR32: =IF(AL31/AO31>0.6,"","×") -> × | AS32: =IF(AL31/AO31>0.7,"","×") -> × | AT32: =IF(AL31/AO31>0.8,"","×") -> × | AU32: =IF(AL31/AO31>0.9,"","×") -> × | BL32: 起源属性A | BP32: 起源属性B | BT32: 起源属性C | BX32: 起源属性D | CB32: 起源属性E | CF32: 起源属性F
C33: =IFERROR(C26+C29,"") -> 2 | F33: =IFERROR(F26+F29,"") -> 4 | I33: =IFERROR(I26+I29,"") -> 7 | L33: =IFERROR(L26+L29,"") -> 5 | O33: =IFERROR(O26+O29,"") -> 2 | T33: =IFERROR(T26+T29,"") -> 2 | W33: =IFERROR(W26+W29,"") -> 6 | Z33: =IFERROR(Z26+Z29,"") -> 16 | AC33: =IFERROR(AC26+AC29,"") -> 38 | AI33: 灵纹 | AL33: 22 | AN33: / | AO33: 22 | AW33: 简易移动 | AZ33: 1格 | BL33: =IF(COUNTIF(技能栏!$D$6:$D$42,"元素爆发")>0,"※元素爆发（起源使A）","") | BP33: =IF(COUNTIF(技能栏!$D$6:$D$42,"元素穿着")>0,"※元素穿着（起源使B）","") | BT33: =IF(COUNTIF(技能栏!$D$6:$D$42,"起源龙之力")>0,"起源龙之力 （龙王）","") | BX33: =IF(COUNTIF(技能栏!$D$6:$D$42,"起源印")>0,"起源印 （圣言奏者A）","") | CB33: =IF(COUNTIF(技能栏!$D$6:$D$42,"妖力击破")>0,"妖力击破 （幸御魂）","") | CF33: =IF(COUNTIF(技能栏!$D$6:$D$42,"心灵爆裂")>0,"心灵爆裂 (超能力者)","")
AI34: =AL33/AO33 -> 1 | AL34: =IF(AL33/AO33>0,"","×") | AM34: =IF(AL33/AO33>0.1,"","×") | AN34: =IF(AL33/AO33>0.2,"","×") | AO34: =IF(AL33/AO33>0.3,"","×") | AP34: =IF(AL33/AO33>0.4,"","×") | AQ34: =IF(AL33/AO33>0.5,"","×") | AR34: =IF(AL33/AO33>0.6,"","×") | AS34: =IF(AL33/AO33>0.7,"","×") | AT34: =IF(AL33/AO33>0.8,"","×") | AU34: =IF(AL33/AO33>0.9,"","×") | AW34: 战斗移动 | AZ34: =ROUNDUP((BU28+5)/3,0)&"格" -> 6格
AW35: 全力移动 | AZ35: =(BU28+5)&"格" -> 18格
B36: 装备中的[道具] | G36: （这些是使用《灵力结界》时，可以自动[装备]上去的） | W36: 与装备合计属性在装备栏下方 | BL36: 有对应技能再填
B37: 持握方式 | E37: 单持 | G37: 是否装备 | J37: 是 | K37: 神成神器 | O37: ☐ | Q37: 正确选择持握方式才会显示属性 | AC37: 限制开关： | AG37: 开 | AI37: 装备使用扩展： | AN37: 全扩
B38: 神名 | M38: 命中 | O38: 回避 | Q38: 发动 | S38: 抵抗 | U38: 看破 | W38: 物D | Y38: 魔D | AA38: 行动值 | AC38: 生命力 | AE38: 装甲 | AG38: 结界 | AI38: 价格 | AM38: 描述 | BA38: 效果 | BS38: 出自 | BY38: 海豹骰录卡指令
B39: 武器 | D39: 术式终端 | M39: =数!B2 -> 0 | O39: =数!C2 -> 0 | Q39: =数!D2 -> 0 | S39: =数!E2 -> 0 | U39: =数!F2 -> 0 | W39: =数!G2 -> 0 | Y39: =数!H2 -> 4 | AA39: =数!I2 -> -3 | AC39: =数!J2 -> 0 | AE39: =数!K2 -> 0 | AG39: =数!L2 -> 0 | AI39: =IFERROR(VLOOKUP($D$39,装!$B:$AE,21,FALSE)+AI40,"") -> 1000 | AM39: =IFERROR(VLOOKUP($D$39,装!$B:$AE,22,FALSE),"") -> 最新款的手机型人造神器，最近在神秘的世界中很流行。 | BA39: =IFERROR(VLOOKUP($D$39,装!$B:$AE,23,FALSE),"") -> 无 | BS39: =IFERROR(VLOOKUP($D$39,装!$B:$AE,26,FALSE),"") -> 《溯时之克洛诺斯原初神器》
B40: 注意选择武器形状↓ | I40: 其他修正 | BY40: =".st"&BL17&BL18&BO17&BO18&BR17&BR18&BU17&BU18&BX17&BX18&BL22&BL23&BO22&BO23&BR22&BR23&BU22&BU23&BX22&BX23&BU27&BU28&BX27&BX28&AI33&AO33 -> .st耐力2敏捷3知性5精神4幸运2命中2回避4发动7抵抗5看破6行动值13生命力38灵纹22
...

Sheet 技能栏
B3: 名称 | E3: 时机 | F3: 距离 | G3: 目标 | H3: 消耗 | I3: 效果 | J3: 概要 | K3: 出自 | L3: 备注栏
B4: 灵力结界（潜在特性） | E4: 开始 | F4: 战斗地带 | G4: 战斗地带 | H4: 无 | I4: 1场战斗中1次。对象将指定的[道具]进行[装备]。另外，对象在1场战斗中，不会[死亡]。《灵力结界》不会消耗时机。
B5: 灵纹燃烧（潜在特性） | E5: 特殊 | F5: 使用者 | G5: 使用者 | H5: 无 | I5: [情感]取得数①~：[掷骰]任意+1~3d（追加d份）。④~[解除：气绝]后，【生命力】变为与【体力】同值（2d）。⑦：攻击[等级]+1d（2d）。
A6: 1级卡填写范围 | B6: ▲ | C6: 共通种族才能 | E6: =IFERROR(VLOOKUP(D6,才能!$B$2:$L$1286,5,FALSE),"") | F6: =IFERROR(VLOOKUP(D6,才能!$B$2:$L$1286,6,FALSE),"") | G6: =IFERROR(VLOOKUP(D6,才能!$B$2:$L$1286,7,FALSE),"") | H6: =IFERROR(VLOOKUP(D6,才能!$B$2:$L$1286,8,FALSE),"") | I6: =IFERROR(VLOOKUP(D6,才能!$B$2:$L$1286,9,FALSE),"") | J6: =IFERROR(VLOOKUP(D6,才能!$B$2:$L$1286,10,FALSE),"") | K6: =IFERROR(VLOOKUP(D6,才能!$B$2:$L$1286,11,FALSE),"")
B7: ▲ | E7: =IFERROR(VLOOKUP(D7,才能!$B$2:$L$1286,5,FALSE),"") | F7: =IFERROR(VLOOKUP(D7,才能!$B$2:$L$1286,6,FALSE),"") | G7: =IFERROR(VLOOKUP(D7,才能!$B$2:$L$1286,7,FALSE),"") | H7: =IFERROR(VLOOKUP(D7,才能!$B$2:$L$1286,8,FALSE),"") | I7: =IFERROR(VLOOKUP(D7,才能!$B$2:$L$1286,9,FALSE),"") | J7: =IFERROR(VLOOKUP(D7,才能!$B$2:$L$1286,10,FALSE),"") | K7: =IFERROR(VLOOKUP(D7,才能!$B$2:$L$1286,11,FALSE),"")
B8: ※ | C8: =才能!U2 -> 装具魔术师A | D8: =IFERROR(VLOOKUP(基础信息!D17&基础信息!J17,备用!B93:M128,12,FALSE),"") -> 辉煌程序 | E8: =IFERROR(VLOOKUP(D8,才能!$B$2:$L$1286,5,FALSE),"") -> 特殊 | F8: =IFERROR(VLOOKUP(D8,才能!$B$2:$L$1286,6,FALSE),"") -> 战斗地带 | G8: =IFERROR(VLOOKUP(D8,才能!$B$2:$L$1286,7,FALSE),"") -> 1体 | H8: =IFERROR(VLOOKUP(D8,才能!$B$2:$L$1286,8,FALSE),"") -> 1·1 | I8: =IFERROR(VLOOKUP(D8,才能!$B$2:$L$1286,9,FALSE),"") -> 在目标宣言《才能》时使用。目标使用的1个《才能》视为已消费[消耗]。这个《才能》1轮中只能使用1次。 | J8: =IFERROR(VLOOKUP(D8,才能!$B$2:$L$1286,10,FALSE),"") -> 使用魔术程序补充灵力，代替正常的消耗。 | K8: =IFERROR(VLOOKUP(D8,才能!$B$2:$L$1286,11,FALSE),"") -> 《神我狩》
B9: ※ | C9: =才能!U3 -> 破神传承者B | D9: =IFERROR(VLOOKUP(基础信息!D18&基础信息!J18,备用!B92:M128,12,FALSE),"") -> 一闪 | E9: =IFERROR(VLOOKUP(D9,才能!$B$2:$L$1286,5,FALSE),"") -> 特殊 | F9: =IFERROR(VLOOKUP(D9,才能!$B$2:$L$1286,6,FALSE),"") -> 使用者 | G9: =IFERROR(VLOOKUP(D9,才能!$B$2:$L$1286,7,FALSE),"") -> 使用者 | H9: =IFERROR(VLOOKUP(D9,才能!$B$2:$L$1286,8,FALSE),"") -> 4·4 | I9: =IFERROR(VLOOKUP(D9,才能!$B$2:$L$1286,9,FALSE),"") -> 特殊效果。目标【回避】判定成功后使用。在目标闪避后可以对进行了[攻击行动]的[距离：接近状态/对象：1体]，进行一次[时机：攻击]。这个《才能》在1轮中只能使用1次。 | J9: =IFERROR(VLOOKUP(D9,才能!$B$2:$L$1286,10,FALSE),"") -> 在使用惊人的体术进行回避之时，瞄准空隙，一瞬间使出秘奥。 | K9: =IFERROR(VLOOKUP(D9,才能!$B$2:$L$1286,11,FALSE),"") -> 《神我狩》
B10: 1 | E10: =IFERROR(VLOOKUP(D10,才能!$B$2:$L$1286,5,FALSE),"") | F10: =IFERROR(VLOOKUP(D10,才能!$B$2:$L$1286,6,FALSE),"") | G10: =IFERROR(VLOOKUP(D10,才能!$B$2:$L$1286,7,FALSE),"") | H10: =IFERROR(VLOOKUP(D10,才能!$B$2:$L$1286,8,FALSE),"") | I10: =IFERROR(VLOOKUP(D10,才能!$B$2:$L$1286,9,FALSE),"") | J10: =IFERROR(VLOOKUP(D10,才能!$B$2:$L$1286,10,FALSE),"") | K10: =IFERROR(VLOOKUP(D10,才能!$B$2:$L$1286,11,FALSE),"")
B11: 1 | E11: =IFERROR(VLOOKUP(D11,才能!$B$2:$L$1286,5,FALSE),"") | F11: =IFERROR(VLOOKUP(D11,才能!$B$2:$L$1286,6,FALSE),"") | G11: =IFERROR(VLOOKUP(D11,才能!$B$2:$L$1286,7,FALSE),"") | H11: =IFERROR(VLOOKUP(D11,才能!$B$2:$L$1286,8,FALSE),"") | I11: =IFERROR(VLOOKUP(D11,才能!$B$2:$L$1286,9,FALSE),"") | J11: =IFERROR(VLOOKUP(D11,才能!$B$2:$L$1286,10,FALSE),"") | K11: =IFERROR(VLOOKUP(D11,才能!$B$2:$L$1286,11,FALSE),"")
B12: 额外 | E12: =IFERROR(VLOOKUP(D12,才能!$B$2:$L$1286,5,FALSE),"") | F12: =IFERROR(VLOOKUP(D12,才能!$B$2:$L$1286,6,FALSE),"") | G12: =IFERROR(VLOOKUP(D12,才能!$B$2:$L$1286,7,FALSE),"") | H12: =IFERROR(VLOOKUP(D12,才能!$B$2:$L$1286,8,FALSE),"") | I12: =IFERROR(VLOOKUP(D12,才能!$B$2:$L$1286,9,FALSE),"") | J12: =IFERROR(VLOOKUP(D12,才能!$B$2:$L$1286,10,FALSE),"") | K12: =IFERROR(VLOOKUP(D12,才能!$B$2:$L$1286,11,FALSE),"")
B13: 2 | E13: =IFERROR(VLOOKUP(D13,才能!$B$2:$L$1286,5,FALSE),"") | F13: =IFERROR(VLOOKUP(D13,才能!$B$2:$L$1286,6,FALSE),"") | G13: =IFERROR(VLOOKUP(D13,才能!$B$2:$L$1286,7,FALSE),"") | H13: =IFERROR(VLOOKUP(D13,才能!$B$2:$L$1286,8,FALSE),"") | I13: =IFERROR(VLOOKUP(D13,才能!$B$2:$L$1286,9,FALSE),"") | J13: =IFERROR(VLOOKUP(D13,才能!$B$2:$L$1286,10,FALSE),"") | K13: =IFERROR(VLOOKUP(D13,才能!$B$2:$L$1286,11,FALSE),"")
B14: 3 | E14: =IFERROR(VLOOKUP(D14,才能!$B$2:$L$1286,5,FALSE),"") | F14: =IFERROR(VLOOKUP(D14,才能!$B$2:$L$1286,6,FALSE),"") | G14: =IFERROR(VLOOKUP(D14,才能!$B$2:$L$1286,7,FALSE),"") | H14: =IFERROR(VLOOKUP(D14,才能!$B$2:$L$1286,8,FALSE),"") | I14: =IFERROR(VLOOKUP(D14,才能!$B$2:$L$1286,9,FALSE),"") | J14: =IFERROR(VLOOKUP(D14,才能!$B$2:$L$1286,10,FALSE),"") | K14: =IFERROR(VLOOKUP(D14,才能!$B$2:$L$1286,11,FALSE),"")
B15: 4 | E15: =IFERROR(VLOOKUP(D15,才能!$B$2:$L$1286,5,FALSE),"") | F15: =IFERROR(VLOOKUP(D15,才能!$B$2:$L$1286,6,FALSE),"") | G15: =IFERROR(VLOOKUP(D15,才能!$B$2:$L$1286,7,FALSE),"") | H15: =IFERROR(VLOOKUP(D15,才能!$B$2:$L$1286,8,FALSE),"") | I15: =IFERROR(VLOOKUP(D15,才能!$B$2:$L$1286,9,FALSE),"") | J15: =IFERROR(VLOOKUP(D15,才能!$B$2:$L$1286,10,FALSE),"") | K15: =IFERROR(VLOOKUP(D15,才能!$B$2:$L$1286,11,FALSE),"")
B16: 5 | E16: =IFERROR(VLOOKUP(D16,才能!$B$2:$L$1286,5,FALSE),"") | F16: =IFERROR(VLOOKUP(D16,才能!$B$2:$L$1286,6,FALSE),"") | G16: =IFERROR(VLOOKUP(D16,才能!$B$2:$L$1286,7,FALSE),"") | H16: =IFERROR(VLOOKUP(D16,才能!$B$2:$L$1286,8,FALSE),"") | I16: =IFERROR(VLOOKUP(D16,才能!$B$2:$L$1286,9,FALSE),"") | J16: =IFERROR(VLOOKUP(D16,才能!$B$2:$L$1286,10,FALSE),"") | K16: =IFERROR(VLOOKUP(D16,才能!$B$2:$L$1286,11,FALSE),"")
B17: ▲ | E17: =IFERROR(VLOOKUP(D17,才能!$B$2:$L$1286,5,FALSE),"") | F17: =IFERROR(VLOOKUP(D17,才能!$B$2:$L$1286,6,FALSE),"") | G17: =IFERROR(VLOOKUP(D17,才能!$B$2:$L$1286,7,FALSE),"") | H17: =IFERROR(VLOOKUP(D17,才能!$B$2:$L$1286,8,FALSE),"") | I17: =IFERROR(VLOOKUP(D17,才能!$B$2:$L$1286,9,FALSE),"") | J17: =IFERROR(VLOOKUP(D17,才能!$B$2:$L$1286,10,FALSE),"") | K17: =IFERROR(VLOOKUP(D17,才能!$B$2:$L$1286,11,FALSE),"")
B18: 6 | E18: =IFERROR(VLOOKUP(D18,才能!$B$2:$L$1286,5,FALSE),"") | F18: =IFERROR(VLOOKUP(D18,才能!$B$2:$L$1286,6,FALSE),"") | G18: =IFERROR(VLOOKUP(D18,才能!$B$2:$L$1286,7,FALSE),"") | H18: =IFERROR(VLOOKUP(D18,才能!$B$2:$L$1286,8,FALSE),"") | I18: =IFERROR(VLOOKUP(D18,才能!$B$2:$L$1286,9,FALSE),"") | J18: =IFERROR(VLOOKUP(D18,才能!$B$2:$L$1286,10,FALSE),"") | K18: =IFERROR(VLOOKUP(D18,才能!$B$2:$L$1286,11,FALSE),"")
B19: 7 | E19: =IFERROR(VLOOKUP(D19,才能!$B$2:$L$1286,5,FALSE),"") | F19: =IFERROR(VLOOKUP(D19,才能!$B$2:$L$1286,6,FALSE),"") | G19: =IFERROR(VLOOKUP(D19,才能!$B$2:$L$1286,7,FALSE),"") | H19: =IFERROR(VLOOKUP(D19,才能!$B$2:$L$1286,8,FALSE),"") | I19: =IFERROR(VLOOKUP(D19,才能!$B$2:$L$1286,9,FALSE),"") | J19: =IFERROR(VLOOKUP(D19,才能!$B$2:$L$1286,10,FALSE),"") | K19: =IFERROR(VLOOKUP(D19,才能!$B$2:$L$1286,11,FALSE),"")
B20: 8 | E20: =IFERROR(VLOOKUP(D20,才能!$B$2:$L$1286,5,FALSE),"") | F20: =IFERROR(VLOOKUP(D20,才能!$B$2:$L$1286,6,FALSE),"") | G20: =IFERROR(VLOOKUP(D20,才能!$B$2:$L$1286,7,FALSE),"") | H20: =IFERROR(VLOOKUP(D20,才能!$B$2:$L$1286,8,FALSE),"") | I20: =IFERROR(VLOOKUP(D20,才能!$B$2:$L$1286,9,FALSE),"") | J20: =IFERROR(VLOOKUP(D20,才能!$B$2:$L$1286,10,FALSE),"") | K20: =IFERROR(VLOOKUP(D20,才能!$B$2:$L$1286,11,FALSE),"")
B21: 9 | E21: =IFERROR(VLOOKUP(D21,才能!$B$2:$L$1286,5,FALSE),"") | F21: =IFERROR(VLOOKUP(D21,才能!$B$2:$L$1286,6,FALSE),"") | G21: =IFERROR(VLOOKUP(D21,才能!$B$2:$L$1286,7,FALSE),"") | H21: =IFERROR(VLOOKUP(D21,才能!$B$2:$L$1286,8,FALSE),"") | I21: =IFERROR(VLOOKUP(D21,才能!$B$2:$L$1286,9,FALSE),"") | J21: =IFERROR(VLOOKUP(D21,才能!$B$2:$L$1286,10,FALSE),"") | K21: =IFERROR(VLOOKUP(D21,才能!$B$2:$L$1286,11,FALSE),"")
B22: 10 | E22: =IFERROR(VLOOKUP(D22,才能!$B$2:$L$1286,5,FALSE),"") | F22: =IFERROR(VLOOKUP(D22,才能!$B$2:$L$1286,6,FALSE),"") | G22: =IFERROR(VLOOKUP(D22,才能!$B$2:$L$1286,7,FALSE),"") | H22: =IFERROR(VLOOKUP(D22,才能!$B$2:$L$1286,8,FALSE),"") | I22: =IFERROR(VLOOKUP(D22,才能!$B$2:$L$1286,9,FALSE),"") | J22: =IFERROR(VLOOKUP(D22,才能!$B$2:$L$1286,10,FALSE),"") | K22: =IFERROR(VLOOKUP(D22,才能!$B$2:$L$1286,11,FALSE),"")
B23: ▲ | E23: =IFERROR(VLOOKUP(D23,才能!$B$2:$L$1286,5,FALSE),"") | F23: =IFERROR(VLOOKUP(D23,才能!$B$2:$L$1286,6,FALSE),"") | G23: =IFERROR(VLOOKUP(D23,才能!$B$2:$L$1286,7,FALSE),"") | H23: =IFERROR(VLOOKUP(D23,才能!$B$2:$L$1286,8,FALSE),"") | I23: =IFERROR(VLOOKUP(D23,才能!$B$2:$L$1286,9,FALSE),"") | J23: =IFERROR(VLOOKUP(D23,才能!$B$2:$L$1286,10,FALSE),"") | K23: =IFERROR(VLOOKUP(D23,才能!$B$2:$L$1286,11,FALSE),"")
B24: ※ | C24: =IF(基础信息!Y3>=10,"高位才能LV10","") | E24: =IFERROR(VLOOKUP($D$24,备用!$B$79:$L$81,5,FALSE),"") | F24: =IFERROR(VLOOKUP($D$24,备用!$B$79:$L$81,6,FALSE),"") | G24: =IFERROR(VLOOKUP($D$24,备用!$B$79:$L$81,7,FALSE),"") | H24: =IFERROR(VLOOKUP($D$24,备用!$B$79:$L$81,8,FALSE),"") | I24: =IFERROR(VLOOKUP($D$24,备用!$B$79:$L$81,9,FALSE),"") | J24: =IFERROR(VLOOKUP($D$24,备用!$B$79:$L$81,10,FALSE),"") | K24: =IFERROR(VLOOKUP($D$24,备用!$B$79:$L$81,11,FALSE),"")
B25: 名称 | E25: 时机 | F25: 距离 | G25: 目标 | H25: 消耗 | I25: 效果 | J25: 概要 | K25: 出自
B26: 11 | E26: =IFERROR(VLOOKUP(D26,才能!$B$2:$L$1286,5,FALSE),"") | F26: =IFERROR(VLOOKUP(D26,才能!$B$2:$L$1286,6,FALSE),"") | G26: =IFERROR(VLOOKUP(D26,才能!$B$2:$L$1286,7,FALSE),"") | H26: =IFERROR(VLOOKUP(D26,才能!$B$2:$L$1286,8,FALSE),"") | I26: =IFERROR(VLOOKUP(D26,才能!$B$2:$L$1286,9,FALSE),"") | J26: =IFERROR(VLOOKUP(D26,才能!$B$2:$L$1286,10,FALSE),"") | K26: =IFERROR(VLOOKUP(D26,才能!$B$2:$L$1286,11,FALSE),"")
B27: 12 | E27: =IFERROR(VLOOKUP(D27,才能!$B$2:$L$1286,5,FALSE),"") | F27: =IFERROR(VLOOKUP(D27,才能!$B$2:$L$1286,6,FALSE),"") | G27: =IFERROR(VLOOKUP(D27,才能!$B$2:$L$1286,7,FALSE),"") | H27: =IFERROR(VLOOKUP(D27,才能!$B$2:$L$1286,8,FALSE),"") | I27: =IFERROR(VLOOKUP(D27,才能!$B$2:$L$1286,9,FALSE),"") | J27: =IFERROR(VLOOKUP(D27,才能!$B$2:$L$1286,10,FALSE),"") | K27: =IFERROR(VLOOKUP(D27,才能!$B$2:$L$1286,11,FALSE),"")
B28: 13 | E28: =IFERROR(VLOOKUP(D28,才能!$B$2:$L$1286,5,FALSE),"") | F28: =IFERROR(VLOOKUP(D28,才能!$B$2:$L$1286,6,FALSE),"") | G28: =IFERROR(VLOOKUP(D28,才能!$B$2:$L$1286,7,FALSE),"") | H28: =IFERROR(VLOOKUP(D28,才能!$B$2:$L$1286,8,FALSE),"") | I28: =IFERROR(VLOOKUP(D28,才能!$B$2:$L$1286,9,FALSE),"") | J28: =IFERROR(VLOOKUP(D28,才能!$B$2:$L$1286,10,FALSE),"") | K28: =IFERROR(VLOOKUP(D28,才能!$B$2:$L$1286,11,FALSE),"")
B29: 14 | E29: =IFERROR(VLOOKUP(D29,才能!$B$2:$L$1286,5,FALSE),"") | F29: =IFERROR(VLOOKUP(D29,才能!$B$2:$L$1286,6,FALSE),"") | G29: =IFERROR(VLOOKUP(D29,才能!$B$2:$L$1286,7,FALSE),"") | H29: =IFERROR(VLOOKUP(D29,才能!$B$2:$L$1286,8,FALSE),"") | I29: =IFERROR(VLOOKUP(D29,才能!$B$2:$L$1286,9,FALSE),"") | J29: =IFERROR(VLOOKUP(D29,才能!$B$2:$L$1286,10,FALSE),"") | K29: =IFERROR(VLOOKUP(D29,才能!$B$2:$L$1286,11,FALSE),"")
B30: 15 | E30: =IFERROR(VLOOKUP(D30,才能!$B$2:$L$1286,5,FALSE),"") | F30: =IFERROR(VLOOKUP(D30,才能!$B$2:$L$1286,6,FALSE),"") | G30: =IFERROR(VLOOKUP(D30,才能!$B$2:$L$1286,7,FALSE),"") | H30: =IFERROR(VLOOKUP(D30,才能!$B$2:$L$1286,8,FALSE),"") | I30: =IFERROR(VLOOKUP(D30,才能!$B$2:$L$1286,9,FALSE),"") | J30: =IFERROR(VLOOKUP(D30,才能!$B$2:$L$1286,10,FALSE),"") | K30: =IFERROR(VLOOKUP(D30,才能!$B$2:$L$1286,11,FALSE),"")
B31: ▲ | E31: =IFERROR(VLOOKUP(D31,才能!$B$2:$L$1286,5,FALSE),"") | F31: =IFERROR(VLOOKUP(D31,才能!$B$2:$L$1286,6,FALSE),"") | G31: =IFERROR(VLOOKUP(D31,才能!$B$2:$L$1286,7,FALSE),"") | H31: =IFERROR(VLOOKUP(D31,才能!$B$2:$L$1286,8,FALSE),"") | I31: =IFERROR(VLOOKUP(D31,才能!$B$2:$L$1286,9,FALSE),"") | J31: =IFERROR(VLOOKUP(D31,才能!$B$2:$L$1286,10,FALSE),"") | K31: =IFERROR(VLOOKUP(D31,才能!$B$2:$L$1286,11,FALSE),"")
B32: ※ | C32: =IF(基础信息!Y3>=15,"高位才能LV10","") | E32: =IFERROR(VLOOKUP($D$32,备用!$B$79:$L$81,5,FALSE),"") | F32: =IFERROR(VLOOKUP($D$32,备用!$B$79:$L$81,6,FALSE),"") | G32: =IFERROR(VLOOKUP($D$32,备用!$B$79:$L$81,7,FALSE),"") | H32: =IFERROR(VLOOKUP($D$32,备用!$B$79:$L$81,8,FALSE),"") | I32: =IFERROR(VLOOKUP($D$32,备用!$B$79:$L$81,9,FALSE),"") | J32: =IFERROR(VLOOKUP($D$32,备用!$B$79:$L$81,10,FALSE),"") | K32: =IFERROR(VLOOKUP($D$32,备用!$B$79:$L$81,11,FALSE),"")
B33: 16 | E33: =IFERROR(VLOOKUP(D33,才能!$B$2:$L$1286,5,FALSE),"") | F33: =IFERROR(VLOOKUP(D33,才能!$B$2:$L$1286,6,FALSE),"") | G33: =IFERROR(VLOOKUP(D33,才能!$B$2:$L$1286,7,FALSE),"") | H33: =IFERROR(VLOOKUP(D33,才能!$B$2:$L$1286,8,FALSE),"") | I33: =IFERROR(VLOOKUP(D33,才能!$B$2:$L$1286,9,FALSE),"") | J33: =IFERROR(VLOOKUP(D33,才能!$B$2:$L$1286,10,FALSE),"") | K33: =IFERROR(VLOOKUP(D33,才能!$B$2:$L$1286,11,FALSE),"")
B34: 17 | E34: =IFERROR(VLOOKUP(D34,才能!$B$2:$L$1286,5,FALSE),"") | F34: =IFERROR(VLOOKUP(D34,才能!$B$2:$L$1286,6,FALSE),"") | G34: =IFERROR(VLOOKUP(D34,才能!$B$2:$L$1286,7,FALSE),"") | H34: =IFERROR(VLOOKUP(D34,才能!$B$2:$L$1286,8,FALSE),"") | I34: =IFERROR(VLOOKUP(D34,才能!$B$2:$L$1286,9,FALSE),"") | J34: =IFERROR(VLOOKUP(D34,才能!$B$2:$L$1286,10,FALSE),"") | K34: =IFERROR(VLOOKUP(D34,才能!$B$2:$L$1286,11,FALSE),"")
B35: 18 | E35: =IFERROR(VLOOKUP(D35,才能!$B$2:$L$1286,5,FALSE),"") | F35: =IFERROR(VLOOKUP(D35,才能!$B$2:$L$1286,6,FALSE),"") | G35: =IFERROR(VLOOKUP(D35,才能!$B$2:$L$1286,7,FALSE),"") | H35: =IFERROR(VLOOKUP(D35,才能!$B$2:$L$1286,8,FALSE),"") | I35: =IFERROR(VLOOKUP(D35,才能!$B$2:$L$1286,9,FALSE),"") | J35: =IFERROR(VLOOKUP(D35,才能!$B$2:$L$1286,10,FALSE),"") | K35: =IFERROR(VLOOKUP(D35,才能!$B$2:$L$1286,11,FALSE),"")
B36: 19 | E36: =IFERROR(VLOOKUP(D36,才能!$B$2:$L$1286,5,FALSE),"") | F36: =IFERROR(VLOOKUP(D36,才能!$B$2:$L$1286,6,FALSE),"") | G36: =IFERROR(VLOOKUP(D36,才能!$B$2:$L$1286,7,FALSE),"") | H36: =IFERROR(VLOOKUP(D36,才能!$B$2:$L$1286,8,FALSE),"") | I36: =IFERROR(VLOOKUP(D36,才能!$B$2:$L$1286,9,FALSE),"") | J36: =IFERROR(VLOOKUP(D36,才能!$B$2:$L$1286,10,FALSE),"") | K36: =IFERROR(VLOOKUP(D36,才能!$B$2:$L$1286,11,FALSE),"")
B37: 20 | E37: =IFERROR(VLOOKUP(D37,才能!$B$2:$L$1286,5,FALSE),"") | F37: =IFERROR(VLOOKUP(D37,才能!$B$2:$L$1286,6,FALSE),"") | G37: =IFERROR(VLOOKUP(D37,才能!$B$2:$L$1286,7,FALSE),"") | H37: =IFERROR(VLOOKUP(D37,才能!$B$2:$L$1286,8,FALSE),"") | I37: =IFERROR(VLOOKUP(D37,才能!$B$2:$L$1286,9,FALSE),"") | J37: =IFERROR(VLOOKUP(D37,才能!$B$2:$L$1286,10,FALSE),"") | K37: =IFERROR(VLOOKUP(D37,才能!$B$2:$L$1286,11,FALSE),"")
B38: ▲ | E38: =IFERROR(VLOOKUP(D38,才能!$B$2:$L$1286,5,FALSE),"") | F38: =IFERROR(VLOOKUP(D38,才能!$B$2:$L$1286,6,FALSE),"") | G38: =IFERROR(VLOOKUP(D38,才能!$B$2:$L$1286,7,FALSE),"") | H38: =IFERROR(VLOOKUP(D38,才能!$B$2:$L$1286,8,FALSE),"") | I38: =IFERROR(VLOOKUP(D38,才能!$B$2:$L$1286,9,FALSE),"") | J38: =IFERROR(VLOOKUP(D38,才能!$B$2:$L$1286,10,FALSE),"") | K38: =IFERROR(VLOOKUP(D38,才能!$B$2:$L$1286,11,FALSE),"")
B39: ※ | C39: =IF(基础信息!Y3>=20,"高位才能LV10","") | E39: =IFERROR(VLOOKUP($D$39,备用!$B$79:$L$81,5,FALSE),"") | F39: =IFERROR(VLOOKUP($D$39,备用!$B$79:$L$81,6,FALSE),"") | G39: =IFERROR(VLOOKUP($D$39,备用!$B$79:$L$81,7,FALSE),"") | H39: =IFERROR(VLOOKUP($D$39,备用!$B$79:$L$81,8,FALSE),"") | I39: =IFERROR(VLOOKUP($D$39,备用!$B$79:$L$81,9,FALSE),"") | J39: =IFERROR(VLOOKUP($D$39,备用!$B$79:$L$81,10,FALSE),"") | K39: =IFERROR(VLOOKUP($D$39,备用!$B$79:$L$81,11,FALSE),"")
B40: 额外 | E40: =IFERROR(VLOOKUP(D40,才能!$B$2:$L$1286,5,FALSE),"") | F40: =IFERROR(VLOOKUP(D40,才能!$B$2:$L$1286,6,FALSE),"") | G40: =IFERROR(VLOOKUP(D40,才能!$B$2:$L$1286,7,FALSE),"") | H40: =IFERROR(VLOOKUP(D40,才能!$B$2:$L$1286,8,FALSE),"") | I40: =IFERROR(VLOOKUP(D40,才能!$B$2:$L$1286,9,FALSE),"") | J40: =IFERROR(VLOOKUP(D40,才能!$B$2:$L$1286,10,FALSE),"") | K40: =IFERROR(VLOOKUP(D40,才能!$B$2:$L$1286,11,FALSE),"")
B41: 额外 | E41: =IFERROR(VLOOKUP(D41,才能!$B$2:$L$1286,5,FALSE),"") | F41: =IFERROR(VLOOKUP(D41,才能!$B$2:$L$1286,6,FALSE),"") | G41: =IFERROR(VLOOKUP(D41,才能!$B$2:$L$1286,7,FALSE),"") | H41: =IFERROR(VLOOKUP(D41,才能!$B$2:$L$1286,8,FALSE),"") | I41: =IFERROR(VLOOKUP(D41,才能!$B$2:$L$1286,9,FALSE),"") | J41: =IFERROR(VLOOKUP(D41,才能!$B$2:$L$1286,10,FALSE),"") | K41: =IFERROR(VLOOKUP(D41,才能!$B$2:$L$1286,11,FALSE),"")
B42: 额外 | E42: =IFERROR(VLOOKUP(D42,才能!$B$2:$L$1286,5,FALSE),"") | F42: =IFERROR(VLOOKUP(D42,才能!$B$2:$L$1286,6,FALSE),"") | G42: =IFERROR(VLOOKUP(D42,才能!$B$2:$L$1286,7,FALSE),"") | H42: =IFERROR(VLOOKUP(D42,才能!$B$2:$L$1286,8,FALSE),"") | I42: =IFERROR(VLOOKUP(D42,才能!$B$2:$L$1286,9,FALSE),"") | J42: =IFERROR(VLOOKUP(D42,才能!$B$2:$L$1286,10,FALSE),"") | K42: =IFERROR(VLOOKUP(D42,才能!$B$2:$L$1286,11,FALSE),"")
...

Sheet 道具栏
A1: 套装 | W1: 道具使用扩展： | AB1: 全扩
A2: 名称 | G2: 类型 | I2: 用途 | L2: 时机 | N2: 距离 | P2: 目标 | R2: 价格 | U2: 数量 | W2: 描述 | AP2: 效果 | BB2: 出自
A3: =IFERROR(VLOOKUP(基础信息!$AB$7,备用!$AA$151:$AJ$155,2,FALSE),"") -> 灵毛睡袋 | G3: =IFERROR(VLOOKUP(A3,装!$B:$AA,4,0),"") -> 常备 | I3: =IFERROR(VLOOKUP(A3,装!$B:$AA,6,0),"") -> 小休息（睡眠） | L3: =IFERROR(VLOOKUP(A3,装!$B:$AA,20,0),"") -> - | N3: =IFERROR(VLOOKUP(A3,装!$B:$AA,24,0),"") -> - | P3: =IFERROR(VLOOKUP(A3,装!$B:$AA,25,0),"") -> - | R3: =IFERROR(VLOOKUP(A3,装!$B:$AA,21,0),"") -> 150 | W3: =IFERROR(VLOOKUP(A3,装!$B:$AA,22,0),"") -> 使用特殊的异怪的毛编制成的睡袋。因为灵力的关系，当做床进行睡眠的时候可以回复体力。 | AP3: =IFERROR(VLOOKUP(A3,装!$B:$AA,23,0),"") -> [休息回复量]+4。 | BB3: =IFERROR(VLOOKUP(A3,装!$B:$AA,26,0),"") -> 《神我狩》
A5: =IFERROR(VLOOKUP(基础信息!$AB$7,备用!$AA$151:$AJ$155,3,FALSE),"") -> 虎之瞳 | G5: =IFERROR(VLOOKUP(A5,装!$B:$AA,4,0),"") -> 常备 | I5: =IFERROR(VLOOKUP(A5,装!$B:$AA,6,0),"") -> 法则障害 | L5: =IFERROR(VLOOKUP(A5,装!$B:$AA,20,0),"") -> - | N5: =IFERROR(VLOOKUP(A5,装!$B:$AA,24,0),"") -> - | P5: =IFERROR(VLOOKUP(A5,装!$B:$AA,25,0),"") -> - | R5: =IFERROR(VLOOKUP(A5,装!$B:$AA,21,0),"") -> 500 | W5: =IFERROR(VLOOKUP(A5,装!$B:$AA,22,0),"") -> 让人联想到虎瞳的美丽宝石。 | AP5: =IFERROR(VLOOKUP(A5,装!$B:$AA,23,0),"") -> [消去]时使用，【幸运】判定的达成值获得+1修正。 | BB5: =IFERROR(VLOOKUP(A5,装!$B:$AA,26,0),"") -> 《神我狩》
A7: =IFERROR(VLOOKUP(基础信息!$AB$7,备用!AA$151:AJ$155,4,FALSE),"") -> 香囊 | G7: =IFERROR(VLOOKUP(A7,装!$B:$AA,4,0),"") -> 消耗 | I7: =IFERROR(VLOOKUP(A7,装!$B:$AA,6,0),"") -> 其他 | L7: =IFERROR(VLOOKUP(A7,装!$B:$AA,20,0),"") -> - | N7: =IFERROR(VLOOKUP(A7,装!$B:$AA,24,0),"") -> 使用者 | P7: =IFERROR(VLOOKUP(A7,装!$B:$AA,25,0),"") -> 使用者 | R7: =IFERROR(VLOOKUP(A7,装!$B:$AA,21,0),"") -> 5 | W7: =IFERROR(VLOOKUP(A7,装!$B:$AA,22,0),"") -> 放入了各种各样的香草的小御守。 | AP7: =IFERROR(VLOOKUP(A7,装!$B:$AA,23,0),"") -> 无效目标[登场判定]的失败或是[大失败]效果，使之在[场景]内登场。 | BB7: =IFERROR(VLOOKUP(A7,装!$B:$AA,26,0),"") -> 《神我狩》
A9: =IFERROR(VLOOKUP(基础信息!$AB$7,备用!AA$151:AJ$155,5,FALSE),"") -> 变若水 | G9: =IFERROR(VLOOKUP(A9,装!$B:$AA,4,0),"") -> 消耗 | I9: =IFERROR(VLOOKUP(A9,装!$B:$AA,6,0),"") -> 其他 | L9: =IFERROR(VLOOKUP(A9,装!$B:$AA,20,0),"") -> - | N9: =IFERROR(VLOOKUP(A9,装!$B:$AA,24,0),"") -> 接近状态 | P9: =IFERROR(VLOOKUP(A9,装!$B:$AA,25,0),"") -> 1体 | R9: =IFERROR(VLOOKUP(A9,装!$B:$AA,21,0),"") -> 400 | W9: =IFERROR(VLOOKUP(A9,装!$B:$AA,22,0),"") -> 月神所持有的能返老还童的灵药的再现物，喝下后能将受伤的部分回复到受伤之前的状态。 | AP9: =IFERROR(VLOOKUP(A9,装!$B:$AA,23,0),"") -> 目标的【生命力】[回复]20。 | BB9: =IFERROR(VLOOKUP(A9,装!$B:$AA,26,0),"") -> 《神我狩》
A11: =IFERROR(VLOOKUP(基础信息!$AB$7,备用!AA$151:AJ$155,6,FALSE),"") -> 甘露 | G11: =IFERROR(VLOOKUP(A11,装!$B:$AA,4,0),"") -> 消耗 | I11: =IFERROR(VLOOKUP(A11,装!$B:$AA,6,0),"") -> 其他 | L11: =IFERROR(VLOOKUP(A11,装!$B:$AA,20,0),"") -> - | N11: =IFERROR(VLOOKUP(A11,装!$B:$AA,24,0),"") -> 接近状态 | P11: =IFERROR(VLOOKUP(A11,装!$B:$AA,25,0),"") -> 1体 | R11: =IFERROR(VLOOKUP(A11,装!$B:$AA,21,0),"") -> 200 | W11: =IFERROR(VLOOKUP(A11,装!$B:$AA,22,0),"") -> 以前的神们搅动海洋而产生的灵药。 | AP11: =IFERROR(VLOOKUP(A11,装!$B:$AA,23,0),"") -> 赋予目标[解除：气绝]后，目标的【生命力】变为1。目标可以拒绝这个效果。 | BB11: =IFERROR(VLOOKUP(A11,装!$B:$AA,26,0),"") -> 《神我狩》
A13: =IFERROR(VLOOKUP(基础信息!AB$7,备用!AA$151:AJ$155,7,FALSE),"") -> 甘露 | G13: =IFERROR(VLOOKUP(A13,装!$B:$AA,4,0),"") -> 消耗 | I13: =IFERROR(VLOOKUP(A13,装!$B:$AA,6,0),"") -> 其他 | L13: =IFERROR(VLOOKUP(A13,装!$B:$AA,20,0),"") -> - | N13: =IFERROR(VLOOKUP(A13,装!$B:$AA,24,0),"") -> 接近状态 | P13: =IFERROR(VLOOKUP(A13,装!$B:$AA,25,0),"") -> 1体 | R13: =IFERROR(VLOOKUP(A13,装!$B:$AA,21,0),"") -> 200 | W13: =IFERROR(VLOOKUP(A13,装!$B:$AA,22,0),"") -> 以前的神们搅动海洋而产生的灵药。 | AP13: =IFERROR(VLOOKUP(A13,装!$B:$AA,23,0),"") -> 赋予目标[解除：气绝]后，目标的【生命力】变为1。目标可以拒绝这个效果。 | BB13: =IFERROR(VLOOKUP(A13,装!$B:$AA,26,0),"") -> 《神我狩》
A15: =IFERROR(VLOOKUP(基础信息!AB$7,备用!AA$151:AJ$155,8,FALSE),"") -> 一次性咒物 | G15: =IFERROR(VLOOKUP(A15,装!$B:$AA,4,0),"") -> 消耗 | I15: =IFERROR(VLOOKUP(A15,装!$B:$AA,6,0),"") -> 其他 | L15: =IFERROR(VLOOKUP(A15,装!$B:$AA,20,0),"") -> 特殊 | N15: =IFERROR(VLOOKUP(A15,装!$B:$AA,24,0),"") -> 使用者 | P15: =IFERROR(VLOOKUP(A15,装!$B:$AA,25,0),"") -> 使用者 | R15: =IFERROR(VLOOKUP(A15,装!$B:$AA,21,0),"") -> 100 | W15: =IFERROR(VLOOKUP(A15,装!$B:$AA,22,0),"") -> 能临时提升术技威力的一次性咒物。 | AP15: =IFERROR(VLOOKUP(A15,装!$B:$AA,23,0),"") -> [伤害算出]1次只能使用1个。[伤害]获得+1D的修正。 | BB15: =IFERROR(VLOOKUP(A15,装!$B:$AA,26,0),"") -> 《神我狩》
A17: =IFERROR(VLOOKUP(基础信息!AB$7,备用!AA$151:AJ$155,9,FALSE),"") -> 能量块*5 | G17: =IFERROR(VLOOKUP(A17,装!$B:$AA,4,0),"") -> 消耗 | I17: =IFERROR(VLOOKUP(A17,装!$B:$AA,6,0),"") -> 小休息 | L17: =IFERROR(VLOOKUP(A17,装!$B:$AA,20,0),"") -> - | N17: =IFERROR(VLOOKUP(A17,装!$B:$AA,24,0),"") -> 使用者 | P17: =IFERROR(VLOOKUP(A17,装!$B:$AA,25,0),"") -> 使用者 | R17: =IFERROR(VLOOKUP(A17,装!$B:$AA,21,0),"") -> 100 | W17: =IFERROR(VLOOKUP(A17,装!$B:$AA,22,0),"") -> 使用和圣饼一类的食物的原理做成的块状食物五人份。 | AP17: =IFERROR(VLOOKUP(A17,装!$B:$AA,23,0),"") -> [小休息]时[休息回复量]+5。 | BB17: =IFERROR(VLOOKUP(A17,装!$B:$AA,26,0),"") -> 《神我狩》
A19: =IFERROR(VLOOKUP(基础信息!AB$7,备用!AA$151:AJ$155,10,FALSE),"") -> 圣水*5 | G19: =IFERROR(VLOOKUP(A19,装!$B:$AA,4,0),"") -> 消耗 | I19: =IFERROR(VLOOKUP(A19,装!$B:$AA,6,0),"") -> 其他 | L19: =IFERROR(VLOOKUP(A19,装!$B:$AA,20,0),"") -> - | N19: =IFERROR(VLOOKUP(A19,装!$B:$AA,24,0),"") -> 使用者 | P19: =IFERROR(VLOOKUP(A19,装!$B:$AA,25,0),"") -> 使用者 | R19: =IFERROR(VLOOKUP(A19,装!$B:$AA,21,0),"") -> 50 | W19: =IFERROR(VLOOKUP(A19,装!$B:$AA,22,0),"") -> 附有圣别的清水。 | AP19: =IFERROR(VLOOKUP(A19,装!$B:$AA,23,0),"") -> 目标直到这个回合的[时机：结束]前，对[类别：不死]的[伤害算出]时[等级]+1。 | BB19: =IFERROR(VLOOKUP(A19,装!$B:$AA,26,0),"") -> 《神我狩》
A21: 职业道具
A22: =IFERROR(IF(OFFSET(备用!A$181,备用!B$180,MATCH(基础信息!B$13,备用!$181:$181,0)+3,,)=0,"",OFFSET(备用!A$181,备用!B$180,MATCH(基础信息!B$13,备用!$181:$181,0)+3,,)),"") -> 移动通讯设备 | G22: =IFERROR(VLOOKUP(A22,装!$B:$AA,4,0),"") -> 常备 | I22: =IFERROR(VLOOKUP(A22,装!$B:$AA,6,0),"") -> 其他 | L22: =IFERROR(VLOOKUP(A22,装!$B:$AA,20,0),"") -> - | N22: =IFERROR(VLOOKUP(A22,装!$B:$AA,24,0),"") -> - | P22: =IFERROR(VLOOKUP(A22,装!$B:$AA,25,0),"") -> - | R22: =IFERROR(VLOOKUP(A22,装!$B:$AA,21,0),"") -> 0 | W22: =IFERROR(VLOOKUP(A22,装!$B:$AA,22,0),"") -> 笔记本或手机等。 | AP22: =IFERROR(VLOOKUP(A22,装!$B:$AA,23,0),"") -> 1场景中1次，能与[登场][未登场][退场]的1名角色进行对话（是否能进行对话由GM决定）。 | BB22: =IFERROR(VLOOKUP(A22,装!$B:$AA,26,0),"") -> 《神我狩》
A24: =IFERROR(IF(OFFSET(备用!A$181,备用!B$180,MATCH(基础信息!B$13,备用!$181:$181,0)+4,,)=0,"",OFFSET(备用!A$181,备用!B$180,MATCH(基础信息!B$13,备用!$181:$181,0)+4,,)),"") -> 住宅 | G24: =IFERROR(VLOOKUP(A24,装!$B:$AA,4,0),"") -> 常备 | I24: =IFERROR(VLOOKUP(A24,装!$B:$AA,6,0),"") -> 小休息（进餐） | L24: =IFERROR(VLOOKUP(A24,装!$B:$AA,20,0),"") -> - | N24: =IFERROR(VLOOKUP(A24,装!$B:$AA,24,0),"") -> - | P24: =IFERROR(VLOOKUP(A24,装!$B:$AA,25,0),"") -> - | R24: =IFERROR(VLOOKUP(A24,装!$B:$AA,21,0),"") -> 100 | W24: =IFERROR(VLOOKUP(A24,装!$B:$AA,22,0),"") -> 视为自宅的住居。可以在内进行短时间的休息和营养的补充。 | AP24: =IFERROR(VLOOKUP(A24,装!$B:$AA,23,0),"") -> [休息回复量]+3。 | BB24: =IFERROR(VLOOKUP(A24,装!$B:$AA,26,0),"") -> 《神我狩》
A26: =IFERROR(IF(OFFSET(备用!A$181,备用!B$180,MATCH(基础信息!B$13,备用!$181:$181,0)+5,,)=0,"",OFFSET(备用!A$181,备用!B$180,MATCH(基础信息!B$13,备用!$181:$181,0)+5,,)),"") -> 急救套装 | G26: =IFERROR(VLOOKUP(A26,装!$B:$AA,4,0),"") -> 常备 | I26: =IFERROR(VLOOKUP(A26,装!$B:$AA,6,0),"") -> 小休息（准备） | L26: =IFERROR(VLOOKUP(A26,装!$B:$AA,20,0),"") -> - | N26: =IFERROR(VLOOKUP(A26,装!$B:$AA,24,0),"") -> - | P26: =IFERROR(VLOOKUP(A26,装!$B:$AA,25,0),"") -> - | R26: =IFERROR(VLOOKUP(A26,装!$B:$AA,21,0),"") -> 100 | W26: =IFERROR(VLOOKUP(A26,装!$B:$AA,22,0),"") -> 各种各样的对于伤口的应急处理道具套装。 | AP26: =IFERROR(VLOOKUP(A26,装!$B:$AA,23,0),"") -> [休息回复量]+3。 | BB26: =IFERROR(VLOOKUP(A26,装!$B:$AA,26,0),"") -> 《神我狩》
A28: =IFERROR(IF(OFFSET(备用!A$181,备用!B$180,MATCH(基础信息!B$13,备用!$181:$181,0)+6,,)=0,"",OFFSET(备用!A$181,备用!B$180,MATCH(基础信息!B$13,备用!$181:$181,0)+6,,)),"") -> 二轮机车 | G28: =IFERROR(VLOOKUP(A28,装!$B:$AA,4,0),"") -> 常备 | I28: =IFERROR(VLOOKUP(A28,装!$B:$AA,6,0),"") -> 其他 | L28: =IFERROR(VLOOKUP(A28,装!$B:$AA,20,0),"") -> - | N28: =IFERROR(VLOOKUP(A28,装!$B:$AA,24,0),"") -> - | P28: =IFERROR(VLOOKUP(A28,装!$B:$AA,25,0),"") -> - | R28: =IFERROR(VLOOKUP(A28,装!$B:$AA,21,0),"") -> 5 | W28: =IFERROR(VLOOKUP(A28,装!$B:$AA,22,0),"") -> 在[战斗外]进行移动使用的摩托车，形状样式各种各样。 | AP28: =IFERROR(VLOOKUP(A28,装!$B:$AA,23,0),"") -> 因为是使用灵力具现化的超常存在，所以不会因为通常的物理法则而受到损伤。但是不能当做[武器]来使用。 | BB28: =IFERROR(VLOOKUP(A28,装!$B:$AA,26,0),"") -> 《神我狩》
A30: =IFERROR(IF(OFFSET(备用!A$181,备用!B$180,MATCH(基础信息!B$13,备用!$181:$181,0)+7,,)=0,"",OFFSET(备用!A$181,备用!B$180,MATCH(基础信息!B$13,备用!$181:$181,0)+7,,)),"") -> 小包 | G30: =IFERROR(VLOOKUP(A30,装!$B:$AA,4,0),"") -> 常备 | I30: =IFERROR(VLOOKUP(A30,装!$B:$AA,6,0),"") -> 其他 | L30: =IFERROR(VLOOKUP(A30,装!$B:$AA,20,0),"") -> - | N30: =IFERROR(VLOOKUP(A30,装!$B:$AA,24,0),"") -> - | P30: =IFERROR(VLOOKUP(A30,装!$B:$AA,25,0),"") -> - | R30: =IFERROR(VLOOKUP(A30,装!$B:$AA,21,0),"") -> 0 | W30: =IFERROR(VLOOKUP(A30,装!$B:$AA,22,0),"") -> 各种各样的包。 | AP30: =IFERROR(VLOOKUP(A30,装!$B:$AA,23,0),"") -> 无 | BB30: =IFERROR(VLOOKUP(A30,装!$B:$AA,26,0),"") -> 《神我狩》
A32: =IFERROR(IF(OFFSET(备用!A$181,备用!B$180,MATCH(基础信息!B$13,备用!$181:$181,0)+8,,)=0,"",OFFSET(备用!A$181,备用!B$180,MATCH(基础信息!B$13,备用!$181:$181,0)+8,,)),"") | G32: =IFERROR(VLOOKUP(A32,装!$B:$AA,4,0),"") | I32: =IFERROR(VLOOKUP(A32,装!$B:$AA,6,0),"") | L32: =IFERROR(VLOOKUP(A32,装!$B:$AA,20,0),"") | N32: =IFERROR(VLOOKUP(A32,装!$B:$AA,24,0),"") | P32: =IFERROR(VLOOKUP(A32,装!$B:$AA,25,0),"") | R32: =IFERROR(VLOOKUP(A32,装!$B:$AA,21,0),"") | W32: =IFERROR(VLOOKUP(A32,装!$B:$AA,22,0),"") | AP32: =IFERROR(VLOOKUP(A32,装!$B:$AA,23,0),"") | BB32: =IFERROR(VLOOKUP(A32,装!$B:$AA,26,0),"")
A34: =IFERROR(IF(OFFSET(备用!A$181,备用!B$180,MATCH(基础信息!B$13,备用!$181:$181,0)+9,,)=0,"",OFFSET(备用!A$181,备用!B$180,MATCH(基础信息!B$13,备用!$181:$181,0)+9,,)),"") | G34: =IFERROR(VLOOKUP(A34,装!$B:$AA,4,0),"") | I34: =IFERROR(VLOOKUP(A34,装!$B:$AA,6,0),"") | L34: =IFERROR(VLOOKUP(A34,装!$B:$AA,20,0),"") | N34: =IFERROR(VLOOKUP(A34,装!$B:$AA,24,0),"") | P34: =IFERROR(VLOOKUP(A34,装!$B:$AA,25,0),"") | R34: =IFERROR(VLOOKUP(A34,装!$B:$AA,21,0),"") | W34: =IFERROR(VLOOKUP(A34,装!$B:$AA,22,0),"") | AP34: =IFERROR(VLOOKUP(A34,装!$B:$AA,23,0),"") | BB34: =IFERROR(VLOOKUP(A34,装!$B:$AA,26,0),"")
A36: 表面职业5自选道具
G37: 常备 | I37: =IFERROR(VLOOKUP(A37,装!$B:$AA,6,0),"") | L37: =IFERROR(VLOOKUP(A37,装!$B:$AA,20,0),"") | N37: =IFERROR(VLOOKUP(A37,装!$B:$AA,24,0),"") | P37: =IFERROR(VLOOKUP(A37,装!$B:$AA,25,0),"") | R37: 非卖品 | W37: =IFERROR(VLOOKUP(A37,装!$B:$AA,22,0),"") | AP37: =IFERROR(VLOOKUP(A37,装!$B:$AA,23,0),"") | BB37: =IFERROR(VLOOKUP(A37,装!$B:$AA,26,0),"")
G39: 常备 | I39: =IFERROR(VLOOKUP(A39,装!$B:$AA,6,0),"") | L39: =IFERROR(VLOOKUP(A39,装!$B:$AA,20,0),"") | N39: =IFERROR(VLOOKUP(A39,装!$B:$AA,24,0),"") | P39: =IFERROR(VLOOKUP(A39,装!$B:$AA,25,0),"") | R39: 非卖品 | W39: =IFERROR(VLOOKUP(A39,装!$B:$AA,22,0),"") | AP39: =IFERROR(VLOOKUP(A39,装!$B:$AA,23,0),"") | BB39: =IFERROR(VLOOKUP(A39,装!$B:$AA,26,0),"")
G41: 常备 | I41: =IFERROR(VLOOKUP(A41,装!$B:$AA,6,0),"") | L41: =IFERROR(VLOOKUP(A41,装!$B:$AA,20,0),"") | N41: =IFERROR(VLOOKUP(A41,装!$B:$AA,24,0),"") | P41: =IFERROR(VLOOKUP(A41,装!$B:$AA,25,0),"") | R41: 非卖品 | W41: =IFERROR(VLOOKUP(A41,装!$B:$AA,22,0),"") | AP41: =IFERROR(VLOOKUP(A41,装!$B:$AA,23,0),"") | BB41: =IFERROR(VLOOKUP(A41,装!$B:$AA,26,0),"")
A43: 购入道具
G44: 消耗 | I44: =IFERROR(VLOOKUP(A44,装!$B:$AA,6,0),"") | L44: =IFERROR(VLOOKUP(A44,装!$B:$AA,20,0),"") | N44: =IFERROR(VLOOKUP(A44,装!$B:$AA,24,0),"") | P44: =IFERROR(VLOOKUP(A44,装!$B:$AA,25,0),"") | R44: =IFERROR(VLOOKUP(A44,装!$B:$AA,21,0),"") | W44: =IFERROR(VLOOKUP(A44,装!$B:$AA,22,0),"") | AP44: =IFERROR(VLOOKUP(A44,装!$B:$AA,23,0),"") | BB44: =IFERROR(VLOOKUP(A44,装!$B:$AA,26,0),"")
G46: 消耗 | I46: =IFERROR(VLOOKUP(A46,装!$B:$AA,6,0),"") | L46: =IFERROR(VLOOKUP(A46,装!$B:$AA,20,0),"") | N46: =IFERROR(VLOOKUP(A46,装!$B:$AA,24,0),"") | P46: =IFERROR(VLOOKUP(A46,装!$B:$AA,25,0),"") | R46: =IFERROR(VLOOKUP(A46,装!$B:$AA,21,0),"") | W46: =IFERROR(VLOOKUP(A46,装!$B:$AA,22,0),"") | AP46: =IFERROR(VLOOKUP(A46,装!$B:$AA,23,0),"") | BB46: =IFERROR(VLOOKUP(A46,装!$B:$AA,26,0),"")
G48: 常备 | I48: =IFERROR(VLOOKUP(A48,装!$B:$AA,6,0),"") | L48: =IFERROR(VLOOKUP(A48,装!$B:$AA,20,0),"") | N48: =IFERROR(VLOOKUP(A48,装!$B:$AA,24,0),"") | P48: =IFERROR(VLOOKUP(A48,装!$B:$AA,25,0),"") | R48: =IFERROR(VLOOKUP(A48,装!$B:$AA,21,0),"") | W48: =IFERROR(VLOOKUP(A48,装!$B:$AA,22,0),"") | AP48: =IFERROR(VLOOKUP(A48,装!$B:$AA,23,0),"") | BB48: =IFERROR(VLOOKUP(A48,装!$B:$AA,26,0),"")
G50: 常备 | I50: =IFERROR(VLOOKUP(A50,装!$B:$AA,6,0),"") | L50: =IFERROR(VLOOKUP(A50,装!$B:$AA,20,0),"") | N50: =IFERROR(VLOOKUP(A50,装!$B:$AA,24,0),"") | P50: =IFERROR(VLOOKUP(A50,装!$B:$AA,25,0),"") | R50: =IFERROR(VLOOKUP(A50,装!$B:$AA,21,0),"") | W50: =IFERROR(VLOOKUP(A50,装!$B:$AA,22,0),"") | AP50: =IFERROR(VLOOKUP(A50,装!$B:$AA,23,0),"") | BB50: =IFERROR(VLOOKUP(A50,装!$B:$AA,26,0),"")
G52: 常备 | I52: =IFERROR(VLOOKUP(A52,装!$B:$AA,6,0),"") | L52: =IFERROR(VLOOKUP(A52,装!$B:$AA,20,0),"") | N52: =IFERROR(VLOOKUP(A52,装!$B:$AA,24,0),"") | P52: =IFERROR(VLOOKUP(A52,装!$B:$AA,25,0),"") | R52: =IFERROR(VLOOKUP(A52,装!$B:$AA,21,0),"") | W52: =IFERROR(VLOOKUP(A52,装!$B:$AA,22,0),"") | AP52: =IFERROR(VLOOKUP(A52,装!$B:$AA,23,0),"") | BB52: =IFERROR(VLOOKUP(A52,装!$B:$AA,26,0),"")
G54: 常备 | I54: =IFERROR(VLOOKUP(A54,装!$B:$AA,6,0),"") | L54: =IFERROR(VLOOKUP(A54,装!$B:$AA,20,0),"") | N54: =IFERROR(VLOOKUP(A54,装!$B:$AA,24,0),"") | P54: =IFERROR(VLOOKUP(A54,装!$B:$AA,25,0),"") | R54: =IFERROR(VLOOKUP(A54,装!$B:$AA,21,0),"") | W54: =IFERROR(VLOOKUP(A54,装!$B:$AA,22,0),"") | AP54: =IFERROR(VLOOKUP(A54,装!$B:$AA,23,0),"") | BB54: =IFERROR(VLOOKUP(A54,装!$B:$AA,26,0),"")
G56: 常备 | I56: =IFERROR(VLOOKUP(A56,装!$B:$AA,6,0),"") | L56: =IFERROR(VLOOKUP(A56,装!$B:$AA,20,0),"") | N56: =IFERROR(VLOOKUP(A56,装!$B:$AA,24,0),"") | P56: =IFERROR(VLOOKUP(A56,装!$B:$AA,25,0),"") | R56: =IFERROR(VLOOKUP(A56,装!$B:$AA,21,0),"") | W56: =IFERROR(VLOOKUP(A56,装!$B:$AA,22,0),"") | AP56: =IFERROR(VLOOKUP(A56,装!$B:$AA,23,0),"") | BB56: =IFERROR(VLOOKUP(A56,装!$B:$AA,26,0),"")
G58: 常备 | I58: =IFERROR(VLOOKUP(A58,装!$B:$AA,6,0),"") | L58: =IFERROR(VLOOKUP(A58,装!$B:$AA,20,0),"") | N58: =IFERROR(VLOOKUP(A58,装!$B:$AA,24,0),"") | P58: =IFERROR(VLOOKUP(A58,装!$B:$AA,25,0),"") | R58: =IFERROR(VLOOKUP(A58,装!$B:$AA,21,0),"") | W58: =IFERROR(VLOOKUP(A58,装!$B:$AA,22,0),"") | AP58: =IFERROR(VLOOKUP(A58,装!$B:$AA,23,0),"") | BB58: =IFERROR(VLOOKUP(A58,装!$B:$AA,26,0),"")
G60: 常备 | I60: =IFERROR(VLOOKUP(A60,装!$B:$AA,6,0),"") | L60: =IFERROR(VLOOKUP(A60,装!$B:$AA,20,0),"") | N60: =IFERROR(VLOOKUP(A60,装!$B:$AA,24,0),"") | P60: =IFERROR(VLOOKUP(A60,装!$B:$AA,25,0),"") | R60: =IFERROR(VLOOKUP(A60,装!$B:$AA,21,0),"") | W60: =IFERROR(VLOOKUP(A60,装!$B:$AA,22,0),"") | AP60: =IFERROR(VLOOKUP(A60,装!$B:$AA,23,0),"") | BB60: =IFERROR(VLOOKUP(A60,装!$B:$AA,26,0),"")
G62: 常备 | I62: =IFERROR(VLOOKUP(A62,装!$B:$AA,6,0),"") | L62: =IFERROR(VLOOKUP(A62,装!$B:$AA,20,0),"") | N62: =IFERROR(VLOOKUP(A62,装!$B:$AA,24,0),"") | P62: =IFERROR(VLOOKUP(A62,装!$B:$AA,25,0),"") | R62: =IFERROR(VLOOKUP(A62,装!$B:$AA,21,0),"") | W62: =IFERROR(VLOOKUP(A62,装!$B:$AA,22,0),"") | AP62: =IFERROR(VLOOKUP(A62,装!$B:$AA,23,0),"") | BB62: =IFERROR(VLOOKUP(A62,装!$B:$AA,26,0),"")
A65: 素材包
A66: 名称 | G66: 稀有度 | I66: 提升属性 | K66: 数值 | M66: 售价
G68: 常见 | M68: =IF(G68="常见",IF(I68="生命+",K68/3*500,K68*500),IF(G68="珍稀",IF(K68="赋予",1500,IF(K68="减半",2000)),""))&"G" -> 0G
G69: 常见 | M69: =IF(G69="常见",IF(I69="生命+",K69/3*500,K69*500),IF(G69="珍稀",IF(K69="赋予",1500,IF(K69="减半",2000)),""))&"G" -> 0G
G70: 常见 | M70: =IF(G70="常见",IF(I70="生命+",K70/3*500,K70*500),IF(G70="珍稀",IF(K70="赋予",1500,IF(K70="减半",2000)),""))&"G" -> 0G
G71: 常见 | M71: =IF(G71="常见",IF(I71="生命+",K71/3*500,K71*500),IF(G71="珍稀",IF(K71="赋予",1500,IF(K71="减半",2000)),""))&"G" -> 0G
...

Sheet 数
B1: 命中 | C1: 回避 | D1: 发动 | E1: 抵抗 | F1: 看破 | G1: 物D | H1: 魔D | I1: 行动 | J1: 生命 | K1: 装甲 | L1: 结界
A2: 武器1追加 | B2: =IFERROR(IFERROR(VLOOKUP(基础信息!$D$39,装!$B:$AE,7,0),"0")+IFERROR(VLOOKUP(基础信息!$E$45,装!$B:$AE,7,0),"0")+IFERROR(VLOOKUP(基础信息!$E$47,装!$B:$AE,7,0),"0")+IFERROR(VLOOKUP(基础信息!$E$49,装!$B:$AE,7,0),"0")+IFERROR(VLOOKUP(基础信息!$E$51,装!$B:$AE,7,0),"0")+IFERROR(VLOOKUP(基础信息!$AI$51,装!$B:$AE,7,0),"0")+IFERROR(VLOOKUP(基础信息!$AI$49,装!$B:$AE,7,0),"0")+IFERROR(VLOOKUP(基础信息!$AI$47,装!$B:$AE,7,0),"0")+IFERROR(VLOOKUP(基础信息!$AI$45,装!$B:$AE,7,0),"0")+IF(LEFT(基础信息!O42,2)=B1,基础信息!S42,0)+IF(LEFT(基础信息!AE42,2)=B1,基础信息!AI42,0)+IF(LEFT(基础信息!AU42,2)=B1,基础信息!AY42,0)+IF(LEFT(基础信息!BK42,2)=B1,基础信息!BO42,0)+基础信息!M40,"")+B24 -> 0 | C2: =IFERROR(IFERROR(VLOOKUP(基础信息!$D$39,装!$B:$AE,8,0),"0")+IFERROR(VLOOKUP(基础信息!$E$45,装!$B:$AE,8,0),"0")+IFERROR(VLOOKUP(基础信息!$E$47,装!$B:$AE,8,0),"0")+IFERROR(VLOOKUP(基础信息!$E$49,装!$B:$AE,8,0),"0")+IFERROR(VLOOKUP(基础信息!$E$51,装!$B:$AE,8,0),"0")+IFERROR(VLOOKUP(基础信息!$AI$51,装!$B:$AE,8,0),"0")+IFERROR(VLOOKUP(基础信息!$AI$49,装!$B:$AE,8,0),"0")+IFERROR(VLOOKUP(基础信息!$AI$47,装!$B:$AE,8,0),"0")+IFERROR(VLOOKUP(基础信息!$AI$45,装!$B:$AE,8,0),"0")+IF(LEFT(基础信息!O42,2)=C1,基础信息!S42,0)+IF(LEFT(基础信息!AE42,2)=C1,基础信息!AI42,0)+IF(LEFT(基础信息!AU42,2)=C1,基础信息!AY42,0)+IF(LEFT(基础信息!BK42,2)=C1,基础信息!BO42,0)+基础信息!O40,"")+C24 -> 0 | D2: =IFERROR(IFERROR(VLOOKUP(基础信息!$D$39,装!$B:$AE,9,0),"0")+IFERROR(VLOOKUP(基础信息!$E$45,装!$B:$AE,9,0),"0")+IFERROR(VLOOKUP(基础信息!$E$47,装!$B:$AE,9,0),"0")+IFERROR(VLOOKUP(基础信息!$E$49,装!$B:$AE,9,0),"0")+IFERROR(VLOOKUP(基础信息!$E$51,装!$B:$AE,9,0),"0")+IFERROR(VLOOKUP(基础信息!$AI$51,装!$B:$AE,9,0),"0")+IFERROR(VLOOKUP(基础信息!$AI$49,装!$B:$AE,9,0),"0")+IFERROR(VLOOKUP(基础信息!$AI$47,装!$B:$AE,9,0),"0")+IFERROR(VLOOKUP(基础信息!$AI$45,装!$B:$AE,9,0),"0")+IF(LEFT(基础信息!O42,2)=D1,基础信息!S42,0)+IF(LEFT(基础信息!AE42,2)=D1,基础信息!AI42,0)+IF(LEFT(基础信息!AU42,2)=D1,基础信息!AY42,0)+IF(LEFT(基础信息!BK42,2)=D1,基础信息!BO42,0)+基础信息!Q40,"")+D24 -> 0 | E2: =IFERROR(IFERROR(VLOOKUP(基础信息!$D$39,装!$B:$AE,10,0),"0")+IFERROR(VLOOKUP(基础信息!$E$45,装!$B:$AE,10,0),"0")+IFERROR(VLOOKUP(基础信息!$E$47,装!$B:$AE,10,0),"0")+IFERROR(VLOOKUP(基础信息!$E$49,装!$B:$AE,10,0),"0")+IFERROR(VLOOKUP(基础信息!$E$51,装!$B:$AE,10,0),"0")+IFERROR(VLOOKUP(基础信息!$AI$51,装!$B:$AE,10,0),"0")+IFERROR(VLOOKUP(基础信息!$AI$49,装!$B:$AE,10,0),"0")+IFERROR(VLOOKUP(基础信息!$AI$47,装!$B:$AE,10,0),"0")+IFERROR(VLOOKUP(基础信息!$AI$45,装!$B:$AE,10,0),"0")+IF(LEFT(基础信息!O42,2)=E1,基础信息!S42,0)+IF(LEFT(基础信息!AE42,2)=E1,基础信息!AI42,0)+IF(LEFT(基础信息!AU42,2)=E1,基础信息!AY42,0)+IF(LEFT(基础信息!BK42,2)=E1,基础信息!BO42,0)+基础信息!S40,"")+E24 -> 0 | F2: =IFERROR(IFERROR(VLOOKUP(基础信息!$D$39,装!$B:$AE,11,0),"0")+IFERROR(VLOOKUP(基础信息!$E$45,装!$B:$AE,11,0),"0")+IFERROR(VLOOKUP(基础信息!$E$47,装!$B:$AE,11,0),"0")+IFERROR(VLOOKUP(基础信息!$E$49,装!$B:$AE,11,0),"0")+IFERROR(VLOOKUP(基础信息!$E$51,装!$B:$AE,11,0),"0")+IFERROR(VLOOKUP(基础信息!$AI$51,装!$B:$AE,11,0),"0")+IFERROR(VLOOKUP(基础信息!$AI$49,装!$B:$AE,11,0),"0")+IFERROR(VLOOKUP(基础信息!$AI$47,装!$B:$AE,11,0),"0")+IFERROR(VLOOKUP(基础信息!$AI$45,装!$B:$AE,11,0),"0")+IF(LEFT(基础信息!O42,2)=F1,基础信息!S42,0)+IF(LEFT(基础信息!AE42,2)=F1,基础信息!AI42,0)+IF(LEFT(基础信息!AU42,2)=F1,基础信息!AY42,0)+IF(LEFT(基础信息!BK42,2)=F1,基础信息!BO42,0)+基础信息!U40,"")+F24 -> 0 | G2: =IF(基础信息!$E$37="单持",IFERROR(IFERROR(VLOOKUP(基础信息!$D$39,装!$B:$AE,12,0),"0")+IFERROR(VLOOKUP(基础信息!$E$45,装!$B:$AE,12,0),"0")+IFERROR(VLOOKUP(基础信息!$E$47,装!$B:$AE,12,0),"0")+IFERROR(VLOOKUP(基础信息!$E$49,装!$B:$AE,12,0),"0")+IFERROR(VLOOKUP(基础信息!$E51,装!$B:$AE,12,0),"0")+IFERROR(VLOOKUP(基础信息!$AI$45,装!$B:$AE,12,0),"0")+IFERROR(VLOOKUP(基础信息!$AI$47,装!$B:$AE,12,0),"0")+IFERROR(VLOOKUP(基础信息!$AI$49,装!$B:$AE,12,0),"0")+IFERROR(VLOOKUP(基础信息!$AI$51,装!$B:$AE,12,0),"0")+IF(LEFT(基础信息!O42,2)=G1,基础信息!S42,0)+IF(LEFT(基础信息!AE42,2)=G1,基础信息!AI42,0)+IF(LEFT(基础信息!AU42,2)=G1,基础信息!AY42,0)+IF(LEFT(基础信息!BK42,2)=G1,基础信息!BO42,0)+基础信息!W40,""),IF(基础信息!$E$37="双持",IFERROR(IFERROR(VLOOKUP(基础信息!$D$39,装!$B:$AE,13,0),"0")+IFERROR(VLOOKUP(基础信息!$E$45,装!$B:$AE,13,0),"0")+IFERROR(VLOOKUP(基础信息!$E$47,装!$B:$AE,13,0),"0")+IFERROR(VLOOKUP(基础信息!$E$49,装!$B:$AE,13,0),"0")+IFERROR(VLOOKUP(基础信息!$E$51,装!$B:$AE,13,0),"0")+IFERROR(VLOOKUP(基础信息!$AI$51,装!$B:$AE,13,0),"0")+IFERROR(VLOOKUP(基础信息!$AI$49,装!$B:$AE,13,0),"0")+IFERROR(VLOOKUP(基础信息!$AI$47,装!$B:$AE,13,0),"0")+IFERROR(VLOOKUP(基础信息!$AI$45,装!$B:$AE,13,0),"0")+IF(LEFT(基础信息!O42,2)=G1,基础信息!S42,0)+IF(LEFT(基础信息!AE42,2)=G1,基础信息!AI42,0)+IF(LEFT(基础信息!AU42,2)=G1,基础信息!AY42,0)+IF(LEFT(基础信息!BK42,2)=G1,基础信息!BO42,0)+基础信息!W40,""),""))+G24 -> 0 | H2: =IF(基础信息!$E$37="单持",IFERROR(IFERROR(VLOOKUP(基础信息!$D$39,装!$B:$AE,14,0),"0")+IFERROR(VLOOKUP(基础信息!$E$45,装!$B:$AE,14,0),"0")+IFERROR(VLOOKUP(基础信息!$E$47,装!$B:$AE,14,0),"0")+IFERROR(VLOOKUP(基础信息!$E$49,装!$B:$AE,14,0),"0")+IFERROR(VLOOKUP(基础信息!$E51,装!$B:$AE,14,0),"0")+IFERROR(VLOOKUP(基础信息!$AI$45,装!$B:$AE,14,0),"0")+IFERROR(VLOOKUP(基础信息!$AI$47,装!$B:$AE,14,0),"0")+IFERROR(VLOOKUP(基础信息!$AI$49,装!$B:$AE,14,0),"0")+IFERROR(VLOOKUP(基础信息!$AI$51,装!$B:$AE,14,0),"0")+IF(LEFT(基础信息!O42,2)=H1,基础信息!S42,0)+IF(LEFT(基础信息!AE42,2)=H1,基础信息!AI42,0)+IF(LEFT(基础信息!AU42,2)=H1,基础信息!AY42,0)+IF(LEFT(基础信息!BK42,2)=H1,基础信息!BO42,0)+基础信息!Y40,""),IF(基础信息!$E$37="双持",IFERROR(IFERROR(VLOOKUP(基础信息!$D$39,装!$B:$AE,15,0),"0")+IFERROR(VLOOKUP(基础信息!$E$45,装!$B:$AE,15,0),"0")+IFERROR(VLOOKUP(基础信息!$E$47,装!$B:$AE,15,0),"0")+IFERROR(VLOOKUP(基础信息!$E$49,装!$B:$AE,15,0),"0")+IFERROR(VLOOKUP(基础信息!$E$51,装!$B:$AE,15,0),"0")+IFERROR(VLOOKUP(基础信息!$AI$51,装!$B:$AE,15,0),"0")+IFERROR(VLOOKUP(基础信息!$AI$49,装!$B:$AE,15,0),"0")+IFERROR(VLOOKUP(基础信息!$AI$47,装!$B:$AE,15,0),"0")+IFERROR(VLOOKUP(基础信息!$AI$45,装!$B:$AE,15,0),"0")+IF(LEFT(基础信息!O42,2)=H1,基础信息!S42,0)+IF(LEFT(基础信息!AE42,2)=H1,基础信息!AI42,0)+IF(LEFT(基础信息!AU42,2)=H1,基础信息!AY42,0)+IF(LEFT(基础信息!BK42,2)=H1,基础信息!BO42,0)+基础信息!Y40,""),""))+H24 -> 4 | I2: =IF(基础信息!$E$37="单持",IFERROR(IFERROR(VLOOKUP(基础信息!$D$39,装!$B:$AE,16,0),"0")+IFERROR(VLOOKUP(基础信息!$E$45,装!$B:$AE,16,0),"0")+IFERROR(VLOOKUP(基础信息!$E$47,装!$B:$AE,16,0),"0")+IFERROR(VLOOKUP(基础信息!$E$49,装!$B:$AE,16,0),"0")+IFERROR(VLOOKUP(基础信息!$E51,装!$B:$AE,16,0),"0")+IFERROR(VLOOKUP(基础信息!$AI$45,装!$B:$AE,16,0),"0")+IFERROR(VLOOKUP(基础信息!$AI$47,装!$B:$AE,16,0),"0")+IFERROR(VLOOKUP(基础信息!$AI$49,装!$B:$AE,16,0),"0")+IFERROR(VLOOKUP(基础信息!$AI$51,装!$B:$AE,16,0),"0")+IF(LEFT(基础信息!O42,2)=I1,基础信息!S42,0)+IF(LEFT(基础信息!AE42,2)=I1,基础信息!AI42,0)+IF(LEFT(基础信息!AU42,2)=I1,基础信息!AY42,0)+IF(LEFT(基础信息!BK42,2)=I1,基础信息!BO42,0)+基础信息!AA40,""),IF(基础信息!$E$37="双持",IFERROR(IFERROR(VLOOKUP(基础信息!$D$39,装!$B:$AE,17,0),"0")+IFERROR(VLOOKUP(基础信息!$E$45,装!$B:$AE,17,0),"0")+IFERROR(VLOOKUP(基础信息!$E$47,装!$B:$AE,17,0),"0")+IFERROR(VLOOKUP(基础信息!$E$49,装!$B:$AE,17,0),"0")+IFERROR(VLOOKUP(基础信息!$E$51,装!$B:$AE,17,0),"0")+IFERROR(VLOOKUP(基础信息!$AI$51,装!$B:$AE,17,0),"0")+IFERROR(VLOOKUP(基础信息!$AI$49,装!$B:$AE,17,0),"0")+IFERROR(VLOOKUP(基础信息!$AI$47,装!$B:$AE,17,0),"0")+IFERROR(VLOOKUP(基础信息!$AI$45,装!$B:$AE,17,0),"0")+IF(LEFT(基础信息!O42,2)=I1,基础信息!S42,0)+IF(LEFT(基础信息!AE42,2)=I1,基础信息!AI42,0)+IF(LEFT(基础信息!AU42,2)=I1,基础信息!AY42,0)+IF(LEFT(基础信息!BK42,2)=I1,基础信息!BO42,0)+基础信息!AA40,""),""))+I24 -> -3 | J2: =IFERROR(IFERROR(VLOOKUP(基础信息!$D$39,装!$B:$AE,18,0),"0")+IFERROR(VLOOKUP(基础信息!$E$45,装!$B:$AE,18,0),"0")+IFERROR(VLOOKUP(基础信息!$E$47,装!$B:$AE,18,0),"0")+IFERROR(VLOOKUP(基础信息!$E$49,装!$B:$AE,18,0),"0")+IFERROR(VLOOKUP(基础信息!$E$51,装!$B:$AE,18,0),"0")+IFERROR(VLOOKUP(基础信息!$AI$51,装!$B:$AE,18,0),"0")+IFERROR(VLOOKUP(基础信息!$AI$49,装!$B:$AE,18,0),"0")+IFERROR(VLOOKUP(基础信息!$AI$47,装!$B:$AE,18,0),"0")+IFERROR(VLOOKUP(基础信息!$AI$45,装!$B:$AE,18,0),"0")+IF(LEFT(基础信息!O42,2)=J1,基础信息!S42,0)+IF(LEFT(基础信息!AE42,2)=J1,基础信息!AI42,0)+IF(LEFT(基础信息!AU42,2)=J1,基础信息!AY42,0)+IF(LEFT(基础信息!BK42,2)=J1,基础信息!BO42,0)+基础信息!AC40,"")+J24 -> 0 | K2: =IFERROR(IFERROR(VLOOKUP(基础信息!$D$39,装!$B:$AE,19,0),"0")+IFERROR(VLOOKUP(基础信息!$E$45,装!$B:$AE,19,0),"0")+IFERROR(VLOOKUP(基础信息!$E$47,装!$B:$AE,19,0),"0")+IFERROR(VLOOKUP(基础信息!$E$49,装!$B:$AE,19,0),"0")+IFERROR(VLOOKUP(基础信息!$E$51,装!$B:$AE,19,0),"0")+IFERROR(VLOOKUP(基础信息!$AI$51,装!$B:$AE,19,0),"0")+IFERROR(VLOOKUP(基础信息!$AI$49,装!$B:$AE,19,0),"0")+IFERROR(VLOOKUP(基础信息!$AI$47,装!$B:$AE,19,0),"0")+IFERROR(VLOOKUP(基础信息!$AI$45,装!$B:$AE,19,0),"0")+IF(LEFT(基础信息!O42,2)=K1,基础信息!S42,0)+IF(LEFT(基础信息!AE42,2)=K1,基础信息!AI42,0)+IF(LEFT(基础信息!AU42,2)=K1,基础信息!AY42,0)+IF(LEFT(基础信息!BK42,2)=K1,基础信息!BO42,0)+基础信息!AE40,"")+K24 -> 0 | L2: =IFERROR(IFERROR(VLOOKUP(基础信息!$D$39,装!$B:$AE,20,0),"0")+IFERROR(VLOOKUP(基础信息!$E$45,装!$B:$AE,20,0),"0")+IFERROR(VLOOKUP(基础信息!$E$47,装!$B:$AE,20,0),"0")+IFERROR(VLOOKUP(基础信息!$E$49,装!$B:$AE,20,0),"0")+IFERROR(VLOOKUP(基础信息!$E$51,装!$B:$AE,20,0),"0")+IFERROR(VLOOKUP(基础信息!$AI$51,装!$B:$AE,20,0),"0")+IFERROR(VLOOKUP(基础信息!$AI$49,装!$B:$AE,20,0),"0")+IFERROR(VLOOKUP(基础信息!$AI$47,装!$B:$AE,20,0),"0")+IFERROR(VLOOKUP(基础信息!$AI$45,装!$B:$AE,20,0),"0")+IF(LEFT(基础信息!O42,2)=L1,基础信息!S42,0)+IF(LEFT(基础信息!AE42,2)=L1,基础信息!AI42,0)+IF(LEFT(基础信息!AU42,2)=L1,基础信息!AY42,0)+IF(LEFT(基础信息!BK42,2)=L1,基础信息!BO42,0)+基础信息!AG40,"")+L24 -> 0 | O2: =IFERROR(_xlfn.IFS(基础信息!D41="剑",1,基础信息!D41="斧",1,基础信息!D41="枪",1,基础信息!D41="锤",1,基础信息!D41="空手",1,基础信息!D41="盾",1,基础信息!D41="射击",2,基础信息!D41="魔法",3),0) -> 3
A3: 武器2追加 | B3: =IFERROR(IFERROR(VLOOKUP(基础信息!$D$57,装!$B:$AE,7,0),"0")+IFERROR(VLOOKUP(基础信息!$E$63,装!$B:$AE,7,0),"0")+IFERROR(VLOOKUP(基础信息!$E$65,装!$B:$AE,7,0),"0")+IFERROR(VLOOKUP(基础信息!$E$67,装!$B:$AE,7,0),"0")+IFERROR(VLOOKUP(基础信息!$E$69,装!$B:$AE,7,0),"0")+IFERROR(VLOOKUP(基础信息!$AI$63,装!$B:$AE,7,0),"0")+IFERROR(VLOOKUP(基础信息!$AI$65,装!$B:$AE,7,0),"0")+IFERROR(VLOOKUP(基础信息!$AI$67,装!$B:$AE,7,0),"0")+IFERROR(VLOOKUP(基础信息!$AI$69,装!$B:$AE,7,0),"0")+IF(LEFT(基础信息!O60,2)=B1,基础信息!S60,0)+IF(LEFT(基础信息!AE60,2)=B1,基础信息!AI60,0)+IF(LEFT(基础信息!AU60,2)=B1,基础信息!AY60,0)+IF(LEFT(基础信息!BK60,2)=B1,基础信息!BO60,0)+基础信息!M58,"")+B25 -> 0 | C3: =IFERROR(IFERROR(VLOOKUP(基础信息!$D$57,装!$B:$AE,8,0),"0")+IFERROR(VLOOKUP(基础信息!$E$63,装!$B:$AE,8,0),"0")+IFERROR(VLOOKUP(基础信息!$E$65,装!$B:$AE,8,0),"0")+IFERROR(VLOOKUP(基础信息!$E$67,装!$B:$AE,8,0),"0")+IFERROR(VLOOKUP(基础信息!$E$69,装!$B:$AE,8,0),"0")+IFERROR(VLOOKUP(基础信息!$AI$63,装!$B:$AE,8,0),"0")+IFERROR(VLOOKUP(基础信息!$AI$65,装!$B:$AE,8,0),"0")+IFERROR(VLOOKUP(基础信息!$AI$67,装!$B:$AE,8,0),"0")+IFERROR(VLOOKUP(基础信息!$AI$69,装!$B:$AE,8,0),"0")+IF(LEFT(基础信息!O60,2)=C1,基础信息!S60,0)+IF(LEFT(基础信息!AE60,2)=C1,基础信息!AI60,0)+IF(LEFT(基础信息!AU60,2)=C1,基础信息!AY60,0)+IF(LEFT(基础信息!BK60,2)=C1,基础信息!BO60,0)+基础信息!O58,"")+C25 -> 0 | D3: =IFERROR(IFERROR(VLOOKUP(基础信息!$D$57,装!$B:$AE,9,0),"0")+IFERROR(VLOOKUP(基础信息!$E$63,装!$B:$AE,9,0),"0")+IFERROR(VLOOKUP(基础信息!$E$65,装!$B:$AE,9,0),"0")+IFERROR(VLOOKUP(基础信息!$E$67,装!$B:$AE,9,0),"0")+IFERROR(VLOOKUP(基础信息!$E$69,装!$B:$AE,9,0),"0")+IFERROR(VLOOKUP(基础信息!$AI$63,装!$B:$AE,9,0),"0")+IFERROR(VLOOKUP(基础信息!$AI$65,装!$B:$AE,9,0),"0")+IFERROR(VLOOKUP(基础信息!$AI$67,装!$B:$AE,9,0),"0")+IFERROR(VLOOKUP(基础信息!$AI$69,装!$B:$AE,9,0),"0")+IF(LEFT(基础信息!O60,2)=D1,基础信息!S60,0)+IF(LEFT(基础信息!AE60,2)=D1,基础信息!AI60,0)+IF(LEFT(基础信息!AU60,2)=D1,基础信息!AY60,0)+IF(LEFT(基础信息!BK60,2)=D1,基础信息!BO60,0)+基础信息!Q58,"")+D25 -> 0 | E3: =IFERROR(IFERROR(VLOOKUP(基础信息!$D$57,装!$B:$AE,10,0),"0")+IFERROR(VLOOKUP(基础信息!$E$63,装!$B:$AE,10,0),"0")+IFERROR(VLOOKUP(基础信息!$E$65,装!$B:$AE,10,0),"0")+IFERROR(VLOOKUP(基础信息!$E$67,装!$B:$AE,10,0),"0")+IFERROR(VLOOKUP(基础信息!$E$69,装!$B:$AE,10,0),"0")+IFERROR(VLOOKUP(基础信息!$AI$63,装!$B:$AE,10,0),"0")+IFERROR(VLOOKUP(基础信息!$AI$65,装!$B:$AE,10,0),"0")+IFERROR(VLOOKUP(基础信息!$AI$67,装!$B:$AE,10,0),"0")+IFERROR(VLOOKUP(基础信息!$AI$69,装!$B:$AE,10,0),"0")+IF(LEFT(基础信息!O60,2)=E1,基础信息!S60,0)+IF(LEFT(基础信息!AE60,2)=E1,基础信息!AI60,0)+IF(LEFT(基础信息!AU60,2)=E1,基础信息!AY60,0)+IF(LEFT(基础信息!BK60,2)=E1,基础信息!BO60,0)+基础信息!S58,"")+E25 -> 0 | F3: =IFERROR(IFERROR(VLOOKUP(基础信息!$D$57,装!$B:$AE,11,0),"0")+IFERROR(VLOOKUP(基础信息!$E$63,装!$B:$AE,11,0),"0")+IFERROR(VLOOKUP(基础信息!$E$65,装!$B:$AE,11,0),"0")+IFERROR(VLOOKUP(基础信息!$E$67,装!$B:$AE,11,0),"0")+IFERROR(VLOOKUP(基础信息!$E$69,装!$B:$AE,11,0),"0")+IFERROR(VLOOKUP(基础信息!$AI$63,装!$B:$AE,11,0),"0")+IFERROR(VLOOKUP(基础信息!$AI$65,装!$B:$AE,11,0),"0")+IFERROR(VLOOKUP(基础信息!$AI$67,装!$B:$AE,11,0),"0")+IFERROR(VLOOKUP(基础信息!$AI$69,装!$B:$AE,11,0),"0")+IF(LEFT(基础信息!O60,2)=F1,基础信息!S60,0)+IF(LEFT(基础信息!AE60,2)=F1,基础信息!AI60,0)+IF(LEFT(基础信息!AU60,2)=F1,基础信息!AY60,0)+IF(LEFT(基础信息!BK60,2)=F1,基础信息!BO60,0)+基础信息!U58,"")+F25 -> 0 | G3: =IF(基础信息!$E$55="单持",IFERROR(IFERROR(VLOOKUP(基础信息!$D$57,装!$B:$AE,12,0),"0")+IFERROR(VLOOKUP(基础信息!$E$63,装!$B:$AE,12,0),"0")+IFERROR(VLOOKUP(基础信息!$E$65,装!$B:$AE,12,0),"0")+IFERROR(VLOOKUP(基础信息!$E$67,装!$B:$AE,12,0),"0")+IFERROR(VLOOKUP(基础信息!$E$69,装!$B:$AE,12,0),"0")+IFERROR(VLOOKUP(基础信息!$AI$63,装!$B:$AE,12,0),"0")+IFERROR(VLOOKUP(基础信息!$AI$65,装!$B:$AE,12,0),"0")+IFERROR(VLOOKUP(基础信息!$AI$67,装!$B:$AE,12,0),"0")+IFERROR(VLOOKUP(基础信息!$AI$69,装!$B:$AE,12,0),"0")+IF(LEFT(基础信息!O60,2)=G1,基础信息!S60,0)+IF(LEFT(基础信息!AE60,2)=G1,基础信息!AI60,0)+IF(LEFT(基础信息!AU60,2)=G1,基础信息!AY60,0)+IF(LEFT(基础信息!BK60,2)=G1,基础信息!BO60,0)+基础信息!W58,""),IF(基础信息!$E$55="双持",IFERROR(IFERROR(VLOOKUP(基础信息!$D$57,装!$B:$AE,13,0),"0")+IFERROR(VLOOKUP(基础信息!$E$63,装!$B:$AE,13,0),"0")+IFERROR(VLOOKUP(基础信息!$E$65,装!$B:$AE,13,0),"0")+IFERROR(VLOOKUP(基础信息!$E$67,装!$B:$AE,13,0),"0")+IFERROR(VLOOKUP(基础信息!$E$69,装!$B:$AE,13,0),"0")+IFERROR(VLOOKUP(基础信息!$AI$63,装!$B:$AE,13,0),"0")+IFERROR(VLOOKUP(基础信息!$AI$65,装!$B:$AE,13,0),"0")+IFERROR(VLOOKUP(基础信息!$AI$67,装!$B:$AE,13,0),"0")+IFERROR(VLOOKUP(基础信息!$AI$69,装!$B:$AE,13,0),"0")+IF(LEFT(基础信息!O60,2)=G1,基础信息!S60,0)+IF(LEFT(基础信息!AE60,2)=G1,基础信息!AI60,0)+IF(LEFT(基础信息!AU60,2)=G1,基础信息!AY60,0)+IF(LEFT(基础信息!BK60,2)=G1,基础信息!BO60,0)+基础信息!W58,""),""))+G25 -> 0 | H3: =IF(基础信息!$E$55="单持",IFERROR(IFERROR(VLOOKUP(基础信息!$D$57,装!$B:$AE,14,0),"0")+IFERROR(VLOOKUP(基础信息!$E$63,装!$B:$AE,14,0),"0")+IFERROR(VLOOKUP(基础信息!$E$65,装!$B:$AE,14,0),"0")+IFERROR(VLOOKUP(基础信息!$E$67,装!$B:$AE,14,0),"0")+IFERROR(VLOOKUP(基础信息!$E$69,装!$B:$AE,14,0),"0")+IFERROR(VLOOKUP(基础信息!$AI$63,装!$B:$AE,14,0),"0")+IFERROR(VLOOKUP(基础信息!$AI$65,装!$B:$AE,14,0),"0")+IFERROR(VLOOKUP(基础信息!$AI$67,装!$B:$AE,14,0),"0")+IFERROR(VLOOKUP(基础信息!$AI$69,装!$B:$AE,14,0),"0")+IF(LEFT(基础信息!O60,2)=H1,基础信息!S60,0)+IF(LEFT(基础信息!AE60,2)=H1,基础信息!AI60,0)+IF(LEFT(基础信息!AU60,2)=H1,基础信息!AY60,0)+IF(LEFT(基础信息!BK60,2)=H1,基础信息!BO60,0)+基础信息!Y58,""),IF(基础信息!$E$55="双持",IFERROR(IFERROR(VLOOKUP(基础信息!$D$57,装!$B:$AE,15,0),"0")+IFERROR(VLOOKUP(基础信息!$E$63,装!$B:$AE,15,0),"0")+IFERROR(VLOOKUP(基础信息!$E$65,装!$B:$AE,15,0),"0")+IFERROR(VLOOKUP(基础信息!$E$67,装!$B:$AE,15,0),"0")+IFERROR(VLOOKUP(基础信息!$E$69,装!$B:$AE,15,0),"0")+IFERROR(VLOOKUP(基础信息!$AI$63,装!$B:$AE,15,0),"0")+IFERROR(VLOOKUP(基础信息!$AI$65,装!$B:$AE,15,0),"0")+IFERROR(VLOOKUP(基础信息!$AI$67,装!$B:$AE,15,0),"0")+IFERROR(VLOOKUP(基础信息!$AI$69,装!$B:$AE,15,0),"0")+IF(LEFT(基础信息!O60,2)=H1,基础信息!S60,0)+IF(LEFT(基础信息!AE60,2)=H1,基础信息!AI60,0)+IF(LEFT(基础信息!AU60,2)=H1,基础信息!AY60,0)+IF(LEFT(基础信息!BK60,2)=H1,基础信息!BO60,0)+基础信息!Y58,""),""))+H25 -> 0 | I3: =IF(基础信息!$E$55="单持",IFERROR(IFERROR(VLOOKUP(基础信息!$D$57,装!$B:$AE,16,0),"0")+IFERROR(VLOOKUP(基础信息!$E$63,装!$B:$AE,16,0),"0")+IFERROR(VLOOKUP(基础信息!$E$65,装!$B:$AE,16,0),"0")+IFERROR(VLOOKUP(基础信息!$E$67,装!$B:$AE,16,0),"0")+IFERROR(VLOOKUP(基础信息!$E$69,装!$B:$AE,16,0),"0")+IFERROR(VLOOKUP(基础信息!$AI$63,装!$B:$AE,16,0),"0")+IFERROR(VLOOKUP(基础信息!$AI$65,装!$B:$AE,16,0),"0")+IFERROR(VLOOKUP(基础信息!$AI$67,装!$B:$AE,16,0),"0")+IFERROR(VLOOKUP(基础信息!$AI$69,装!$B:$AE,16,0),"0")+IF(LEFT(基础信息!O60,2)=I1,基础信息!S60,0)+IF(LEFT(基础信息!AE60,2)=I1,基础信息!AI60,0)+IF(LEFT(基础信息!AU60,2)=I1,基础信息!AY60,0)+IF(LEFT(基础信息!BK60,2)=I1,基础信息!BO60,0)+基础信息!AA58,""),IF(基础信息!$E$55="双持",IFERROR(IFERROR(VLOOKUP(基础信息!$D$57,装!$B:$AE,17,0),"0")+IFERROR(VLOOKUP(基础信息!$E$63,装!$B:$AE,17,0),"0")+IFERROR(VLOOKUP(基础信息!$E$65,装!$B:$AE,17,0),"0")+IFERROR(VLOOKUP(基础信息!$E$67,装!$B:$AE,17,0),"0")+IFERROR(VLOOKUP(基础信息!$E$69,装!$B:$AE,17,0),"0")+IFERROR(VLOOKUP(基础信息!$AI$63,装!$B:$AE,17,0),"0")+IFERROR(VLOOKUP(基础信息!$AI$65,装!$B:$AE,17,0),"0")+IFERROR(VLOOKUP(基础信息!$AI$67,装!$B:$AE,17,0),"0")+IFERROR(VLOOKUP(基础信息!$AI$69,装!$B:$AE,17,0),"0")+IF(LEFT(基础信息!O60,2)=I1,基础信息!S60,0)+IF(LEFT(基础信息!AE60,2)=I1,基础信息!AI60,0)+IF(LEFT(基础信息!AU60,2)=I1,基础信息!AY60,0)+IF(LEFT(基础信息!BK60,2)=I1,基础信息!BO60,0)+基础信息!AA58,""),""))+I25 -> 0 | J3: =IFERROR(IFERROR(VLOOKUP(基础信息!$D$57,装!$B:$AE,18,0),"0")+IFERROR(VLOOKUP(基础信息!$E$63,装!$B:$AE,18,0),"0")+IFERROR(VLOOKUP(基础信息!$E$65,装!$B:$AE,18,0),"0")+IFERROR(VLOOKUP(基础信息!$E$67,装!$B:$AE,18,0),"0")+IFERROR(VLOOKUP(基础信息!$E$69,装!$B:$AE,18,0),"0")+IFERROR(VLOOKUP(基础信息!$AI$63,装!$B:$AE,18,0),"0")+IFERROR(VLOOKUP(基础信息!$AI$65,装!$B:$AE,18,0),"0")+IFERROR(VLOOKUP(基础信息!$AI$67,装!$B:$AE,18,0),"0")+IFERROR(VLOOKUP(基础信息!$AI$69,装!$B:$AE,18,0),"0")+IF(LEFT(基础信息!O60,2)=J1,基础信息!S60,0)+IF(LEFT(基础信息!AE60,2)=J1,基础信息!AI60,0)+IF(LEFT(基础信息!AU60,2)=J1,基础信息!AY60,0)+IF(LEFT(基础信息!BK60,2)=J1,基础信息!BO60,0)+基础信息!AC58,"")+J25 -> 0 | K3: =IFERROR(IFERROR(VLOOKUP(基础信息!$D$57,装!$B:$AE,19,0),"0")+IFERROR(VLOOKUP(基础信息!$E$63,装!$B:$AE,19,0),"0")+IFERROR(VLOOKUP(基础信息!$E$65,装!$B:$AE,19,0),"0")+IFERROR(VLOOKUP(基础信息!$E$67,装!$B:$AE,19,0),"0")+IFERROR(VLOOKUP(基础信息!$E$69,装!$B:$AE,19,0),"0")+IFERROR(VLOOKUP(基础信息!$AI$63,装!$B:$AE,19,0),"0")+IFERROR(VLOOKUP(基础信息!$AI$65,装!$B:$AE,19,0),"0")+IFERROR(VLOOKUP(基础信息!$AI$67,装!$B:$AE,19,0),"0")+IFERROR(VLOOKUP(基础信息!$AI$69,装!$B:$AE,19,0),"0")+IF(LEFT(基础信息!O60,2)=K1,基础信息!S60,0)+IF(LEFT(基础信息!AE60,2)=K1,基础信息!AI60,0)+IF(LEFT(基础信息!AU60,2)=K1,基础信息!AY60,0)+IF(LEFT(基础信息!BK60,2)=K1,基础信息!BO60,0)+基础信息!AE58,"")+K25 -> 0 | L3: =IFERROR(IFERROR(VLOOKUP(基础信息!$D$57,装!$B:$AE,20,0),"0")+IFERROR(VLOOKUP(基础信息!$E$63,装!$B:$AE,20,0),"0")+IFERROR(VLOOKUP(基础信息!$E$65,装!$B:$AE,20,0),"0")+IFERROR(VLOOKUP(基础信息!$E$67,装!$B:$AE,20,0),"0")+IFERROR(VLOOKUP(基础信息!$E$69,装!$B:$AE,20,0),"0")+IFERROR(VLOOKUP(基础信息!$AI$63,装!$B:$AE,20,0),"0")+IFERROR(VLOOKUP(基础信息!$AI$65,装!$B:$AE,20,0),"0")+IFERROR(VLOOKUP(基础信息!$AI$67,装!$B:$AE,20,0),"0")+IFERROR(VLOOKUP(基础信息!$AI$69,装!$B:$AE,20,0),"0")+IF(LEFT(基础信息!O60,2)=L1,基础信息!S60,0)+IF(LEFT(基础信息!AE60,2)=L1,基础信息!AI60,0)+IF(LEFT(基础信息!AU60,2)=L1,基础信息!AY60,0)+IF(LEFT(基础信息!BK60,2)=L1,基础信息!BO60,0)+基础信息!AG58,"")+L25 -> 0 | O3: =IFERROR(_xlfn.IFS(基础信息!D59="剑",1,基础信息!D59="斧",1,基础信息!D59="枪",1,基础信息!D59="锤",1,基础信息!D59="空手",1,基础信息!D59="盾",1,基础信息!D59="射击",2,基础信息!D59="魔法",3),0) -> 1
